BEGIN:VCALENDAR
VERSION:2.0
PRODID:-////NONSGML kigkonsult.se iCalcreator 2.18//
X-WR-TIMEZONE:Europe/Berlin
BEGIN:VTIMEZONE
TZID:Europe/Berlin
X-LIC-LOCATION:Europe/Berlin
BEGIN:STANDARD
DTSTART:20001029T030000
TZOFFSETFROM:+0200
TZOFFSETTO:+0100
RDATE:20011028T030000,20021027T030000
TZNAME:CET
END:STANDARD
BEGIN:DAYLIGHT
DTSTART:20010325T020000
TZOFFSETFROM:+0100
TZOFFSETTO:+0200
RDATE:20020331T020000,20030330T020000
TZNAME:CEST
END:DAYLIGHT
END:VTIMEZONE
BEGIN:VEVENT
UID:20260426T003216UTC-9928KnRX9E@85.215.121.98
DTSTAMP:20260426T003216Z
DTSTART;TZID=Europe/Berlin:20000819T150000
DTEND;TZID=Europe/Berlin:20000819T164500
SUMMARY:ST - Oberliga Mitte 2000/01: Bärnbach - Deutschlandsberger SC
END:VEVENT
BEGIN:VEVENT
UID:20260426T003216UTC-9935fZazUr@85.215.121.98
DTSTAMP:20260426T003216Z
DTSTART;TZID=Europe/Berlin:20000826T150000
DTEND;TZID=Europe/Berlin:20000826T164500
SUMMARY:ST - Oberliga Mitte 2000/01: Bärnbach - Grazer SC
END:VEVENT
BEGIN:VEVENT
UID:20260426T003216UTC-9942R2js01@85.215.121.98
DTSTAMP:20260426T003216Z
DTSTART;TZID=Europe/Berlin:20000902T150000
DTEND;TZID=Europe/Berlin:20000902T164500
SUMMARY:ST - Oberliga Mitte 2000/01: SV Straß - Bärnbach
END:VEVENT
BEGIN:VEVENT
UID:20260426T003216UTC-9947H9aBzi@85.215.121.98
DTSTAMP:20260426T003216Z
DTSTART;TZID=Europe/Berlin:20000909T150000
DTEND;TZID=Europe/Berlin:20000909T164500
SUMMARY:ST - Oberliga Mitte 2000/01: Bärnbach - Allerheiligen
END:VEVENT
BEGIN:VEVENT
UID:20260426T003216UTC-9953vMzew8@85.215.121.98
DTSTAMP:20260426T003216Z
DTSTART;TZID=Europe/Berlin:20000916T150000
DTEND;TZID=Europe/Berlin:20000916T164500
SUMMARY:ST - Oberliga Mitte 2000/01: SV Wildon - Bärnbach
END:VEVENT
BEGIN:VEVENT
UID:20260426T003216UTC-9959Evv0zr@85.215.121.98
DTSTAMP:20260426T003216Z
DTSTART;TZID=Europe/Berlin:20000923T140000
DTEND;TZID=Europe/Berlin:20000923T154500
SUMMARY:ST - Oberliga Mitte 2000/01: Bärnbach - SC Seiersberg
END:VEVENT
BEGIN:VEVENT
UID:20260426T003216UTC-9964KV6848@85.215.121.98
DTSTAMP:20260426T003216Z
DTSTART;TZID=Europe/Berlin:20000930T140000
DTEND;TZID=Europe/Berlin:20000930T154500
SUMMARY:ST - Oberliga Mitte 2000/01: FC Lankowitz - Bärnbach
END:VEVENT
BEGIN:VEVENT
UID:20260426T003216UTC-9970cCmaKJ@85.215.121.98
DTSTAMP:20260426T003216Z
DTSTART;TZID=Europe/Berlin:20001007T130000
DTEND;TZID=Europe/Berlin:20001007T144500
SUMMARY:ST - Oberliga Mitte 2000/01: Bärnbach - SV Eibiswald ALT
END:VEVENT
BEGIN:VEVENT
UID:20260426T003216UTC-9974VuWUz1@85.215.121.98
DTSTAMP:20260426T003216Z
DTSTART;TZID=Europe/Berlin:20001014T130000
DTEND;TZID=Europe/Berlin:20001014T144500
SUMMARY:ST - Oberliga Mitte 2000/01: Frohnleiten - Bärnbach
END:VEVENT
BEGIN:VEVENT
UID:20260426T003216UTC-9980JiBEjz@85.215.121.98
DTSTAMP:20260426T003216Z
DTSTART;TZID=Europe/Berlin:20001021T130000
DTEND;TZID=Europe/Berlin:20001021T144500
SUMMARY:ST - Oberliga Mitte 2000/01: Bärnbach - Eggersdorf
END:VEVENT
BEGIN:VEVENT
UID:20260426T003216UTC-9985tNKfxs@85.215.121.98
DTSTAMP:20260426T003216Z
DTSTART;TZID=Europe/Berlin:20001028T120000
DTEND;TZID=Europe/Berlin:20001028T134500
SUMMARY:ST - Oberliga Mitte 2000/01: SV Gössendorf - Bärnbach
END:VEVENT
BEGIN:VEVENT
UID:20260426T003216UTC-99905VXaBD@85.215.121.98
DTSTAMP:20260426T003216Z
DTSTART;TZID=Europe/Berlin:20001104T130000
DTEND;TZID=Europe/Berlin:20001104T144500
SUMMARY:ST - Oberliga Mitte 2000/01: Bärnbach - Kalsdorf
END:VEVENT
BEGIN:VEVENT
UID:20260426T003216UTC-9997rOT3GF@85.215.121.98
DTSTAMP:20260426T003216Z
DTSTART;TZID=Europe/Berlin:20001111T130000
DTEND;TZID=Europe/Berlin:20001111T144500
SUMMARY:ST - Oberliga Mitte 2000/01: SVU Tondach Gleinstätten  - Bärnbach
END:VEVENT
BEGIN:VEVENT
UID:20260426T003217UTC-0003uwW2DG@85.215.121.98
DTSTAMP:20260426T003217Z
DTSTART;TZID=Europe/Berlin:20010324T130000
DTEND;TZID=Europe/Berlin:20010324T144500
SUMMARY:ST - Oberliga Mitte 2000/01: Grazer SC - Bärnbach
END:VEVENT
BEGIN:VEVENT
UID:20260426T003217UTC-0009dnVvJV@85.215.121.98
DTSTAMP:20260426T003217Z
DTSTART;TZID=Europe/Berlin:20010331T120000
DTEND;TZID=Europe/Berlin:20010331T134500
SUMMARY:ST - Oberliga Mitte 2000/01: Bärnbach - SV Straß
END:VEVENT
BEGIN:VEVENT
UID:20260426T003217UTC-0015Ttzai2@85.215.121.98
DTSTAMP:20260426T003217Z
DTSTART;TZID=Europe/Berlin:20010407T130000
DTEND;TZID=Europe/Berlin:20010407T144500
SUMMARY:ST - Oberliga Mitte 2000/01: Allerheiligen - Bärnbach
END:VEVENT
BEGIN:VEVENT
UID:20260426T003217UTC-00205vMEUb@85.215.121.98
DTSTAMP:20260426T003217Z
DTSTART;TZID=Europe/Berlin:20010414T140000
DTEND;TZID=Europe/Berlin:20010414T154500
SUMMARY:ST - Oberliga Mitte 2000/01: Bärnbach - SV Wildon
END:VEVENT
BEGIN:VEVENT
UID:20260426T003217UTC-0026vnCwDU@85.215.121.98
DTSTAMP:20260426T003217Z
DTSTART;TZID=Europe/Berlin:20010428T150000
DTEND;TZID=Europe/Berlin:20010428T164500
SUMMARY:ST - Oberliga Mitte 2000/01: Bärnbach - FC Lankowitz
END:VEVENT
BEGIN:VEVENT
UID:20260426T003217UTC-0032ILzcw5@85.215.121.98
DTSTAMP:20260426T003217Z
DTSTART;TZID=Europe/Berlin:20010501T150000
DTEND;TZID=Europe/Berlin:20010501T164500
SUMMARY:ST - Oberliga Mitte 2000/01: SC Seiersberg - Bärnbach
END:VEVENT
BEGIN:VEVENT
UID:20260426T003217UTC-0039M9D0bo@85.215.121.98
DTSTAMP:20260426T003217Z
DTSTART;TZID=Europe/Berlin:20010512T150000
DTEND;TZID=Europe/Berlin:20010512T164500
SUMMARY:ST - Oberliga Mitte 2000/01: Bärnbach - Frohnleiten
END:VEVENT
BEGIN:VEVENT
UID:20260426T003217UTC-00444bUOIG@85.215.121.98
DTSTAMP:20260426T003217Z
DTSTART;TZID=Europe/Berlin:20010519T150000
DTEND;TZID=Europe/Berlin:20010519T164500
SUMMARY:ST - Oberliga Mitte 2000/01: Eggersdorf - Bärnbach
END:VEVENT
BEGIN:VEVENT
UID:20260426T003217UTC-0050k3tn4Z@85.215.121.98
DTSTAMP:20260426T003217Z
DTSTART;TZID=Europe/Berlin:20010527T150000
DTEND;TZID=Europe/Berlin:20010527T164500
SUMMARY:ST - Oberliga Mitte 2000/01: Bärnbach - SV Gössendorf
END:VEVENT
BEGIN:VEVENT
UID:20260426T003217UTC-0055kudDNA@85.215.121.98
DTSTAMP:20260426T003217Z
DTSTART;TZID=Europe/Berlin:20010602T160000
DTEND;TZID=Europe/Berlin:20010602T174500
SUMMARY:ST - Oberliga Mitte 2000/01: Kalsdorf - Bärnbach
END:VEVENT
BEGIN:VEVENT
UID:20260426T003217UTC-0062A6jXXB@85.215.121.98
DTSTAMP:20260426T003217Z
DTSTART;TZID=Europe/Berlin:20010609T160000
DTEND;TZID=Europe/Berlin:20010609T174500
SUMMARY:ST - Oberliga Mitte 2000/01: Bärnbach - SVU Tondach Gleinstätten 
END:VEVENT
BEGIN:VEVENT
UID:20260426T003217UTC-0069cUtgVC@85.215.121.98
DTSTAMP:20260426T003217Z
DTSTART;TZID=Europe/Berlin:20020317T130000
DTEND;TZID=Europe/Berlin:20020317T144500
SUMMARY:ST - Oberliga Mitte 2000/01: Deutschlandsberger SC - Bärnbach
END:VEVENT
BEGIN:VEVENT
UID:20260426T003217UTC-0083rl3cwv@85.215.121.98
DTSTAMP:20260426T003217Z
DTSTART;TZID=Europe/Berlin:20020505T150000
DTEND;TZID=Europe/Berlin:20020505T164500
SUMMARY:ST - Oberliga Mitte 2000/01: SV Eibiswald ALT - Bärnbach
END:VEVENT
END:VCALENDAR
