BEGIN:VCALENDAR
VERSION:2.0
PRODID:-////NONSGML kigkonsult.se iCalcreator 2.18//
X-WR-TIMEZONE:Europe/Amsterdam
BEGIN:VTIMEZONE
TZID:Europe/Amsterdam
X-LIC-LOCATION:Europe/Amsterdam
BEGIN:STANDARD
DTSTART:20171029T030000
TZOFFSETFROM:+0200
TZOFFSETTO:+0100
RDATE:20181028T030000
TZNAME:CET
END:STANDARD
BEGIN:DAYLIGHT
DTSTART:20180325T020000
TZOFFSETFROM:+0100
TZOFFSETTO:+0200
RDATE:20190331T020000
TZNAME:CEST
END:DAYLIGHT
END:VTIMEZONE
BEGIN:VEVENT
UID:20260426T015203UTC-8092DRfrDu@85.215.121.98
DTSTAMP:20260426T015203Z
DTSTART;TZID=Europe/Amsterdam:20170819T170000
DTEND;TZID=Europe/Amsterdam:20170819T184000
SUMMARY:N - 2. Klasse Ost/Mitte 2017/18: Velm - SC Lanzendorf
END:VEVENT
BEGIN:VEVENT
UID:20260426T015203UTC-8100vdl3H7@85.215.121.98
DTSTAMP:20260426T015203Z
DTSTART;TZID=Europe/Amsterdam:20170827T170000
DTEND;TZID=Europe/Amsterdam:20170827T184000
SUMMARY:N - 2. Klasse Ost/Mitte 2017/18: Münchendorf - Velm
END:VEVENT
BEGIN:VEVENT
UID:20260426T015203UTC-8107S0lGup@85.215.121.98
DTSTAMP:20260426T015203Z
DTSTART;TZID=Europe/Amsterdam:20170829T200000
DTEND;TZID=Europe/Amsterdam:20170829T214000
SUMMARY:N - 2. Klasse Ost/Mitte 2017/18: Mödling SC - Velm
END:VEVENT
BEGIN:VEVENT
UID:20260426T015203UTC-8112B909mZ@85.215.121.98
DTSTAMP:20260426T015203Z
DTSTART;TZID=Europe/Amsterdam:20170903T173000
DTEND;TZID=Europe/Amsterdam:20170903T191000
SUMMARY:N - 2. Klasse Ost/Mitte 2017/18: Mitterndorf - Velm
END:VEVENT
BEGIN:VEVENT
UID:20260426T015203UTC-8118Un4WU7@85.215.121.98
DTSTAMP:20260426T015203Z
DTSTART;TZID=Europe/Amsterdam:20170910T163000
DTEND;TZID=Europe/Amsterdam:20170910T181000
SUMMARY:N - 2. Klasse Ost/Mitte 2017/18: Velm - Achau
END:VEVENT
BEGIN:VEVENT
UID:20260426T015203UTC-8124vKjLZm@85.215.121.98
DTSTAMP:20260426T015203Z
DTSTART;TZID=Europe/Amsterdam:20170924T160000
DTEND;TZID=Europe/Amsterdam:20170924T174000
SUMMARY:N - 2. Klasse Ost/Mitte 2017/18: Velm - Ebergassing
END:VEVENT
BEGIN:VEVENT
UID:20260426T015203UTC-8129V1xcZ2@85.215.121.98
DTSTAMP:20260426T015203Z
DTSTART;TZID=Europe/Amsterdam:20171001T110000
DTEND;TZID=Europe/Amsterdam:20171001T124000
SUMMARY:N - 2. Klasse Ost/Mitte 2017/18: Moosbrunn - Velm
END:VEVENT
BEGIN:VEVENT
UID:20260426T015203UTC-8137xiuTuJ@85.215.121.98
DTSTAMP:20260426T015203Z
DTSTART;TZID=Europe/Amsterdam:20171007T153000
DTEND;TZID=Europe/Amsterdam:20171007T171000
SUMMARY:N - 2. Klasse Ost/Mitte 2017/18: Velm - Hinterbrühl
END:VEVENT
BEGIN:VEVENT
UID:20260426T015203UTC-81435xUaBc@85.215.121.98
DTSTAMP:20260426T015203Z
DTSTART;TZID=Europe/Amsterdam:20171014T153000
DTEND;TZID=Europe/Amsterdam:20171014T171000
SUMMARY:N - 2. Klasse Ost/Mitte 2017/18: Zwölfaxing - Velm
END:VEVENT
BEGIN:VEVENT
UID:20260426T015203UTC-8149RGF2VO@85.215.121.98
DTSTAMP:20260426T015203Z
DTSTART;TZID=Europe/Amsterdam:20171022T150000
DTEND;TZID=Europe/Amsterdam:20171022T164000
SUMMARY:N - 2. Klasse Ost/Mitte 2017/18: Velm - Laxenburg
END:VEVENT
BEGIN:VEVENT
UID:20260426T015203UTC-8155ves8kH@85.215.121.98
DTSTAMP:20260426T015203Z
DTSTART;TZID=Europe/Amsterdam:20171026T150000
DTEND;TZID=Europe/Amsterdam:20171026T164000
SUMMARY:N - 2. Klasse Ost/Mitte 2017/18: ASK Erlaa Torpedo 03 - Velm
END:VEVENT
BEGIN:VEVENT
UID:20260426T015203UTC-81605DNfmE@85.215.121.98
DTSTAMP:20260426T015203Z
DTSTART;TZID=Europe/Amsterdam:20171028T150000
DTEND;TZID=Europe/Amsterdam:20171028T164000
SUMMARY:N - 2. Klasse Ost/Mitte 2017/18: Siebenhirten/Wien - Velm
END:VEVENT
BEGIN:VEVENT
UID:20260426T015203UTC-8166ZRCJSW@85.215.121.98
DTSTAMP:20260426T015203Z
DTSTART;TZID=Europe/Amsterdam:20171105T140000
DTEND;TZID=Europe/Amsterdam:20171105T154000
SUMMARY:N - 2. Klasse Ost/Mitte 2017/18: Velm - Gumpoldskirchen
END:VEVENT
BEGIN:VEVENT
UID:20260426T015203UTC-8172uwEskt@85.215.121.98
DTSTAMP:20260426T015203Z
DTSTART;TZID=Europe/Amsterdam:20180323T184500
DTEND;TZID=Europe/Amsterdam:20180323T202500
SUMMARY:N - 2. Klasse Ost/Mitte 2017/18: SC Lanzendorf - Velm
END:VEVENT
BEGIN:VEVENT
UID:20260426T015203UTC-8177shc8fI@85.215.121.98
DTSTAMP:20260426T015203Z
DTSTART;TZID=Europe/Amsterdam:20180331T163000
DTEND;TZID=Europe/Amsterdam:20180331T181000
SUMMARY:N - 2. Klasse Ost/Mitte 2017/18: Velm - Münchendorf
END:VEVENT
BEGIN:VEVENT
UID:20260426T015203UTC-8182uXesa4@85.215.121.98
DTSTAMP:20260426T015203Z
DTSTART;TZID=Europe/Amsterdam:20180402T163000
DTEND;TZID=Europe/Amsterdam:20180402T181000
SUMMARY:N - 2. Klasse Ost/Mitte 2017/18: Velm - Mödling SC
END:VEVENT
BEGIN:VEVENT
UID:20260426T015203UTC-8187XCfPnv@85.215.121.98
DTSTAMP:20260426T015203Z
DTSTART;TZID=Europe/Amsterdam:20180408T163000
DTEND;TZID=Europe/Amsterdam:20180408T181000
SUMMARY:N - 2. Klasse Ost/Mitte 2017/18: Velm - Mitterndorf
END:VEVENT
BEGIN:VEVENT
UID:20260426T015203UTC-81920Fu9Kp@85.215.121.98
DTSTAMP:20260426T015203Z
DTSTART;TZID=Europe/Amsterdam:20180414T163000
DTEND;TZID=Europe/Amsterdam:20180414T181000
SUMMARY:N - 2. Klasse Ost/Mitte 2017/18: Achau - Velm
END:VEVENT
BEGIN:VEVENT
UID:20260426T015203UTC-8197Bp4dmV@85.215.121.98
DTSTAMP:20260426T015203Z
DTSTART;TZID=Europe/Amsterdam:20180422T163000
DTEND;TZID=Europe/Amsterdam:20180422T181000
SUMMARY:N - 2. Klasse Ost/Mitte 2017/18: Velm - ASK Erlaa Torpedo 03
END:VEVENT
BEGIN:VEVENT
UID:20260426T015203UTC-82020WNU32@85.215.121.98
DTSTAMP:20260426T015203Z
DTSTART;TZID=Europe/Amsterdam:20180428T163000
DTEND;TZID=Europe/Amsterdam:20180428T181000
SUMMARY:N - 2. Klasse Ost/Mitte 2017/18: Ebergassing - Velm
END:VEVENT
BEGIN:VEVENT
UID:20260426T015203UTC-8207sdTVs3@85.215.121.98
DTSTAMP:20260426T015203Z
DTSTART;TZID=Europe/Amsterdam:20180506T163000
DTEND;TZID=Europe/Amsterdam:20180506T181000
SUMMARY:N - 2. Klasse Ost/Mitte 2017/18: Velm - Moosbrunn
END:VEVENT
BEGIN:VEVENT
UID:20260426T015203UTC-82141Zcd0J@85.215.121.98
DTSTAMP:20260426T015203Z
DTSTART;TZID=Europe/Amsterdam:20180512T163000
DTEND;TZID=Europe/Amsterdam:20180512T181000
SUMMARY:N - 2. Klasse Ost/Mitte 2017/18: Hinterbrühl - Velm
END:VEVENT
BEGIN:VEVENT
UID:20260426T015203UTC-8220aw2kUa@85.215.121.98
DTSTAMP:20260426T015203Z
DTSTART;TZID=Europe/Amsterdam:20180519T170000
DTEND;TZID=Europe/Amsterdam:20180519T184000
SUMMARY:N - 2. Klasse Ost/Mitte 2017/18: Velm - Zwölfaxing
END:VEVENT
BEGIN:VEVENT
UID:20260426T015203UTC-8225KiVB7f@85.215.121.98
DTSTAMP:20260426T015203Z
DTSTART;TZID=Europe/Amsterdam:20180526T170000
DTEND;TZID=Europe/Amsterdam:20180526T184000
SUMMARY:N - 2. Klasse Ost/Mitte 2017/18: Laxenburg - Velm
END:VEVENT
BEGIN:VEVENT
UID:20260426T015203UTC-8232VoIBoj@85.215.121.98
DTSTAMP:20260426T015203Z
DTSTART;TZID=Europe/Amsterdam:20180603T173000
DTEND;TZID=Europe/Amsterdam:20180603T191000
SUMMARY:N - 2. Klasse Ost/Mitte 2017/18: Velm - Siebenhirten/Wien
END:VEVENT
BEGIN:VEVENT
UID:20260426T015203UTC-8239Gdov6l@85.215.121.98
DTSTAMP:20260426T015203Z
DTSTART;TZID=Europe/Amsterdam:20180608T193000
DTEND;TZID=Europe/Amsterdam:20180608T211000
SUMMARY:N - 2. Klasse Ost/Mitte 2017/18: Gumpoldskirchen - Velm
END:VEVENT
END:VCALENDAR
