BEGIN:VCALENDAR
VERSION:2.0
PRODID:-////NONSGML kigkonsult.se iCalcreator 2.18//
X-WR-TIMEZONE:Europe/Amsterdam
BEGIN:VTIMEZONE
TZID:Europe/Amsterdam
X-LIC-LOCATION:Europe/Amsterdam
BEGIN:STANDARD
DTSTART:20161030T030000
TZOFFSETFROM:+0200
TZOFFSETTO:+0100
RDATE:20171029T030000
TZNAME:CET
END:STANDARD
BEGIN:DAYLIGHT
DTSTART:20170326T020000
TZOFFSETFROM:+0100
TZOFFSETTO:+0200
RDATE:20180325T020000
TZNAME:CEST
END:DAYLIGHT
END:VTIMEZONE
BEGIN:VEVENT
UID:20260425T211445UTC-623790rhwJ@85.215.121.98
DTSTAMP:20260425T211445Z
DTSTART;TZID=Europe/Amsterdam:20160730T183000
DTEND;TZID=Europe/Amsterdam:20160730T201000
SUMMARY:K - 2. Klasse C 2016/17: Weißenstein - Arnoldstein
END:VEVENT
BEGIN:VEVENT
UID:20260425T211445UTC-62457HNVRP@85.215.121.98
DTSTAMP:20260425T211445Z
DTSTART;TZID=Europe/Amsterdam:20160806T180000
DTEND;TZID=Europe/Amsterdam:20160806T194000
SUMMARY:K - 2. Klasse C 2016/17: SK Grafendorf - Weißenstein
END:VEVENT
BEGIN:VEVENT
UID:20260425T211445UTC-6275j4bA8g@85.215.121.98
DTSTAMP:20260425T211445Z
DTSTART;TZID=Europe/Amsterdam:20160813T183000
DTEND;TZID=Europe/Amsterdam:20160813T201000
SUMMARY:K - 2. Klasse C 2016/17: Weißenstein - Maria Gail
END:VEVENT
BEGIN:VEVENT
UID:20260425T211445UTC-62838khkz9@85.215.121.98
DTSTAMP:20260425T211445Z
DTSTART;TZID=Europe/Amsterdam:20160820T180000
DTEND;TZID=Europe/Amsterdam:20160820T194000
SUMMARY:K - 2. Klasse C 2016/17: Afritz - Weißenstein
END:VEVENT
BEGIN:VEVENT
UID:20260425T211445UTC-6289uUA13N@85.215.121.98
DTSTAMP:20260425T211445Z
DTSTART;TZID=Europe/Amsterdam:20160827T173000
DTEND;TZID=Europe/Amsterdam:20160827T191000
SUMMARY:K - 2. Klasse C 2016/17: Weißenstein - SG DSG Köstenberg/ASKÖ Teche
 lsberg
END:VEVENT
BEGIN:VEVENT
UID:20260425T211445UTC-6294OUTEm4@85.215.121.98
DTSTAMP:20260425T211445Z
DTSTART;TZID=Europe/Amsterdam:20160904T150000
DTEND;TZID=Europe/Amsterdam:20160904T164000
SUMMARY:K - 2. Klasse C 2016/17: Faakersee 1b - Weißenstein
END:VEVENT
BEGIN:VEVENT
UID:20260425T211445UTC-6314d7uPdj@85.215.121.98
DTSTAMP:20260425T211445Z
DTSTART;TZID=Europe/Amsterdam:20160910T173000
DTEND;TZID=Europe/Amsterdam:20160910T191000
SUMMARY:K - 2. Klasse C 2016/17: Weißenstein - Gitschtal
END:VEVENT
BEGIN:VEVENT
UID:20260425T211445UTC-63203uHEG1@85.215.121.98
DTSTAMP:20260425T211445Z
DTSTART;TZID=Europe/Amsterdam:20160924T170000
DTEND;TZID=Europe/Amsterdam:20160924T184000
SUMMARY:K - 2. Klasse C 2016/17: Weißenstein - Treffen
END:VEVENT
BEGIN:VEVENT
UID:20260425T211445UTC-6325uRo5A2@85.215.121.98
DTSTAMP:20260425T211445Z
DTSTART;TZID=Europe/Amsterdam:20161001T140000
DTEND;TZID=Europe/Amsterdam:20161001T154000
SUMMARY:K - 2. Klasse C 2016/17: IFC Villach - Weißenstein
END:VEVENT
BEGIN:VEVENT
UID:20260425T211445UTC-6331vCUKrr@85.215.121.98
DTSTAMP:20260425T211445Z
DTSTART;TZID=Europe/Amsterdam:20161008T161500
DTEND;TZID=Europe/Amsterdam:20161008T175500
SUMMARY:K - 2. Klasse C 2016/17: Weißenstein - Arriach
END:VEVENT
BEGIN:VEVENT
UID:20260425T211445UTC-6354r1Pavt@85.215.121.98
DTSTAMP:20260425T211445Z
DTSTART;TZID=Europe/Amsterdam:20161015T153000
DTEND;TZID=Europe/Amsterdam:20161015T171000
SUMMARY:K - 2. Klasse C 2016/17: Kleinkirchheim - Weißenstein
END:VEVENT
BEGIN:VEVENT
UID:20260425T211445UTC-6361WhPnlm@85.215.121.98
DTSTAMP:20260425T211445Z
DTSTART;TZID=Europe/Amsterdam:20161022T153000
DTEND;TZID=Europe/Amsterdam:20161022T171000
SUMMARY:K - 2. Klasse C 2016/17: Weißenstein - Draschitz
END:VEVENT
BEGIN:VEVENT
UID:20260425T211445UTC-6367u5zDaI@85.215.121.98
DTSTAMP:20260425T211445Z
DTSTART;TZID=Europe/Amsterdam:20161026T150000
DTEND;TZID=Europe/Amsterdam:20161026T164000
SUMMARY:K - 2. Klasse C 2016/17: Weißenstein - Landskron 1b
END:VEVENT
BEGIN:VEVENT
UID:20260425T211445UTC-6372oJDOUs@85.215.121.98
DTSTAMP:20260425T211445Z
DTSTART;TZID=Europe/Amsterdam:20161030T150000
DTEND;TZID=Europe/Amsterdam:20161030T164000
SUMMARY:K - 2. Klasse C 2016/17: FC Egg - Weißenstein
END:VEVENT
BEGIN:VEVENT
UID:20260425T211445UTC-6378bk5Bha@85.215.121.98
DTSTAMP:20260425T211445Z
DTSTART;TZID=Europe/Amsterdam:20161105T140000
DTEND;TZID=Europe/Amsterdam:20161105T154000
SUMMARY:K - 2. Klasse C 2016/17: Arnoldstein - Weißenstein
END:VEVENT
BEGIN:VEVENT
UID:20260425T211445UTC-6394DW5PVL@85.215.121.98
DTSTAMP:20260425T211445Z
DTSTART;TZID=Europe/Amsterdam:20170325T150000
DTEND;TZID=Europe/Amsterdam:20170325T164000
SUMMARY:K - 2. Klasse C 2016/17: Weißenstein - SK Grafendorf
END:VEVENT
BEGIN:VEVENT
UID:20260425T211445UTC-6400Gbwoid@85.215.121.98
DTSTAMP:20260425T211445Z
DTSTART;TZID=Europe/Amsterdam:20170402T103000
DTEND;TZID=Europe/Amsterdam:20170402T121000
SUMMARY:K - 2. Klasse C 2016/17: Maria Gail - Weißenstein
END:VEVENT
BEGIN:VEVENT
UID:20260425T211445UTC-6407wZ03Lu@85.215.121.98
DTSTAMP:20260425T211445Z
DTSTART;TZID=Europe/Amsterdam:20170408T150000
DTEND;TZID=Europe/Amsterdam:20170408T164000
SUMMARY:K - 2. Klasse C 2016/17: Weißenstein - Afritz
END:VEVENT
BEGIN:VEVENT
UID:20260425T211445UTC-6455F2UD0v@85.215.121.98
DTSTAMP:20260425T211445Z
DTSTART;TZID=Europe/Amsterdam:20170415T143000
DTEND;TZID=Europe/Amsterdam:20170415T161000
SUMMARY:K - 2. Klasse C 2016/17: SG DSG Köstenberg/ASKÖ Techelsberg - Weiße
 nstein
END:VEVENT
BEGIN:VEVENT
UID:20260425T211445UTC-6461KiMxxT@85.215.121.98
DTSTAMP:20260425T211445Z
DTSTART;TZID=Europe/Amsterdam:20170422T153000
DTEND;TZID=Europe/Amsterdam:20170422T171000
SUMMARY:K - 2. Klasse C 2016/17: Weißenstein - Faakersee 1b
END:VEVENT
BEGIN:VEVENT
UID:20260425T211445UTC-6469VjlUo9@85.215.121.98
DTSTAMP:20260425T211445Z
DTSTART;TZID=Europe/Amsterdam:20170429T160000
DTEND;TZID=Europe/Amsterdam:20170429T174000
SUMMARY:K - 2. Klasse C 2016/17: Gitschtal - Weißenstein
END:VEVENT
BEGIN:VEVENT
UID:20260425T211445UTC-6504Dvuusd@85.215.121.98
DTSTAMP:20260425T211445Z
DTSTART;TZID=Europe/Amsterdam:20170506T160000
DTEND;TZID=Europe/Amsterdam:20170506T174000
SUMMARY:K - 2. Klasse C 2016/17: Treffen - Weißenstein
END:VEVENT
BEGIN:VEVENT
UID:20260425T211445UTC-65102R17Mc@85.215.121.98
DTSTAMP:20260425T211445Z
DTSTART;TZID=Europe/Amsterdam:20170514T153000
DTEND;TZID=Europe/Amsterdam:20170514T171000
SUMMARY:K - 2. Klasse C 2016/17: Weißenstein - IFC Villach
END:VEVENT
BEGIN:VEVENT
UID:20260425T211445UTC-6516MO9kFS@85.215.121.98
DTSTAMP:20260425T211445Z
DTSTART;TZID=Europe/Amsterdam:20170521T150000
DTEND;TZID=Europe/Amsterdam:20170521T164000
SUMMARY:K - 2. Klasse C 2016/17: Arriach - Weißenstein
END:VEVENT
BEGIN:VEVENT
UID:20260425T211445UTC-6521b2I0HN@85.215.121.98
DTSTAMP:20260425T211445Z
DTSTART;TZID=Europe/Amsterdam:20170525T160000
DTEND;TZID=Europe/Amsterdam:20170525T174000
SUMMARY:K - 2. Klasse C 2016/17: Weißenstein - Kleinkirchheim
END:VEVENT
BEGIN:VEVENT
UID:20260425T211445UTC-6527x5lACN@85.215.121.98
DTSTAMP:20260425T211445Z
DTSTART;TZID=Europe/Amsterdam:20170528T170000
DTEND;TZID=Europe/Amsterdam:20170528T184000
SUMMARY:K - 2. Klasse C 2016/17: Draschitz - Weißenstein
END:VEVENT
BEGIN:VEVENT
UID:20260425T211445UTC-653321plOv@85.215.121.98
DTSTAMP:20260425T211445Z
DTSTART;TZID=Europe/Amsterdam:20170604T173000
DTEND;TZID=Europe/Amsterdam:20170604T191000
SUMMARY:K - 2. Klasse C 2016/17: Landskron 1b - Weißenstein
END:VEVENT
BEGIN:VEVENT
UID:20260425T211445UTC-65542LLPsm@85.215.121.98
DTSTAMP:20260425T211445Z
DTSTART;TZID=Europe/Amsterdam:20170610T163000
DTEND;TZID=Europe/Amsterdam:20170610T181000
SUMMARY:K - 2. Klasse C 2016/17: Weißenstein - FC Egg
END:VEVENT
END:VCALENDAR
