BEGIN:VCALENDAR
VERSION:2.0
PRODID:-////NONSGML kigkonsult.se iCalcreator 2.18//
X-WR-TIMEZONE:Europe/Amsterdam
BEGIN:VTIMEZONE
TZID:Europe/Amsterdam
X-LIC-LOCATION:Europe/Amsterdam
BEGIN:STANDARD
DTSTART:20161030T030000
TZOFFSETFROM:+0200
TZOFFSETTO:+0100
RDATE:20171029T030000
TZNAME:CET
END:STANDARD
BEGIN:DAYLIGHT
DTSTART:20170326T020000
TZOFFSETFROM:+0100
TZOFFSETTO:+0200
RDATE:20180325T020000
TZNAME:CEST
END:DAYLIGHT
END:VTIMEZONE
BEGIN:VEVENT
UID:20260424T085116UTC-8843a1LMfv@85.215.121.98
DTSTAMP:20260424T085116Z
DTSTART;TZID=Europe/Amsterdam:20160731T170000
DTEND;TZID=Europe/Amsterdam:20160731T184000
SUMMARY:K - 2. Klasse C 2016/17: Arriach - Maria Gail
END:VEVENT
BEGIN:VEVENT
UID:20260424T085116UTC-8850UXIp4C@85.215.121.98
DTSTAMP:20260424T085116Z
DTSTART;TZID=Europe/Amsterdam:20160806T180000
DTEND;TZID=Europe/Amsterdam:20160806T194000
SUMMARY:K - 2. Klasse C 2016/17: Afritz - Arriach
END:VEVENT
BEGIN:VEVENT
UID:20260424T085116UTC-8855BRvdxo@85.215.121.98
DTSTAMP:20260424T085116Z
DTSTART;TZID=Europe/Amsterdam:20160813T150000
DTEND;TZID=Europe/Amsterdam:20160813T164000
SUMMARY:K - 2. Klasse C 2016/17: Arriach - SG DSG Köstenberg/ASKÖ Techelsbe
 rg
END:VEVENT
BEGIN:VEVENT
UID:20260424T085116UTC-8884wxtxaw@85.215.121.98
DTSTAMP:20260424T085116Z
DTSTART;TZID=Europe/Amsterdam:20160828T150000
DTEND;TZID=Europe/Amsterdam:20160828T164000
SUMMARY:K - 2. Klasse C 2016/17: Arriach - Gitschtal
END:VEVENT
BEGIN:VEVENT
UID:20260424T085116UTC-88900Tgr2F@85.215.121.98
DTSTAMP:20260424T085116Z
DTSTART;TZID=Europe/Amsterdam:20160902T173000
DTEND;TZID=Europe/Amsterdam:20160902T191000
SUMMARY:K - 2. Klasse C 2016/17: Faakersee 1b - Arriach
END:VEVENT
BEGIN:VEVENT
UID:20260424T085116UTC-8896CUD0sz@85.215.121.98
DTSTAMP:20260424T085116Z
DTSTART;TZID=Europe/Amsterdam:20160911T150000
DTEND;TZID=Europe/Amsterdam:20160911T164000
SUMMARY:K - 2. Klasse C 2016/17: Arriach - Treffen
END:VEVENT
BEGIN:VEVENT
UID:20260424T085116UTC-8901Ozcuag@85.215.121.98
DTSTAMP:20260424T085116Z
DTSTART;TZID=Europe/Amsterdam:20160917T150000
DTEND;TZID=Europe/Amsterdam:20160917T164000
SUMMARY:K - 2. Klasse C 2016/17: IFC Villach - Arriach
END:VEVENT
BEGIN:VEVENT
UID:20260424T085116UTC-8906V9BXcA@85.215.121.98
DTSTAMP:20260424T085116Z
DTSTART;TZID=Europe/Amsterdam:20160925T153000
DTEND;TZID=Europe/Amsterdam:20160925T171000
SUMMARY:K - 2. Klasse C 2016/17: Arriach - Draschitz
END:VEVENT
BEGIN:VEVENT
UID:20260424T085116UTC-8911alujvI@85.215.121.98
DTSTAMP:20260424T085116Z
DTSTART;TZID=Europe/Amsterdam:20161002T150000
DTEND;TZID=Europe/Amsterdam:20161002T164000
SUMMARY:K - 2. Klasse C 2016/17: Arriach - Kleinkirchheim
END:VEVENT
BEGIN:VEVENT
UID:20260424T085116UTC-8917GsjZCR@85.215.121.98
DTSTAMP:20260424T085116Z
DTSTART;TZID=Europe/Amsterdam:20161008T161500
DTEND;TZID=Europe/Amsterdam:20161008T175500
SUMMARY:K - 2. Klasse C 2016/17: Weißenstein - Arriach
END:VEVENT
BEGIN:VEVENT
UID:20260424T085116UTC-8923AbXsow@85.215.121.98
DTSTAMP:20260424T085116Z
DTSTART;TZID=Europe/Amsterdam:20161015T160000
DTEND;TZID=Europe/Amsterdam:20161015T174000
SUMMARY:K - 2. Klasse C 2016/17: Arriach - Landskron 1b
END:VEVENT
BEGIN:VEVENT
UID:20260424T085116UTC-8929Jg0UlU@85.215.121.98
DTSTAMP:20260424T085116Z
DTSTART;TZID=Europe/Amsterdam:20161023T153000
DTEND;TZID=Europe/Amsterdam:20161023T171000
SUMMARY:K - 2. Klasse C 2016/17: FC Egg - Arriach
END:VEVENT
BEGIN:VEVENT
UID:20260424T085116UTC-89354d09LX@85.215.121.98
DTSTAMP:20260424T085116Z
DTSTART;TZID=Europe/Amsterdam:20161026T150000
DTEND;TZID=Europe/Amsterdam:20161026T164000
SUMMARY:K - 2. Klasse C 2016/17: Arriach - Arnoldstein
END:VEVENT
BEGIN:VEVENT
UID:20260424T085116UTC-89414TDMBA@85.215.121.98
DTSTAMP:20260424T085116Z
DTSTART;TZID=Europe/Amsterdam:20161030T140000
DTEND;TZID=Europe/Amsterdam:20161030T154000
SUMMARY:K - 2. Klasse C 2016/17: SK Grafendorf - Arriach
END:VEVENT
BEGIN:VEVENT
UID:20260424T085116UTC-9029LmCdCw@85.215.121.98
DTSTAMP:20260424T085116Z
DTSTART;TZID=Europe/Amsterdam:20161106T103000
DTEND;TZID=Europe/Amsterdam:20161106T121000
SUMMARY:K - 2. Klasse C 2016/17: Maria Gail - Arriach
END:VEVENT
BEGIN:VEVENT
UID:20260424T085116UTC-9044x2Ok5m@85.215.121.98
DTSTAMP:20260424T085116Z
DTSTART;TZID=Europe/Amsterdam:20170326T140000
DTEND;TZID=Europe/Amsterdam:20170326T154000
SUMMARY:K - 2. Klasse C 2016/17: Arriach - Afritz
END:VEVENT
BEGIN:VEVENT
UID:20260424T085116UTC-9051uimTBz@85.215.121.98
DTSTAMP:20260424T085116Z
DTSTART;TZID=Europe/Amsterdam:20170402T140000
DTEND;TZID=Europe/Amsterdam:20170402T154000
SUMMARY:K - 2. Klasse C 2016/17: SG DSG Köstenberg/ASKÖ Techelsberg - Arria
 ch
END:VEVENT
BEGIN:VEVENT
UID:20260424T085116UTC-9056w9w9Wf@85.215.121.98
DTSTAMP:20260424T085116Z
DTSTART;TZID=Europe/Amsterdam:20170408T150000
DTEND;TZID=Europe/Amsterdam:20170408T164000
SUMMARY:K - 2. Klasse C 2016/17: Arriach - Faakersee 1b
END:VEVENT
BEGIN:VEVENT
UID:20260424T085116UTC-9062au24U7@85.215.121.98
DTSTAMP:20260424T085116Z
DTSTART;TZID=Europe/Amsterdam:20170415T160000
DTEND;TZID=Europe/Amsterdam:20170415T174000
SUMMARY:K - 2. Klasse C 2016/17: Gitschtal - Arriach
END:VEVENT
BEGIN:VEVENT
UID:20260424T085116UTC-9104DZsMzt@85.215.121.98
DTSTAMP:20260424T085116Z
DTSTART;TZID=Europe/Amsterdam:20170429T160000
DTEND;TZID=Europe/Amsterdam:20170429T174000
SUMMARY:K - 2. Klasse C 2016/17: Treffen - Arriach
END:VEVENT
BEGIN:VEVENT
UID:20260424T085116UTC-9110Pd71N6@85.215.121.98
DTSTAMP:20260424T085116Z
DTSTART;TZID=Europe/Amsterdam:20170501T160000
DTEND;TZID=Europe/Amsterdam:20170501T174000
SUMMARY:K - 2. Klasse C 2016/17: Arriach - IFC Villach
END:VEVENT
BEGIN:VEVENT
UID:20260424T085116UTC-9116Sw8XbL@85.215.121.98
DTSTAMP:20260424T085116Z
DTSTART;TZID=Europe/Amsterdam:20170507T160000
DTEND;TZID=Europe/Amsterdam:20170507T174000
SUMMARY:K - 2. Klasse C 2016/17: Draschitz - Arriach
END:VEVENT
BEGIN:VEVENT
UID:20260424T085116UTC-9122H9Slgc@85.215.121.98
DTSTAMP:20260424T085116Z
DTSTART;TZID=Europe/Amsterdam:20170513T143000
DTEND;TZID=Europe/Amsterdam:20170513T161000
SUMMARY:K - 2. Klasse C 2016/17: Kleinkirchheim - Arriach
END:VEVENT
BEGIN:VEVENT
UID:20260424T085116UTC-9128p9cKPB@85.215.121.98
DTSTAMP:20260424T085116Z
DTSTART;TZID=Europe/Amsterdam:20170521T150000
DTEND;TZID=Europe/Amsterdam:20170521T164000
SUMMARY:K - 2. Klasse C 2016/17: Arriach - Weißenstein
END:VEVENT
BEGIN:VEVENT
UID:20260424T085116UTC-9138JJlgUr@85.215.121.98
DTSTAMP:20260424T085116Z
DTSTART;TZID=Europe/Amsterdam:20170525T101500
DTEND;TZID=Europe/Amsterdam:20170525T115500
SUMMARY:K - 2. Klasse C 2016/17: Landskron 1b - Arriach
END:VEVENT
BEGIN:VEVENT
UID:20260424T085116UTC-9235a6O6RD@85.215.121.98
DTSTAMP:20260424T085116Z
DTSTART;TZID=Europe/Amsterdam:20170527T170000
DTEND;TZID=Europe/Amsterdam:20170527T184000
SUMMARY:K - 2. Klasse C 2016/17: Arriach - FC Egg
END:VEVENT
BEGIN:VEVENT
UID:20260424T085116UTC-9264vLslr9@85.215.121.98
DTSTAMP:20260424T085116Z
DTSTART;TZID=Europe/Amsterdam:20170603T173000
DTEND;TZID=Europe/Amsterdam:20170603T191000
SUMMARY:K - 2. Klasse C 2016/17: Arnoldstein - Arriach
END:VEVENT
BEGIN:VEVENT
UID:20260424T085116UTC-9455Feu7RC@85.215.121.98
DTSTAMP:20260424T085116Z
DTSTART;TZID=Europe/Amsterdam:20170611T150000
DTEND;TZID=Europe/Amsterdam:20170611T164000
SUMMARY:K - 2. Klasse C 2016/17: Arriach - SK Grafendorf
END:VEVENT
END:VCALENDAR
