BEGIN:VCALENDAR
VERSION:2.0
PRODID:-////NONSGML kigkonsult.se iCalcreator 2.18//
X-WR-TIMEZONE:Europe/Amsterdam
BEGIN:VTIMEZONE
TZID:Europe/Amsterdam
X-LIC-LOCATION:Europe/Amsterdam
BEGIN:STANDARD
DTSTART:20131027T030000
TZOFFSETFROM:+0200
TZOFFSETTO:+0100
RDATE:20141026T030000
TZNAME:CET
END:STANDARD
BEGIN:DAYLIGHT
DTSTART:20140330T020000
TZOFFSETFROM:+0100
TZOFFSETTO:+0200
RDATE:20150329T020000
TZNAME:CEST
END:DAYLIGHT
END:VTIMEZONE
BEGIN:VEVENT
UID:20260424T082937UTC-3267fjgXJs@85.215.121.98
DTSTAMP:20260424T082937Z
DTSTART;TZID=Europe/Amsterdam:20130728T160000
DTEND;TZID=Europe/Amsterdam:20130728T174500
SUMMARY:K - 2. Klasse D 2013/14: St.  Peter/Wallersberg - Reichenfels
END:VEVENT
BEGIN:VEVENT
UID:20260424T082937UTC-3274SxueVz@85.215.121.98
DTSTAMP:20260424T082937Z
DTSTART;TZID=Europe/Amsterdam:20130803T180000
DTEND;TZID=Europe/Amsterdam:20130803T194500
SUMMARY:K - 2. Klasse D 2013/14: Reichenfels - Grafenstein
END:VEVENT
BEGIN:VEVENT
UID:20260424T082937UTC-32804l7WHX@85.215.121.98
DTSTAMP:20260424T082937Z
DTSTART;TZID=Europe/Amsterdam:20130810T160000
DTEND;TZID=Europe/Amsterdam:20130810T174500
SUMMARY:K - 2. Klasse D 2013/14: Diex - Reichenfels
END:VEVENT
BEGIN:VEVENT
UID:20260424T082937UTC-3287WLUzrf@85.215.121.98
DTSTAMP:20260424T082937Z
DTSTART;TZID=Europe/Amsterdam:20130817T180000
DTEND;TZID=Europe/Amsterdam:20130817T194500
SUMMARY:K - 2. Klasse D 2013/14: Reichenfels - Maria Rojach
END:VEVENT
BEGIN:VEVENT
UID:20260424T082937UTC-3293TdhRTc@85.215.121.98
DTSTAMP:20260424T082937Z
DTSTART;TZID=Europe/Amsterdam:20130825T110000
DTEND;TZID=Europe/Amsterdam:20130825T124500
SUMMARY:K - 2. Klasse D 2013/14: Sittersdorf - Reichenfels
END:VEVENT
BEGIN:VEVENT
UID:20260424T082937UTC-32982Aumrv@85.215.121.98
DTSTAMP:20260424T082937Z
DTSTART;TZID=Europe/Amsterdam:20130901T170000
DTEND;TZID=Europe/Amsterdam:20130901T184500
SUMMARY:K - 2. Klasse D 2013/14: Reichenfels - Lavamünd
END:VEVENT
BEGIN:VEVENT
UID:20260424T082937UTC-3305xL0VZP@85.215.121.98
DTSTAMP:20260424T082937Z
DTSTART;TZID=Europe/Amsterdam:20130914T170000
DTEND;TZID=Europe/Amsterdam:20130914T184500
SUMMARY:K - 2. Klasse D 2013/14: Reichenfels - Haimburg
END:VEVENT
BEGIN:VEVENT
UID:20260424T082937UTC-3310IxVSVX@85.215.121.98
DTSTAMP:20260424T082937Z
DTSTART;TZID=Europe/Amsterdam:20130921T150000
DTEND;TZID=Europe/Amsterdam:20130921T164500
SUMMARY:K - 2. Klasse D 2013/14: Frantschach - Reichenfels
END:VEVENT
BEGIN:VEVENT
UID:20260424T082937UTC-33178OfMjg@85.215.121.98
DTSTAMP:20260424T082937Z
DTSTART;TZID=Europe/Amsterdam:20130928T170000
DTEND;TZID=Europe/Amsterdam:20130928T184500
SUMMARY:K - 2. Klasse D 2013/14: Reichenfels - Preitenegg
END:VEVENT
BEGIN:VEVENT
UID:20260424T082937UTC-3323xMUHM9@85.215.121.98
DTSTAMP:20260424T082937Z
DTSTART;TZID=Europe/Amsterdam:20131005T160000
DTEND;TZID=Europe/Amsterdam:20131005T174500
SUMMARY:K - 2. Klasse D 2013/14: Tainach - Reichenfels
END:VEVENT
BEGIN:VEVENT
UID:20260424T082937UTC-33299FcVUf@85.215.121.98
DTSTAMP:20260424T082937Z
DTSTART;TZID=Europe/Amsterdam:20131012T153000
DTEND;TZID=Europe/Amsterdam:20131012T171500
SUMMARY:K - 2. Klasse D 2013/14: Brückl - Reichenfels
END:VEVENT
BEGIN:VEVENT
UID:20260424T082937UTC-3334AGoSr1@85.215.121.98
DTSTAMP:20260424T082937Z
DTSTART;TZID=Europe/Amsterdam:20131019T160000
DTEND;TZID=Europe/Amsterdam:20131019T174500
SUMMARY:K - 2. Klasse D 2013/14: Reichenfels - Eberndorf 1b
END:VEVENT
BEGIN:VEVENT
UID:20260424T082937UTC-3339nM6HwE@85.215.121.98
DTSTAMP:20260424T082937Z
DTSTART;TZID=Europe/Amsterdam:20131026T160000
DTEND;TZID=Europe/Amsterdam:20131026T174500
SUMMARY:K - 2. Klasse D 2013/14: Reichenfels - St.  Peter/Wallersberg
END:VEVENT
BEGIN:VEVENT
UID:20260424T082937UTC-3345doMzrZ@85.215.121.98
DTSTAMP:20260424T082937Z
DTSTART;TZID=Europe/Amsterdam:20131102T150000
DTEND;TZID=Europe/Amsterdam:20131102T164500
SUMMARY:K - 2. Klasse D 2013/14: Grafenstein - Reichenfels
END:VEVENT
BEGIN:VEVENT
UID:20260424T082937UTC-3350V1Vexo@85.215.121.98
DTSTAMP:20260424T082937Z
DTSTART;TZID=Europe/Amsterdam:20140329T160000
DTEND;TZID=Europe/Amsterdam:20140329T174500
SUMMARY:K - 2. Klasse D 2013/14: Reichenfels - Diex
END:VEVENT
BEGIN:VEVENT
UID:20260424T082937UTC-3356S80zvc@85.215.121.98
DTSTAMP:20260424T082937Z
DTSTART;TZID=Europe/Amsterdam:20140406T160000
DTEND;TZID=Europe/Amsterdam:20140406T174500
SUMMARY:K - 2. Klasse D 2013/14: Maria Rojach - Reichenfels
END:VEVENT
BEGIN:VEVENT
UID:20260424T082937UTC-3362T0B0O6@85.215.121.98
DTSTAMP:20260424T082937Z
DTSTART;TZID=Europe/Amsterdam:20140412T160000
DTEND;TZID=Europe/Amsterdam:20140412T174500
SUMMARY:K - 2. Klasse D 2013/14: Reichenfels - Sittersdorf
END:VEVENT
BEGIN:VEVENT
UID:20260424T082937UTC-3367j5FRrw@85.215.121.98
DTSTAMP:20260424T082937Z
DTSTART;TZID=Europe/Amsterdam:20140419T160000
DTEND;TZID=Europe/Amsterdam:20140419T174500
SUMMARY:K - 2. Klasse D 2013/14: Lavamünd - Reichenfels
END:VEVENT
BEGIN:VEVENT
UID:20260424T082937UTC-3372r5kuOo@85.215.121.98
DTSTAMP:20260424T082937Z
DTSTART;TZID=Europe/Amsterdam:20140504T163000
DTEND;TZID=Europe/Amsterdam:20140504T181500
SUMMARY:K - 2. Klasse D 2013/14: Haimburg - Reichenfels
END:VEVENT
BEGIN:VEVENT
UID:20260424T082937UTC-3377N2lWu7@85.215.121.98
DTSTAMP:20260424T082937Z
DTSTART;TZID=Europe/Amsterdam:20140510T160000
DTEND;TZID=Europe/Amsterdam:20140510T174500
SUMMARY:K - 2. Klasse D 2013/14: Reichenfels - Frantschach
END:VEVENT
BEGIN:VEVENT
UID:20260424T082937UTC-3384A9FlRd@85.215.121.98
DTSTAMP:20260424T082937Z
DTSTART;TZID=Europe/Amsterdam:20140517T170000
DTEND;TZID=Europe/Amsterdam:20140517T184500
SUMMARY:K - 2. Klasse D 2013/14: Preitenegg - Reichenfels
END:VEVENT
BEGIN:VEVENT
UID:20260424T082937UTC-3389mmHdid@85.215.121.98
DTSTAMP:20260424T082937Z
DTSTART;TZID=Europe/Amsterdam:20140524T173000
DTEND;TZID=Europe/Amsterdam:20140524T191500
SUMMARY:K - 2. Klasse D 2013/14: Reichenfels - Tainach
END:VEVENT
BEGIN:VEVENT
UID:20260424T082937UTC-3396mGwNNA@85.215.121.98
DTSTAMP:20260424T082937Z
DTSTART;TZID=Europe/Amsterdam:20140531T170000
DTEND;TZID=Europe/Amsterdam:20140531T184500
SUMMARY:K - 2. Klasse D 2013/14: Reichenfels - Brückl
END:VEVENT
BEGIN:VEVENT
UID:20260424T082937UTC-3401O5z0bF@85.215.121.98
DTSTAMP:20260424T082937Z
DTSTART;TZID=Europe/Amsterdam:20140614T170000
DTEND;TZID=Europe/Amsterdam:20140614T184500
SUMMARY:K - 2. Klasse D 2013/14: Eberndorf 1b - Reichenfels
END:VEVENT
END:VCALENDAR
