BEGIN:VCALENDAR
VERSION:2.0
PRODID:-////NONSGML kigkonsult.se iCalcreator 2.18//
X-WR-TIMEZONE:Europe/Amsterdam
BEGIN:VTIMEZONE
TZID:Europe/Amsterdam
X-LIC-LOCATION:Europe/Amsterdam
BEGIN:STANDARD
DTSTART:20121028T030000
TZOFFSETFROM:+0200
TZOFFSETTO:+0100
RDATE:20131027T030000
TZNAME:CET
END:STANDARD
BEGIN:DAYLIGHT
DTSTART:20130331T020000
TZOFFSETFROM:+0100
TZOFFSETTO:+0200
RDATE:20140330T020000
TZNAME:CEST
END:DAYLIGHT
END:VTIMEZONE
BEGIN:VEVENT
UID:20260425T123904UTC-94159IAdbK@85.215.121.98
DTSTAMP:20260425T123904Z
DTSTART;TZID=Europe/Amsterdam:20120805T163000
DTEND;TZID=Europe/Amsterdam:20120805T181500
SUMMARY:K - 2. Klasse D 2012/13: Haimburg - Diex
END:VEVENT
BEGIN:VEVENT
UID:20260425T123904UTC-9421NL50fp@85.215.121.98
DTSTAMP:20260425T123904Z
DTSTART;TZID=Europe/Amsterdam:20120811T180000
DTEND;TZID=Europe/Amsterdam:20120811T194500
SUMMARY:K - 2. Klasse D 2012/13: Diex - Klopeiner See
END:VEVENT
BEGIN:VEVENT
UID:20260425T123904UTC-9427VWjVbL@85.215.121.98
DTSTAMP:20260425T123904Z
DTSTART;TZID=Europe/Amsterdam:20120817T193000
DTEND;TZID=Europe/Amsterdam:20120817T211500
SUMMARY:K - 2. Klasse D 2012/13: St. Andrä/Lav. - Diex
END:VEVENT
BEGIN:VEVENT
UID:20260425T123904UTC-9433WZb2OF@85.215.121.98
DTSTAMP:20260425T123904Z
DTSTART;TZID=Europe/Amsterdam:20120825T173000
DTEND;TZID=Europe/Amsterdam:20120825T191500
SUMMARY:K - 2. Klasse D 2012/13: Diex - Tainach
END:VEVENT
BEGIN:VEVENT
UID:20260425T123904UTC-9438O1jJid@85.215.121.98
DTSTAMP:20260425T123904Z
DTSTART;TZID=Europe/Amsterdam:20120901T170000
DTEND;TZID=Europe/Amsterdam:20120901T184500
SUMMARY:K - 2. Klasse D 2012/13: Frantschach - Diex
END:VEVENT
BEGIN:VEVENT
UID:20260425T123904UTC-9444IURLJV@85.215.121.98
DTSTAMP:20260425T123904Z
DTSTART;TZID=Europe/Amsterdam:20120908T170000
DTEND;TZID=Europe/Amsterdam:20120908T184500
SUMMARY:K - 2. Klasse D 2012/13: Diex - Preitenegg
END:VEVENT
BEGIN:VEVENT
UID:20260425T123904UTC-9450DkgwVc@85.215.121.98
DTSTAMP:20260425T123904Z
DTSTART;TZID=Europe/Amsterdam:20120916T150000
DTEND;TZID=Europe/Amsterdam:20120916T164500
SUMMARY:K - 2. Klasse D 2012/13: Diex - Lavamünd
END:VEVENT
BEGIN:VEVENT
UID:20260425T123904UTC-9456M2sxSn@85.215.121.98
DTSTAMP:20260425T123904Z
DTSTART;TZID=Europe/Amsterdam:20120922T160000
DTEND;TZID=Europe/Amsterdam:20120922T174500
SUMMARY:K - 2. Klasse D 2012/13: Maria Rojach - Diex
END:VEVENT
BEGIN:VEVENT
UID:20260425T123904UTC-9461mOB3ML@85.215.121.98
DTSTAMP:20260425T123904Z
DTSTART;TZID=Europe/Amsterdam:20120930T150000
DTEND;TZID=Europe/Amsterdam:20120930T164500
SUMMARY:K - 2. Klasse D 2012/13: Diex - Sittersdorf
END:VEVENT
BEGIN:VEVENT
UID:20260425T123904UTC-9466nKB0ej@85.215.121.98
DTSTAMP:20260425T123904Z
DTSTART;TZID=Europe/Amsterdam:20121006T153000
DTEND;TZID=Europe/Amsterdam:20121006T171500
SUMMARY:K - 2. Klasse D 2012/13: Grafenstein - Diex
END:VEVENT
BEGIN:VEVENT
UID:20260425T123904UTC-9471s7CJbU@85.215.121.98
DTSTAMP:20260425T123904Z
DTSTART;TZID=Europe/Amsterdam:20121014T150000
DTEND;TZID=Europe/Amsterdam:20121014T164500
SUMMARY:K - 2. Klasse D 2012/13: Diex - Eitweg
END:VEVENT
BEGIN:VEVENT
UID:20260425T123904UTC-94767HGPtt@85.215.121.98
DTSTAMP:20260425T123904Z
DTSTART;TZID=Europe/Amsterdam:20121020T150000
DTEND;TZID=Europe/Amsterdam:20121020T164500
SUMMARY:K - 2. Klasse D 2012/13: Diex - Haimburg
END:VEVENT
BEGIN:VEVENT
UID:20260425T123904UTC-9482LcO5DU@85.215.121.98
DTSTAMP:20260425T123904Z
DTSTART;TZID=Europe/Amsterdam:20130407T133000
DTEND;TZID=Europe/Amsterdam:20130407T151500
SUMMARY:K - 2. Klasse D 2012/13: Klopeiner See - Diex
END:VEVENT
BEGIN:VEVENT
UID:20260425T123904UTC-9489b8UDTU@85.215.121.98
DTSTAMP:20260425T123904Z
DTSTART;TZID=Europe/Amsterdam:20130420T160000
DTEND;TZID=Europe/Amsterdam:20130420T174500
SUMMARY:K - 2. Klasse D 2012/13: Tainach - Diex
END:VEVENT
BEGIN:VEVENT
UID:20260425T123904UTC-94940vUzxp@85.215.121.98
DTSTAMP:20260425T123904Z
DTSTART;TZID=Europe/Amsterdam:20130428T140000
DTEND;TZID=Europe/Amsterdam:20130428T154500
SUMMARY:K - 2. Klasse D 2012/13: Diex - Frantschach
END:VEVENT
BEGIN:VEVENT
UID:20260425T123904UTC-9500IVrwA8@85.215.121.98
DTSTAMP:20260425T123904Z
DTSTART;TZID=Europe/Amsterdam:20130501T150000
DTEND;TZID=Europe/Amsterdam:20130501T164500
SUMMARY:K - 2. Klasse D 2012/13: Diex - St. Andrä/Lav.
END:VEVENT
BEGIN:VEVENT
UID:20260425T123904UTC-9507OUePjo@85.215.121.98
DTSTAMP:20260425T123904Z
DTSTART;TZID=Europe/Amsterdam:20130505T161500
DTEND;TZID=Europe/Amsterdam:20130505T180000
SUMMARY:K - 2. Klasse D 2012/13: Preitenegg - Diex
END:VEVENT
BEGIN:VEVENT
UID:20260425T123904UTC-9513e8UOMw@85.215.121.98
DTSTAMP:20260425T123904Z
DTSTART;TZID=Europe/Amsterdam:20130511T170000
DTEND;TZID=Europe/Amsterdam:20130511T184500
SUMMARY:K - 2. Klasse D 2012/13: Lavamünd - Diex
END:VEVENT
BEGIN:VEVENT
UID:20260425T123904UTC-951985SIEA@85.215.121.98
DTSTAMP:20260425T123904Z
DTSTART;TZID=Europe/Amsterdam:20130518T180000
DTEND;TZID=Europe/Amsterdam:20130518T194500
SUMMARY:K - 2. Klasse D 2012/13: Diex - Maria Rojach
END:VEVENT
BEGIN:VEVENT
UID:20260425T123904UTC-9526tiTtNO@85.215.121.98
DTSTAMP:20260425T123904Z
DTSTART;TZID=Europe/Amsterdam:20130526T110000
DTEND;TZID=Europe/Amsterdam:20130526T124500
SUMMARY:K - 2. Klasse D 2012/13: Sittersdorf - Diex
END:VEVENT
BEGIN:VEVENT
UID:20260425T123904UTC-9531cZPVPf@85.215.121.98
DTSTAMP:20260425T123904Z
DTSTART;TZID=Europe/Amsterdam:20130602T150000
DTEND;TZID=Europe/Amsterdam:20130602T164500
SUMMARY:K - 2. Klasse D 2012/13: Diex - Grafenstein
END:VEVENT
BEGIN:VEVENT
UID:20260425T123904UTC-95369IF8uU@85.215.121.98
DTSTAMP:20260425T123904Z
DTSTART;TZID=Europe/Amsterdam:20130608T150000
DTEND;TZID=Europe/Amsterdam:20130608T164500
SUMMARY:K - 2. Klasse D 2012/13: Eitweg - Diex
END:VEVENT
END:VCALENDAR
