BEGIN:VCALENDAR
VERSION:2.0
PRODID:-////NONSGML kigkonsult.se iCalcreator 2.18//
X-WR-TIMEZONE:Europe/Amsterdam
BEGIN:VTIMEZONE
TZID:Europe/Amsterdam
X-LIC-LOCATION:Europe/Amsterdam
BEGIN:STANDARD
DTSTART:20071028T030000
TZOFFSETFROM:+0200
TZOFFSETTO:+0100
RDATE:20081026T030000
TZNAME:CET
END:STANDARD
BEGIN:DAYLIGHT
DTSTART:20080330T020000
TZOFFSETFROM:+0100
TZOFFSETTO:+0200
RDATE:20090329T020000
TZNAME:CEST
END:DAYLIGHT
END:VTIMEZONE
BEGIN:VEVENT
UID:20260419T135834UTC-675642pdk6@85.215.121.98
DTSTAMP:20260419T135834Z
DTSTART;TZID=Europe/Amsterdam:20070728T173000
DTEND;TZID=Europe/Amsterdam:20070728T191500
SUMMARY:K - 1. Klasse D 2007/08: St. Paul - SC Ebental
END:VEVENT
BEGIN:VEVENT
UID:20260419T135834UTC-67640v5TE1@85.215.121.98
DTSTAMP:20260419T135834Z
DTSTART;TZID=Europe/Amsterdam:20070805T180000
DTEND;TZID=Europe/Amsterdam:20070805T194500
SUMMARY:K - 1. Klasse D 2007/08: Haimburg - St. Paul
END:VEVENT
BEGIN:VEVENT
UID:20260419T135834UTC-6769DGil9e@85.215.121.98
DTSTAMP:20260419T135834Z
DTSTART;TZID=Europe/Amsterdam:20070811T173000
DTEND;TZID=Europe/Amsterdam:20070811T191500
SUMMARY:K - 1. Klasse D 2007/08: St. Paul - St. Margarethen/Lav.
END:VEVENT
BEGIN:VEVENT
UID:20260419T135834UTC-6775OApHLi@85.215.121.98
DTSTAMP:20260419T135834Z
DTSTART;TZID=Europe/Amsterdam:20070815T173000
DTEND;TZID=Europe/Amsterdam:20070815T191500
SUMMARY:K - 1. Klasse D 2007/08: St. Paul - Ochsendorf
END:VEVENT
BEGIN:VEVENT
UID:20260419T135834UTC-6780nu6oGa@85.215.121.98
DTSTAMP:20260419T135834Z
DTSTART;TZID=Europe/Amsterdam:20070819T170000
DTEND;TZID=Europe/Amsterdam:20070819T184500
SUMMARY:K - 1. Klasse D 2007/08: St.  Peter/Wallersberg - St. Paul
END:VEVENT
BEGIN:VEVENT
UID:20260419T135834UTC-6786mUVbui@85.215.121.98
DTSTAMP:20260419T135834Z
DTSTART;TZID=Europe/Amsterdam:20070825T170000
DTEND;TZID=Europe/Amsterdam:20070825T184500
SUMMARY:K - 1. Klasse D 2007/08: St. Paul - Ferlach DSG
END:VEVENT
BEGIN:VEVENT
UID:20260419T135834UTC-6792uLUNgp@85.215.121.98
DTSTAMP:20260419T135834Z
DTSTART;TZID=Europe/Amsterdam:20070901T163000
DTEND;TZID=Europe/Amsterdam:20070901T181500
SUMMARY:K - 1. Klasse D 2007/08: Globasnitz - St. Paul
END:VEVENT
BEGIN:VEVENT
UID:20260419T135834UTC-6798zJHp5d@85.215.121.98
DTSTAMP:20260419T135834Z
DTSTART;TZID=Europe/Amsterdam:20070908T160000
DTEND;TZID=Europe/Amsterdam:20070908T174500
SUMMARY:K - 1. Klasse D 2007/08: St. Paul - Eisenkappel
END:VEVENT
BEGIN:VEVENT
UID:20260419T135834UTC-6803uKSeN5@85.215.121.98
DTSTAMP:20260419T135834Z
DTSTART;TZID=Europe/Amsterdam:20070915T163000
DTEND;TZID=Europe/Amsterdam:20070915T181500
SUMMARY:K - 1. Klasse D 2007/08: Frantschach - St. Paul
END:VEVENT
BEGIN:VEVENT
UID:20260419T135834UTC-68108vuegu@85.215.121.98
DTSTAMP:20260419T135834Z
DTSTART;TZID=Europe/Amsterdam:20070922T160000
DTEND;TZID=Europe/Amsterdam:20070922T174500
SUMMARY:K - 1. Klasse D 2007/08: St. Paul - Lavamünd
END:VEVENT
BEGIN:VEVENT
UID:20260419T135834UTC-6816Daveks@85.215.121.98
DTSTAMP:20260419T135834Z
DTSTART;TZID=Europe/Amsterdam:20070929T160000
DTEND;TZID=Europe/Amsterdam:20070929T174500
SUMMARY:K - 1. Klasse D 2007/08: Maria Rojach - St. Paul
END:VEVENT
BEGIN:VEVENT
UID:20260419T135834UTC-6821UaaVX1@85.215.121.98
DTSTAMP:20260419T135834Z
DTSTART;TZID=Europe/Amsterdam:20071006T160000
DTEND;TZID=Europe/Amsterdam:20071006T174500
SUMMARY:K - 1. Klasse D 2007/08: St. Paul - St. Margareten/Ros.
END:VEVENT
BEGIN:VEVENT
UID:20260419T135834UTC-6827UvCwrP@85.215.121.98
DTSTAMP:20260419T135834Z
DTSTART;TZID=Europe/Amsterdam:20071014T150000
DTEND;TZID=Europe/Amsterdam:20071014T164500
SUMMARY:K - 1. Klasse D 2007/08: Mittlern - St. Paul
END:VEVENT
BEGIN:VEVENT
UID:20260419T135834UTC-6833THvH6V@85.215.121.98
DTSTAMP:20260419T135834Z
DTSTART;TZID=Europe/Amsterdam:20071021T150000
DTEND;TZID=Europe/Amsterdam:20071021T164500
SUMMARY:K - 1. Klasse D 2007/08: SC Ebental - St. Paul
END:VEVENT
BEGIN:VEVENT
UID:20260419T135834UTC-6864ORL3EC@85.215.121.98
DTSTAMP:20260419T135834Z
DTSTART;TZID=Europe/Amsterdam:20071028T150000
DTEND;TZID=Europe/Amsterdam:20071028T164500
SUMMARY:K - 1. Klasse D 2007/08: St. Paul - Haimburg
END:VEVENT
BEGIN:VEVENT
UID:20260419T135834UTC-6870UPanUP@85.215.121.98
DTSTAMP:20260419T135834Z
DTSTART;TZID=Europe/Amsterdam:20071103T150000
DTEND;TZID=Europe/Amsterdam:20071103T164500
SUMMARY:K - 1. Klasse D 2007/08: St. Margarethen/Lav. - St. Paul
END:VEVENT
BEGIN:VEVENT
UID:20260419T135834UTC-6876z3GiPE@85.215.121.98
DTSTAMP:20260419T135834Z
DTSTART;TZID=Europe/Amsterdam:20080323T143000
DTEND;TZID=Europe/Amsterdam:20080323T161500
SUMMARY:K - 1. Klasse D 2007/08: Ochsendorf - St. Paul
END:VEVENT
BEGIN:VEVENT
UID:20260419T135834UTC-6881ka7TGS@85.215.121.98
DTSTAMP:20260419T135834Z
DTSTART;TZID=Europe/Amsterdam:20080329T160000
DTEND;TZID=Europe/Amsterdam:20080329T174500
SUMMARY:K - 1. Klasse D 2007/08: St. Paul - St.  Peter/Wallersberg
END:VEVENT
BEGIN:VEVENT
UID:20260419T135834UTC-6887MHxs5E@85.215.121.98
DTSTAMP:20260419T135834Z
DTSTART;TZID=Europe/Amsterdam:20080405T163000
DTEND;TZID=Europe/Amsterdam:20080405T181500
SUMMARY:K - 1. Klasse D 2007/08: Ferlach DSG - St. Paul
END:VEVENT
BEGIN:VEVENT
UID:20260419T135834UTC-68936l8FSi@85.215.121.98
DTSTAMP:20260419T135834Z
DTSTART;TZID=Europe/Amsterdam:20080412T160000
DTEND;TZID=Europe/Amsterdam:20080412T174500
SUMMARY:K - 1. Klasse D 2007/08: St. Paul - Globasnitz
END:VEVENT
BEGIN:VEVENT
UID:20260419T135834UTC-6899aSO3ab@85.215.121.98
DTSTAMP:20260419T135834Z
DTSTART;TZID=Europe/Amsterdam:20080419T163000
DTEND;TZID=Europe/Amsterdam:20080419T181500
SUMMARY:K - 1. Klasse D 2007/08: Eisenkappel - St. Paul
END:VEVENT
BEGIN:VEVENT
UID:20260419T135834UTC-6904IdVKw5@85.215.121.98
DTSTAMP:20260419T135834Z
DTSTART;TZID=Europe/Amsterdam:20080426T170000
DTEND;TZID=Europe/Amsterdam:20080426T184500
SUMMARY:K - 1. Klasse D 2007/08: St. Paul - Frantschach
END:VEVENT
BEGIN:VEVENT
UID:20260419T135834UTC-6944NvDEJS@85.215.121.98
DTSTAMP:20260419T135834Z
DTSTART;TZID=Europe/Amsterdam:20080503T170000
DTEND;TZID=Europe/Amsterdam:20080503T184500
SUMMARY:K - 1. Klasse D 2007/08: Lavamünd - St. Paul
END:VEVENT
BEGIN:VEVENT
UID:20260419T135834UTC-6951O1BeXK@85.215.121.98
DTSTAMP:20260419T135834Z
DTSTART;TZID=Europe/Amsterdam:20080517T170000
DTEND;TZID=Europe/Amsterdam:20080517T184500
SUMMARY:K - 1. Klasse D 2007/08: St. Paul - Maria Rojach
END:VEVENT
BEGIN:VEVENT
UID:20260419T135834UTC-6956a2rtu6@85.215.121.98
DTSTAMP:20260419T135834Z
DTSTART;TZID=Europe/Amsterdam:20080524T173000
DTEND;TZID=Europe/Amsterdam:20080524T191500
SUMMARY:K - 1. Klasse D 2007/08: St. Margareten/Ros. - St. Paul
END:VEVENT
BEGIN:VEVENT
UID:20260419T135834UTC-6962DAVdcu@85.215.121.98
DTSTAMP:20260419T135834Z
DTSTART;TZID=Europe/Amsterdam:20080601T173000
DTEND;TZID=Europe/Amsterdam:20080601T191500
SUMMARY:K - 1. Klasse D 2007/08: St. Paul - Mittlern
END:VEVENT
END:VCALENDAR
