BEGIN:VCALENDAR
VERSION:2.0
PRODID:-////NONSGML kigkonsult.se iCalcreator 2.18//
X-WR-TIMEZONE:Europe/Amsterdam
BEGIN:VTIMEZONE
TZID:Europe/Amsterdam
X-LIC-LOCATION:Europe/Amsterdam
BEGIN:STANDARD
DTSTART:20061029T030000
TZOFFSETFROM:+0200
TZOFFSETTO:+0100
RDATE:20071028T030000
TZNAME:CET
END:STANDARD
BEGIN:DAYLIGHT
DTSTART:20070325T020000
TZOFFSETFROM:+0100
TZOFFSETTO:+0200
RDATE:20080330T020000
TZNAME:CEST
END:DAYLIGHT
END:VTIMEZONE
BEGIN:VEVENT
UID:20260425T211527UTC-5674jGNj91@85.215.121.98
DTSTAMP:20260425T211527Z
DTSTART;TZID=Europe/Amsterdam:20060729T180000
DTEND;TZID=Europe/Amsterdam:20060729T194500
SUMMARY:K - 2. Klasse B 2006/07: Egg - Töplitsch
END:VEVENT
BEGIN:VEVENT
UID:20260425T211527UTC-5798xtianw@85.215.121.98
DTSTAMP:20260425T211527Z
DTSTART;TZID=Europe/Amsterdam:20060805T180000
DTEND;TZID=Europe/Amsterdam:20060805T194500
SUMMARY:K - 2. Klasse B 2006/07: Ossiach - Egg
END:VEVENT
BEGIN:VEVENT
UID:20260425T211527UTC-5804vHiw1m@85.215.121.98
DTSTAMP:20260425T211527Z
DTSTART;TZID=Europe/Amsterdam:20060813T180000
DTEND;TZID=Europe/Amsterdam:20060813T194500
SUMMARY:K - 2. Klasse B 2006/07: Egg - Arriach
END:VEVENT
BEGIN:VEVENT
UID:20260425T211527UTC-5810Rx6Dni@85.215.121.98
DTSTAMP:20260425T211527Z
DTSTART;TZID=Europe/Amsterdam:20060819T180000
DTEND;TZID=Europe/Amsterdam:20060819T194500
SUMMARY:K - 2. Klasse B 2006/07: Seebach - Egg
END:VEVENT
BEGIN:VEVENT
UID:20260425T211527UTC-58162ERxJo@85.215.121.98
DTSTAMP:20260425T211527Z
DTSTART;TZID=Europe/Amsterdam:20060826T173000
DTEND;TZID=Europe/Amsterdam:20060826T191500
SUMMARY:K - 2. Klasse B 2006/07: Egg - Schiefling
END:VEVENT
BEGIN:VEVENT
UID:20260425T211527UTC-5854JgdVOJ@85.215.121.98
DTSTAMP:20260425T211527Z
DTSTART;TZID=Europe/Amsterdam:20060902T170000
DTEND;TZID=Europe/Amsterdam:20060902T184500
SUMMARY:K - 2. Klasse B 2006/07: Rosegg - Egg
END:VEVENT
BEGIN:VEVENT
UID:20260425T211527UTC-5865SeG27C@85.215.121.98
DTSTAMP:20260425T211527Z
DTSTART;TZID=Europe/Amsterdam:20060910T170000
DTEND;TZID=Europe/Amsterdam:20060910T184500
SUMMARY:K - 2. Klasse B 2006/07: Egg - Fresach
END:VEVENT
BEGIN:VEVENT
UID:20260425T211527UTC-6078rDzskv@85.215.121.98
DTSTAMP:20260425T211527Z
DTSTART;TZID=Europe/Amsterdam:20060917T103000
DTEND;TZID=Europe/Amsterdam:20060917T121500
SUMMARY:K - 2. Klasse B 2006/07: Bad Bleiberg - Egg
END:VEVENT
BEGIN:VEVENT
UID:20260425T211527UTC-6086EUBeWd@85.215.121.98
DTSTAMP:20260425T211527Z
DTSTART;TZID=Europe/Amsterdam:20060923T163000
DTEND;TZID=Europe/Amsterdam:20060923T181500
SUMMARY:K - 2. Klasse B 2006/07: Egg - St. Jakob/Ros.
END:VEVENT
BEGIN:VEVENT
UID:20260425T211527UTC-6091Lwbadh@85.215.121.98
DTSTAMP:20260425T211527Z
DTSTART;TZID=Europe/Amsterdam:20060930T153000
DTEND;TZID=Europe/Amsterdam:20060930T171500
SUMMARY:K - 2. Klasse B 2006/07: Ferndorf - Egg
END:VEVENT
BEGIN:VEVENT
UID:20260425T211527UTC-6098a0mkd2@85.215.121.98
DTSTAMP:20260425T211527Z
DTSTART;TZID=Europe/Amsterdam:20061008T160000
DTEND;TZID=Europe/Amsterdam:20061008T174500
SUMMARY:K - 2. Klasse B 2006/07: Egg - Stockenboi
END:VEVENT
BEGIN:VEVENT
UID:20260425T211527UTC-6125kVau0x@85.215.121.98
DTSTAMP:20260425T211527Z
DTSTART;TZID=Europe/Amsterdam:20061015T110000
DTEND;TZID=Europe/Amsterdam:20061015T124500
SUMMARY:K - 2. Klasse B 2006/07: Kleinkirchheim - Egg
END:VEVENT
BEGIN:VEVENT
UID:20260425T211527UTC-6131mJBodP@85.215.121.98
DTSTAMP:20260425T211527Z
DTSTART;TZID=Europe/Amsterdam:20061022T153000
DTEND;TZID=Europe/Amsterdam:20061022T171500
SUMMARY:K - 2. Klasse B 2006/07: Egg - Baldramsdorf
END:VEVENT
BEGIN:VEVENT
UID:20260425T211527UTC-61373VMlIO@85.215.121.98
DTSTAMP:20260425T211527Z
DTSTART;TZID=Europe/Amsterdam:20061026T150000
DTEND;TZID=Europe/Amsterdam:20061026T164500
SUMMARY:K - 2. Klasse B 2006/07: Egg - Obermillstatt
END:VEVENT
BEGIN:VEVENT
UID:20260425T211527UTC-61427ovu0w@85.215.121.98
DTSTAMP:20260425T211527Z
DTSTART;TZID=Europe/Amsterdam:20061029T150000
DTEND;TZID=Europe/Amsterdam:20061029T164500
SUMMARY:K - 2. Klasse B 2006/07: Malta - Egg
END:VEVENT
BEGIN:VEVENT
UID:20260425T211527UTC-6148v9wBDm@85.215.121.98
DTSTAMP:20260425T211527Z
DTSTART;TZID=Europe/Amsterdam:20061105T140000
DTEND;TZID=Europe/Amsterdam:20061105T154500
SUMMARY:K - 2. Klasse B 2006/07: Töplitsch - Egg
END:VEVENT
BEGIN:VEVENT
UID:20260425T211527UTC-61744g8ug1@85.215.121.98
DTSTAMP:20260425T211527Z
DTSTART;TZID=Europe/Amsterdam:20061112T140000
DTEND;TZID=Europe/Amsterdam:20061112T154500
SUMMARY:K - 2. Klasse B 2006/07: Egg - Ossiach
END:VEVENT
BEGIN:VEVENT
UID:20260425T211527UTC-62143dU5mN@85.215.121.98
DTSTAMP:20260425T211527Z
DTSTART;TZID=Europe/Amsterdam:20070331T160000
DTEND;TZID=Europe/Amsterdam:20070331T174500
SUMMARY:K - 2. Klasse B 2006/07: Arriach - Egg
END:VEVENT
BEGIN:VEVENT
UID:20260425T211527UTC-6222Ac9UGb@85.215.121.98
DTSTAMP:20260425T211527Z
DTSTART;TZID=Europe/Amsterdam:20070408T160000
DTEND;TZID=Europe/Amsterdam:20070408T174500
SUMMARY:K - 2. Klasse B 2006/07: Egg - Seebach
END:VEVENT
BEGIN:VEVENT
UID:20260425T211527UTC-6227u8Evpc@85.215.121.98
DTSTAMP:20260425T211527Z
DTSTART;TZID=Europe/Amsterdam:20070415T140000
DTEND;TZID=Europe/Amsterdam:20070415T154500
SUMMARY:K - 2. Klasse B 2006/07: Schiefling - Egg
END:VEVENT
BEGIN:VEVENT
UID:20260425T211527UTC-6233MkU1Uf@85.215.121.98
DTSTAMP:20260425T211527Z
DTSTART;TZID=Europe/Amsterdam:20070422T160000
DTEND;TZID=Europe/Amsterdam:20070422T174500
SUMMARY:K - 2. Klasse B 2006/07: Egg - Rosegg
END:VEVENT
BEGIN:VEVENT
UID:20260425T211527UTC-62391ioCHG@85.215.121.98
DTSTAMP:20260425T211527Z
DTSTART;TZID=Europe/Amsterdam:20070429T170000
DTEND;TZID=Europe/Amsterdam:20070429T184500
SUMMARY:K - 2. Klasse B 2006/07: Fresach - Egg
END:VEVENT
BEGIN:VEVENT
UID:20260425T211527UTC-62459scn31@85.215.121.98
DTSTAMP:20260425T211527Z
DTSTART;TZID=Europe/Amsterdam:20070504T173000
DTEND;TZID=Europe/Amsterdam:20070504T191500
SUMMARY:K - 2. Klasse B 2006/07: Egg - Bad Bleiberg
END:VEVENT
BEGIN:VEVENT
UID:20260425T211527UTC-6251HPtUox@85.215.121.98
DTSTAMP:20260425T211527Z
DTSTART;TZID=Europe/Amsterdam:20070512T173000
DTEND;TZID=Europe/Amsterdam:20070512T191500
SUMMARY:K - 2. Klasse B 2006/07: St. Jakob/Ros. - Egg
END:VEVENT
BEGIN:VEVENT
UID:20260425T211527UTC-6257FTFmpc@85.215.121.98
DTSTAMP:20260425T211527Z
DTSTART;TZID=Europe/Amsterdam:20070517T170000
DTEND;TZID=Europe/Amsterdam:20070517T184500
SUMMARY:K - 2. Klasse B 2006/07: Egg - Ferndorf
END:VEVENT
BEGIN:VEVENT
UID:20260425T211527UTC-6263mUBEZV@85.215.121.98
DTSTAMP:20260425T211527Z
DTSTART;TZID=Europe/Amsterdam:20070520T170000
DTEND;TZID=Europe/Amsterdam:20070520T184500
SUMMARY:K - 2. Klasse B 2006/07: Stockenboi - Egg
END:VEVENT
BEGIN:VEVENT
UID:20260425T211527UTC-6269AVi7xF@85.215.121.98
DTSTAMP:20260425T211527Z
DTSTART;TZID=Europe/Amsterdam:20070526T173000
DTEND;TZID=Europe/Amsterdam:20070526T191500
SUMMARY:K - 2. Klasse B 2006/07: Egg - Kleinkirchheim
END:VEVENT
BEGIN:VEVENT
UID:20260425T211527UTC-6276HJUJoh@85.215.121.98
DTSTAMP:20260425T211527Z
DTSTART;TZID=Europe/Amsterdam:20070602T173000
DTEND;TZID=Europe/Amsterdam:20070602T191500
SUMMARY:K - 2. Klasse B 2006/07: Baldramsdorf - Egg
END:VEVENT
BEGIN:VEVENT
UID:20260425T211527UTC-6282emhs5u@85.215.121.98
DTSTAMP:20260425T211527Z
DTSTART;TZID=Europe/Amsterdam:20070607T130000
DTEND;TZID=Europe/Amsterdam:20070607T144500
SUMMARY:K - 2. Klasse B 2006/07: Obermillstatt - Egg
END:VEVENT
BEGIN:VEVENT
UID:20260425T211527UTC-6288Us78IB@85.215.121.98
DTSTAMP:20260425T211527Z
DTSTART;TZID=Europe/Amsterdam:20070617T173000
DTEND;TZID=Europe/Amsterdam:20070617T191500
SUMMARY:K - 2. Klasse B 2006/07: Egg - Malta
END:VEVENT
END:VCALENDAR
