BEGIN:VCALENDAR
VERSION:2.0
PRODID:-////NONSGML kigkonsult.se iCalcreator 2.18//
X-WR-TIMEZONE:Europe/Amsterdam
BEGIN:VTIMEZONE
TZID:Europe/Amsterdam
X-LIC-LOCATION:Europe/Amsterdam
BEGIN:STANDARD
DTSTART:20121028T030000
TZOFFSETFROM:+0200
TZOFFSETTO:+0100
RDATE:20131027T030000
TZNAME:CET
END:STANDARD
BEGIN:DAYLIGHT
DTSTART:20130331T020000
TZOFFSETFROM:+0100
TZOFFSETTO:+0200
RDATE:20140330T020000
TZNAME:CEST
END:DAYLIGHT
END:VTIMEZONE
BEGIN:VEVENT
UID:20260423T200132UTC-1233IfuU0A@85.215.121.98
DTSTAMP:20260423T200132Z
DTSTART;TZID=Europe/Amsterdam:20120810T190000
DTEND;TZID=Europe/Amsterdam:20120810T203000
SUMMARY:ST - Gebietsliga West 2012/13: SU Rebenland - Preding
END:VEVENT
BEGIN:VEVENT
UID:20260423T200132UTC-1242ChVUg7@85.215.121.98
DTSTAMP:20260423T200132Z
DTSTART;TZID=Europe/Amsterdam:20120818T193000
DTEND;TZID=Europe/Amsterdam:20120818T210000
SUMMARY:ST - Gebietsliga West 2012/13: Allerheiligen II - Preding
END:VEVENT
BEGIN:VEVENT
UID:20260423T200132UTC-1254WNKDBF@85.215.121.98
DTSTAMP:20260423T200132Z
DTSTART;TZID=Europe/Amsterdam:20120823T193000
DTEND;TZID=Europe/Amsterdam:20120823T210000
SUMMARY:ST - Gebietsliga West 2012/13: Preding - USV Hengsberg
END:VEVENT
BEGIN:VEVENT
UID:20260423T200132UTC-1261AjFUGC@85.215.121.98
DTSTAMP:20260423T200132Z
DTSTART;TZID=Europe/Amsterdam:20120902T170000
DTEND;TZID=Europe/Amsterdam:20120902T183000
SUMMARY:ST - Gebietsliga West 2012/13: Groß St. Florian - Preding
END:VEVENT
BEGIN:VEVENT
UID:20260423T200132UTC-1267tHdUfx@85.215.121.98
DTSTAMP:20260423T200132Z
DTSTART;TZID=Europe/Amsterdam:20120907T190000
DTEND;TZID=Europe/Amsterdam:20120907T203000
SUMMARY:ST - Gebietsliga West 2012/13: Preding - SV Tillmitsch
END:VEVENT
BEGIN:VEVENT
UID:20260423T200132UTC-1273pjTr4n@85.215.121.98
DTSTAMP:20260423T200132Z
DTSTART;TZID=Europe/Amsterdam:20120916T160000
DTEND;TZID=Europe/Amsterdam:20120916T173000
SUMMARY:ST - Gebietsliga West 2012/13: Kainach - Preding
END:VEVENT
BEGIN:VEVENT
UID:20260423T200132UTC-1279iNJ7c1@85.215.121.98
DTSTAMP:20260423T200132Z
DTSTART;TZID=Europe/Amsterdam:20120922T160000
DTEND;TZID=Europe/Amsterdam:20120922T173000
SUMMARY:ST - Gebietsliga West 2012/13: Preding - SC Stainz 1922
END:VEVENT
BEGIN:VEVENT
UID:20260423T200132UTC-1286h3pPXs@85.215.121.98
DTSTAMP:20260423T200132Z
DTSTART;TZID=Europe/Amsterdam:20120929T160000
DTEND;TZID=Europe/Amsterdam:20120929T173000
SUMMARY:ST - Gebietsliga West 2012/13: Pölfing-Brunn - Preding
END:VEVENT
BEGIN:VEVENT
UID:20260423T200132UTC-12917UJoSZ@85.215.121.98
DTSTAMP:20260423T200132Z
DTSTART;TZID=Europe/Amsterdam:20121006T150000
DTEND;TZID=Europe/Amsterdam:20121006T163000
SUMMARY:ST - Gebietsliga West 2012/13: Preding - SC Eibiswald
END:VEVENT
BEGIN:VEVENT
UID:20260423T200132UTC-1297UA6nh6@85.215.121.98
DTSTAMP:20260423T200132Z
DTSTART;TZID=Europe/Amsterdam:20121013T160000
DTEND;TZID=Europe/Amsterdam:20121013T173000
SUMMARY:ST - Gebietsliga West 2012/13: SV Eibiswald ALT - Preding
END:VEVENT
BEGIN:VEVENT
UID:20260423T200132UTC-1303dXVuxK@85.215.121.98
DTSTAMP:20260423T200132Z
DTSTART;TZID=Europe/Amsterdam:20121020T150000
DTEND;TZID=Europe/Amsterdam:20121020T163000
SUMMARY:ST - Gebietsliga West 2012/13: Preding - Stallhofen
END:VEVENT
BEGIN:VEVENT
UID:20260423T200132UTC-1309rdfDm9@85.215.121.98
DTSTAMP:20260423T200132Z
DTSTART;TZID=Europe/Amsterdam:20121028T140000
DTEND;TZID=Europe/Amsterdam:20121028T153000
SUMMARY:ST - Gebietsliga West 2012/13: SVU Sankt Stefan ob Stainz - Preding
END:VEVENT
BEGIN:VEVENT
UID:20260423T200132UTC-1316smnzf7@85.215.121.98
DTSTAMP:20260423T200132Z
DTSTART;TZID=Europe/Amsterdam:20121103T140000
DTEND;TZID=Europe/Amsterdam:20121103T153000
SUMMARY:ST - Gebietsliga West 2012/13: Preding - Wettmannstätten
END:VEVENT
BEGIN:VEVENT
UID:20260423T200132UTC-1321w4EUm6@85.215.121.98
DTSTAMP:20260423T200132Z
DTSTART;TZID=Europe/Amsterdam:20130323T150000
DTEND;TZID=Europe/Amsterdam:20130323T163000
SUMMARY:ST - Gebietsliga West 2012/13: Preding - SU Rebenland
END:VEVENT
BEGIN:VEVENT
UID:20260423T200132UTC-1329TtoKzc@85.215.121.98
DTSTAMP:20260423T200132Z
DTSTART;TZID=Europe/Amsterdam:20130413T160000
DTEND;TZID=Europe/Amsterdam:20130413T173000
SUMMARY:ST - Gebietsliga West 2012/13: Preding - Groß St. Florian
END:VEVENT
BEGIN:VEVENT
UID:20260423T200132UTC-1334sH32CB@85.215.121.98
DTSTAMP:20260423T200132Z
DTSTART;TZID=Europe/Amsterdam:20130421T160000
DTEND;TZID=Europe/Amsterdam:20130421T173000
SUMMARY:ST - Gebietsliga West 2012/13: SV Tillmitsch - Preding
END:VEVENT
BEGIN:VEVENT
UID:20260423T200132UTC-1340BehiOe@85.215.121.98
DTSTAMP:20260423T200132Z
DTSTART;TZID=Europe/Amsterdam:20130427T170000
DTEND;TZID=Europe/Amsterdam:20130427T183000
SUMMARY:ST - Gebietsliga West 2012/13: Preding - Kainach
END:VEVENT
BEGIN:VEVENT
UID:20260423T200132UTC-1345XCPXii@85.215.121.98
DTSTAMP:20260423T200132Z
DTSTART;TZID=Europe/Amsterdam:20130501T180000
DTEND;TZID=Europe/Amsterdam:20130501T193000
SUMMARY:ST - Gebietsliga West 2012/13: Preding - Allerheiligen II
END:VEVENT
BEGIN:VEVENT
UID:20260423T200132UTC-13517vX0xv@85.215.121.98
DTSTAMP:20260423T200132Z
DTSTART;TZID=Europe/Amsterdam:20130505T170000
DTEND;TZID=Europe/Amsterdam:20130505T183000
SUMMARY:ST - Gebietsliga West 2012/13: SC Stainz 1922 - Preding
END:VEVENT
BEGIN:VEVENT
UID:20260423T200132UTC-1357cFoEpw@85.215.121.98
DTSTAMP:20260423T200132Z
DTSTART;TZID=Europe/Amsterdam:20130509T170000
DTEND;TZID=Europe/Amsterdam:20130509T183000
SUMMARY:ST - Gebietsliga West 2012/13: Preding - Pölfing-Brunn
END:VEVENT
BEGIN:VEVENT
UID:20260423T200132UTC-1363i9Vtrj@85.215.121.98
DTSTAMP:20260423T200132Z
DTSTART;TZID=Europe/Amsterdam:20130512T170000
DTEND;TZID=Europe/Amsterdam:20130512T183000
SUMMARY:ST - Gebietsliga West 2012/13: SC Eibiswald - Preding
END:VEVENT
BEGIN:VEVENT
UID:20260423T200132UTC-1368aLuJZn@85.215.121.98
DTSTAMP:20260423T200132Z
DTSTART;TZID=Europe/Amsterdam:20130517T190000
DTEND;TZID=Europe/Amsterdam:20130517T203000
SUMMARY:ST - Gebietsliga West 2012/13: USV Hengsberg - Preding
END:VEVENT
BEGIN:VEVENT
UID:20260423T200132UTC-13744HXB7e@85.215.121.98
DTSTAMP:20260423T200132Z
DTSTART;TZID=Europe/Amsterdam:20130520T170000
DTEND;TZID=Europe/Amsterdam:20130520T183000
SUMMARY:ST - Gebietsliga West 2012/13: Preding - SV Eibiswald ALT
END:VEVENT
BEGIN:VEVENT
UID:20260423T200132UTC-1380TSp0lb@85.215.121.98
DTSTAMP:20260423T200132Z
DTSTART;TZID=Europe/Amsterdam:20130526T170000
DTEND;TZID=Europe/Amsterdam:20130526T183000
SUMMARY:ST - Gebietsliga West 2012/13: Stallhofen - Preding
END:VEVENT
BEGIN:VEVENT
UID:20260423T200132UTC-1387mMnhnL@85.215.121.98
DTSTAMP:20260423T200132Z
DTSTART;TZID=Europe/Amsterdam:20130602T170000
DTEND;TZID=Europe/Amsterdam:20130602T183000
SUMMARY:ST - Gebietsliga West 2012/13: Preding - SVU Sankt Stefan ob Stainz
END:VEVENT
BEGIN:VEVENT
UID:20260423T200132UTC-1393xMIvnu@85.215.121.98
DTSTAMP:20260423T200132Z
DTSTART;TZID=Europe/Amsterdam:20130608T170000
DTEND;TZID=Europe/Amsterdam:20130608T183000
SUMMARY:ST - Gebietsliga West 2012/13: Wettmannstätten - Preding
END:VEVENT
END:VCALENDAR
