BEGIN:VCALENDAR
VERSION:2.0
PRODID:-////NONSGML kigkonsult.se iCalcreator 2.18//
X-WR-TIMEZONE:Europe/Berlin
BEGIN:VTIMEZONE
TZID:Europe/Berlin
X-LIC-LOCATION:Europe/Berlin
BEGIN:STANDARD
DTSTART:20201025T030000
TZOFFSETFROM:+0200
TZOFFSETTO:+0100
RDATE:20211031T030000
TZNAME:CET
END:STANDARD
BEGIN:DAYLIGHT
DTSTART:20210328T020000
TZOFFSETFROM:+0100
TZOFFSETTO:+0200
RDATE:20220327T020000
TZNAME:CEST
END:DAYLIGHT
END:VTIMEZONE
BEGIN:VEVENT
UID:20260424T101849UTC-3758GbX96t@85.215.121.98
DTSTAMP:20260424T101849Z
DTSTART;TZID=Europe/Berlin:20200828T193000
DTEND;TZID=Europe/Berlin:20200828T211500
SUMMARY:N - 1. Klasse Süd 2020/21: Wiesmath - Sollenau
END:VEVENT
BEGIN:VEVENT
UID:20260424T101849UTC-3895rThwUi@85.215.121.98
DTSTAMP:20260424T101849Z
DTSTART;TZID=Europe/Berlin:20200904T193000
DTEND;TZID=Europe/Berlin:20200904T211500
SUMMARY:N - 1. Klasse Süd 2020/21: USC Krumbach - Wiesmath
END:VEVENT
BEGIN:VEVENT
UID:20260424T101849UTC-3901fGmEuL@85.215.121.98
DTSTAMP:20260424T101849Z
DTSTART;TZID=Europe/Berlin:20200918T193000
DTEND;TZID=Europe/Berlin:20200918T211500
SUMMARY:N - 1. Klasse Süd 2020/21: Bad Erlach - Wiesmath
END:VEVENT
BEGIN:VEVENT
UID:20260424T101849UTC-3907A4VVJV@85.215.121.98
DTSTAMP:20260424T101849Z
DTSTART;TZID=Europe/Berlin:20200922T193000
DTEND;TZID=Europe/Berlin:20200922T211500
SUMMARY:N - 1. Klasse Süd 2020/21: Wiesmath - Neunkirchen
END:VEVENT
BEGIN:VEVENT
UID:20260424T101849UTC-3913V5A6WE@85.215.121.98
DTSTAMP:20260424T101849Z
DTSTART;TZID=Europe/Berlin:20200927T170000
DTEND;TZID=Europe/Berlin:20200927T184500
SUMMARY:N - 1. Klasse Süd 2020/21: Wiesmath - Zöbern
END:VEVENT
BEGIN:VEVENT
UID:20260424T101849UTC-39196ldN8I@85.215.121.98
DTSTAMP:20260424T101849Z
DTSTART;TZID=Europe/Berlin:20201003T153000
DTEND;TZID=Europe/Berlin:20201003T171500
SUMMARY:N - 1. Klasse Süd 2020/21: Weissenbach - Wiesmath
END:VEVENT
BEGIN:VEVENT
UID:20260424T101849UTC-392439gKBd@85.215.121.98
DTSTAMP:20260424T101849Z
DTSTART;TZID=Europe/Berlin:20201010T190000
DTEND;TZID=Europe/Berlin:20201010T204500
SUMMARY:N - 1. Klasse Süd 2020/21: Wiesmath - Grimmenstein
END:VEVENT
BEGIN:VEVENT
UID:20260424T101849UTC-3929x5kiue@85.215.121.98
DTSTAMP:20260424T101849Z
DTSTART;TZID=Europe/Berlin:20201020T200000
DTEND;TZID=Europe/Berlin:20201020T214500
SUMMARY:N - 1. Klasse Süd 2020/21: Oberwaltersdorf - Wiesmath
END:VEVENT
BEGIN:VEVENT
UID:20260424T101849UTC-3934NpVxcI@85.215.121.98
DTSTAMP:20260424T101849Z
DTSTART;TZID=Europe/Berlin:20201023T193000
DTEND;TZID=Europe/Berlin:20201023T211500
SUMMARY:N - 1. Klasse Süd 2020/21: Wiesmath - SG Traiskirchen/Tribuswinkel 
 II
END:VEVENT
BEGIN:VEVENT
UID:20260424T101849UTC-3940vHXeCZ@85.215.121.98
DTSTAMP:20260424T101849Z
DTSTART;TZID=Europe/Berlin:20201031T140000
DTEND;TZID=Europe/Berlin:20201031T154500
SUMMARY:N - 1. Klasse Süd 2020/21: Pitten - Wiesmath
END:VEVENT
BEGIN:VEVENT
UID:20260424T101849UTC-3947Ga7nMC@85.215.121.98
DTSTAMP:20260424T101849Z
DTSTART;TZID=Europe/Berlin:20201106T193000
DTEND;TZID=Europe/Berlin:20201106T211500
SUMMARY:N - 1. Klasse Süd 2020/21: Wiesmath - Hirschwang
END:VEVENT
BEGIN:VEVENT
UID:20260424T101849UTC-3952dTLZ9E@85.215.121.98
DTSTAMP:20260424T101849Z
DTSTART;TZID=Europe/Berlin:20201115T160000
DTEND;TZID=Europe/Berlin:20201115T174500
SUMMARY:N - 1. Klasse Süd 2020/21: Aspang - Wiesmath
END:VEVENT
BEGIN:VEVENT
UID:20260424T101849UTC-3958uNMl9V@85.215.121.98
DTSTAMP:20260424T101849Z
DTSTART;TZID=Europe/Berlin:20201121T140000
DTEND;TZID=Europe/Berlin:20201121T154500
SUMMARY:N - 1. Klasse Süd 2020/21: Pfaffstätten - Wiesmath
END:VEVENT
BEGIN:VEVENT
UID:20260424T101849UTC-39647OhM80@85.215.121.98
DTSTAMP:20260424T101849Z
DTSTART;TZID=Europe/Berlin:20210321T153000
DTEND;TZID=Europe/Berlin:20210321T171500
SUMMARY:N - 1. Klasse Süd 2020/21: Wiesmath - USC Krumbach
END:VEVENT
BEGIN:VEVENT
UID:20260424T101849UTC-39691nAwho@85.215.121.98
DTSTAMP:20260424T101849Z
DTSTART;TZID=Europe/Berlin:20210328T163000
DTEND;TZID=Europe/Berlin:20210328T181500
SUMMARY:N - 1. Klasse Süd 2020/21: Neunkirchen - Wiesmath
END:VEVENT
BEGIN:VEVENT
UID:20260424T101849UTC-39746UHmJW@85.215.121.98
DTSTAMP:20260424T101849Z
DTSTART;TZID=Europe/Berlin:20210404T163000
DTEND;TZID=Europe/Berlin:20210404T181500
SUMMARY:N - 1. Klasse Süd 2020/21: Wiesmath - Bad Erlach
END:VEVENT
BEGIN:VEVENT
UID:20260424T101849UTC-3979ND24vm@85.215.121.98
DTSTAMP:20260424T101849Z
DTSTART;TZID=Europe/Berlin:20210411T163000
DTEND;TZID=Europe/Berlin:20210411T181500
SUMMARY:N - 1. Klasse Süd 2020/21: Zöbern - Wiesmath
END:VEVENT
BEGIN:VEVENT
UID:20260424T101849UTC-3984nDH2Ev@85.215.121.98
DTSTAMP:20260424T101849Z
DTSTART;TZID=Europe/Berlin:20210418T163000
DTEND;TZID=Europe/Berlin:20210418T181500
SUMMARY:N - 1. Klasse Süd 2020/21: Wiesmath - Weissenbach
END:VEVENT
BEGIN:VEVENT
UID:20260424T101849UTC-3989mRtPHV@85.215.121.98
DTSTAMP:20260424T101849Z
DTSTART;TZID=Europe/Berlin:20210425T163000
DTEND;TZID=Europe/Berlin:20210425T181500
SUMMARY:N - 1. Klasse Süd 2020/21: Grimmenstein - Wiesmath
END:VEVENT
BEGIN:VEVENT
UID:20260424T101849UTC-3996mgGVZD@85.215.121.98
DTSTAMP:20260424T101849Z
DTSTART;TZID=Europe/Berlin:20210502T163000
DTEND;TZID=Europe/Berlin:20210502T181500
SUMMARY:N - 1. Klasse Süd 2020/21: Wiesmath - Oberwaltersdorf
END:VEVENT
BEGIN:VEVENT
UID:20260424T101849UTC-400183Bxtu@85.215.121.98
DTSTAMP:20260424T101849Z
DTSTART;TZID=Europe/Berlin:20210509T163000
DTEND;TZID=Europe/Berlin:20210509T181500
SUMMARY:N - 1. Klasse Süd 2020/21: SG Traiskirchen/Tribuswinkel II - Wiesma
 th
END:VEVENT
BEGIN:VEVENT
UID:20260424T101849UTC-4007h1jAL0@85.215.121.98
DTSTAMP:20260424T101849Z
DTSTART;TZID=Europe/Berlin:20210516T163000
DTEND;TZID=Europe/Berlin:20210516T181500
SUMMARY:N - 1. Klasse Süd 2020/21: Wiesmath - Pitten
END:VEVENT
BEGIN:VEVENT
UID:20260424T101849UTC-4012BojI8c@85.215.121.98
DTSTAMP:20260424T101849Z
DTSTART;TZID=Europe/Berlin:20210523T170000
DTEND;TZID=Europe/Berlin:20210523T184500
SUMMARY:N - 1. Klasse Süd 2020/21: Hirschwang - Wiesmath
END:VEVENT
BEGIN:VEVENT
UID:20260424T101849UTC-401888Cu6U@85.215.121.98
DTSTAMP:20260424T101849Z
DTSTART;TZID=Europe/Berlin:20210530T170000
DTEND;TZID=Europe/Berlin:20210530T184500
SUMMARY:N - 1. Klasse Süd 2020/21: Wiesmath - Aspang
END:VEVENT
BEGIN:VEVENT
UID:20260424T101849UTC-4022eua5t3@85.215.121.98
DTSTAMP:20260424T101849Z
DTSTART;TZID=Europe/Berlin:20210606T173000
DTEND;TZID=Europe/Berlin:20210606T191500
SUMMARY:N - 1. Klasse Süd 2020/21: Wiesmath - Pfaffstätten
END:VEVENT
BEGIN:VEVENT
UID:20260424T101849UTC-4029zxdzjp@85.215.121.98
DTSTAMP:20260424T101849Z
DTSTART;TZID=Europe/Berlin:20210613T173000
DTEND;TZID=Europe/Berlin:20210613T191500
SUMMARY:N - 1. Klasse Süd 2020/21: Sollenau - Wiesmath
END:VEVENT
END:VCALENDAR
