BEGIN:VCALENDAR
VERSION:2.0
PRODID:-////NONSGML kigkonsult.se iCalcreator 2.18//
X-WR-TIMEZONE:Europe/Berlin
BEGIN:VTIMEZONE
TZID:Europe/Berlin
X-LIC-LOCATION:Europe/Berlin
BEGIN:STANDARD
DTSTART:20201025T030000
TZOFFSETFROM:+0200
TZOFFSETTO:+0100
RDATE:20211031T030000
TZNAME:CET
END:STANDARD
BEGIN:DAYLIGHT
DTSTART:20210328T020000
TZOFFSETFROM:+0100
TZOFFSETTO:+0200
RDATE:20220327T020000
TZNAME:CEST
END:DAYLIGHT
END:VTIMEZONE
BEGIN:VEVENT
UID:20260422T075435UTC-0999ov8noU@85.215.121.98
DTSTAMP:20260422T075435Z
DTSTART;TZID=Europe/Berlin:20200801T170000
DTEND;TZID=Europe/Berlin:20200801T184500
SUMMARY:K - 1. Klasse B 2020/21: SV Wernberg - Rothenthurn
END:VEVENT
BEGIN:VEVENT
UID:20260422T075435UTC-1006sTWaEc@85.215.121.98
DTSTAMP:20260422T075435Z
DTSTART;TZID=Europe/Berlin:20200809T170000
DTEND;TZID=Europe/Berlin:20200809T184500
SUMMARY:K - 1. Klasse B 2020/21: Rennweg - SV Wernberg
END:VEVENT
BEGIN:VEVENT
UID:20260422T075435UTC-1014jlAPFM@85.215.121.98
DTSTAMP:20260422T075435Z
DTSTART;TZID=Europe/Berlin:20200815T170000
DTEND;TZID=Europe/Berlin:20200815T184500
SUMMARY:K - 1. Klasse B 2020/21: SV Wernberg - Malta
END:VEVENT
BEGIN:VEVENT
UID:20260422T075435UTC-1045bvIrtv@85.215.121.98
DTSTAMP:20260422T075435Z
DTSTART;TZID=Europe/Berlin:20200822T170000
DTEND;TZID=Europe/Berlin:20200822T184500
SUMMARY:K - 1. Klasse B 2020/21: SV Wernberg - VSV
END:VEVENT
BEGIN:VEVENT
UID:20260422T075435UTC-1052PNozZv@85.215.121.98
DTSTAMP:20260422T075435Z
DTSTART;TZID=Europe/Berlin:20200905T160000
DTEND;TZID=Europe/Berlin:20200905T174500
SUMMARY:K - 1. Klasse B 2020/21: SV Wernberg - SG ASKÖ Schiefling/ASKÖ St. 
 Egyden
END:VEVENT
BEGIN:VEVENT
UID:20260422T075435UTC-1058FOtpBH@85.215.121.98
DTSTAMP:20260422T075435Z
DTSTART;TZID=Europe/Berlin:20200909T171500
DTEND;TZID=Europe/Berlin:20200909T190000
SUMMARY:K - 1. Klasse B 2020/21: Faakersee - SV Wernberg
END:VEVENT
BEGIN:VEVENT
UID:20260422T075435UTC-1065aLwa2j@85.215.121.98
DTSTAMP:20260422T075435Z
DTSTART;TZID=Europe/Berlin:20200913T163000
DTEND;TZID=Europe/Berlin:20200913T181500
SUMMARY:K - 1. Klasse B 2020/21: Feffernitz - SV Wernberg
END:VEVENT
BEGIN:VEVENT
UID:20260422T075435UTC-1074xK5VFA@85.215.121.98
DTSTAMP:20260422T075435Z
DTSTART;TZID=Europe/Berlin:20200919T160000
DTEND;TZID=Europe/Berlin:20200919T174500
SUMMARY:K - 1. Klasse B 2020/21: SV Wernberg - Gmünd 1b
END:VEVENT
BEGIN:VEVENT
UID:20260422T075435UTC-1155CsuRJM@85.215.121.98
DTSTAMP:20260422T075435Z
DTSTART;TZID=Europe/Berlin:20200926T160000
DTEND;TZID=Europe/Berlin:20200926T174500
SUMMARY:K - 1. Klasse B 2020/21: Magdalen - SV Wernberg
END:VEVENT
BEGIN:VEVENT
UID:20260422T075435UTC-1165UlFmvv@85.215.121.98
DTSTAMP:20260422T075435Z
DTSTART;TZID=Europe/Berlin:20201003T150000
DTEND;TZID=Europe/Berlin:20201003T164500
SUMMARY:K - 1. Klasse B 2020/21: SV Wernberg - Maria Gail
END:VEVENT
BEGIN:VEVENT
UID:20260422T075435UTC-1171NIpknz@85.215.121.98
DTSTAMP:20260422T075435Z
DTSTART;TZID=Europe/Berlin:20201010T153000
DTEND;TZID=Europe/Berlin:20201010T171500
SUMMARY:K - 1. Klasse B 2020/21: Nötsch - SV Wernberg
END:VEVENT
BEGIN:VEVENT
UID:20260422T075435UTC-12356kv4O5@85.215.121.98
DTSTAMP:20260422T075435Z
DTSTART;TZID=Europe/Berlin:20201017T150000
DTEND;TZID=Europe/Berlin:20201017T164500
SUMMARY:K - 1. Klasse B 2020/21: SV Wernberg - Stockenboi
END:VEVENT
BEGIN:VEVENT
UID:20260422T075435UTC-1274NoOfAP@85.215.121.98
DTSTAMP:20260422T075435Z
DTSTART;TZID=Europe/Berlin:20201031T150000
DTEND;TZID=Europe/Berlin:20201031T164500
SUMMARY:K - 1. Klasse B 2020/21: Atus Velden - SV Wernberg
END:VEVENT
BEGIN:VEVENT
UID:20260422T075435UTC-1314KIm3E7@85.215.121.98
DTSTAMP:20260422T075435Z
DTSTART;TZID=Europe/Berlin:20210321T230000
DTEND;TZID=Europe/Berlin:20210322T004500
SUMMARY:K - 1. Klasse B 2020/21: Rothenthurn - SV Wernberg
END:VEVENT
BEGIN:VEVENT
UID:20260422T075435UTC-1324aCb6N1@85.215.121.98
DTSTAMP:20260422T075435Z
DTSTART;TZID=Europe/Berlin:20210328T230000
DTEND;TZID=Europe/Berlin:20210329T004500
SUMMARY:K - 1. Klasse B 2020/21: SV Wernberg - Rennweg
END:VEVENT
BEGIN:VEVENT
UID:20260422T075435UTC-1364saxjDu@85.215.121.98
DTSTAMP:20260422T075435Z
DTSTART;TZID=Europe/Berlin:20210403T143000
DTEND;TZID=Europe/Berlin:20210403T161500
SUMMARY:K - 1. Klasse B 2020/21: Malta - SV Wernberg
END:VEVENT
BEGIN:VEVENT
UID:20260422T075435UTC-1370CcIFuj@85.215.121.98
DTSTAMP:20260422T075435Z
DTSTART;TZID=Europe/Berlin:20210410T160000
DTEND;TZID=Europe/Berlin:20210410T174500
SUMMARY:K - 1. Klasse B 2020/21: VSV - SV Wernberg
END:VEVENT
BEGIN:VEVENT
UID:20260422T075435UTC-1376vbstaV@85.215.121.98
DTSTAMP:20260422T075435Z
DTSTART;TZID=Europe/Berlin:20210418T230000
DTEND;TZID=Europe/Berlin:20210419T004500
SUMMARY:K - 1. Klasse B 2020/21: SV Wernberg - Faakersee
END:VEVENT
BEGIN:VEVENT
UID:20260422T075435UTC-1382lorBUV@85.215.121.98
DTSTAMP:20260422T075435Z
DTSTART;TZID=Europe/Berlin:20210424T153000
DTEND;TZID=Europe/Berlin:20210424T171500
SUMMARY:K - 1. Klasse B 2020/21: SG ASKÖ Schiefling/ASKÖ St. Egyden - SV We
 rnberg
END:VEVENT
BEGIN:VEVENT
UID:20260422T075435UTC-1388OhuoxG@85.215.121.98
DTSTAMP:20260422T075435Z
DTSTART;TZID=Europe/Berlin:20210502T230000
DTEND;TZID=Europe/Berlin:20210503T004500
SUMMARY:K - 1. Klasse B 2020/21: SV Wernberg - Feffernitz
END:VEVENT
BEGIN:VEVENT
UID:20260422T075435UTC-1395adSk1B@85.215.121.98
DTSTAMP:20260422T075435Z
DTSTART;TZID=Europe/Berlin:20210509T230000
DTEND;TZID=Europe/Berlin:20210510T004500
SUMMARY:K - 1. Klasse B 2020/21: Gmünd 1b - SV Wernberg
END:VEVENT
BEGIN:VEVENT
UID:20260422T075435UTC-1402HePj3e@85.215.121.98
DTSTAMP:20260422T075435Z
DTSTART;TZID=Europe/Berlin:20210513T230000
DTEND;TZID=Europe/Berlin:20210514T004500
SUMMARY:K - 1. Klasse B 2020/21: SV Wernberg - Magdalen
END:VEVENT
BEGIN:VEVENT
UID:20260422T075435UTC-140817jDvc@85.215.121.98
DTSTAMP:20260422T075435Z
DTSTART;TZID=Europe/Berlin:20210516T103000
DTEND;TZID=Europe/Berlin:20210516T121500
SUMMARY:K - 1. Klasse B 2020/21: Maria Gail - SV Wernberg
END:VEVENT
BEGIN:VEVENT
UID:20260422T075435UTC-1414ld8Bd9@85.215.121.98
DTSTAMP:20260422T075435Z
DTSTART;TZID=Europe/Berlin:20210523T230000
DTEND;TZID=Europe/Berlin:20210524T004500
SUMMARY:K - 1. Klasse B 2020/21: SV Wernberg - Nötsch
END:VEVENT
BEGIN:VEVENT
UID:20260422T075435UTC-1444vPHFpP@85.215.121.98
DTSTAMP:20260422T075435Z
DTSTART;TZID=Europe/Berlin:20210530T230000
DTEND;TZID=Europe/Berlin:20210531T004500
SUMMARY:K - 1. Klasse B 2020/21: Stockenboi - SV Wernberg
END:VEVENT
BEGIN:VEVENT
UID:20260422T075435UTC-1451wcV1zM@85.215.121.98
DTSTAMP:20260422T075435Z
DTSTART;TZID=Europe/Berlin:20210606T230000
DTEND;TZID=Europe/Berlin:20210607T004500
SUMMARY:K - 1. Klasse B 2020/21: SV Wernberg - Atus Velden
END:VEVENT
END:VCALENDAR
