BEGIN:VCALENDAR
VERSION:2.0
PRODID:-////NONSGML kigkonsult.se iCalcreator 2.18//
X-WR-TIMEZONE:Europe/Berlin
BEGIN:VTIMEZONE
TZID:Europe/Berlin
X-LIC-LOCATION:Europe/Berlin
BEGIN:STANDARD
DTSTART:20191027T030000
TZOFFSETFROM:+0200
TZOFFSETTO:+0100
RDATE:20201025T030000
TZNAME:CET
END:STANDARD
BEGIN:DAYLIGHT
DTSTART:20200329T020000
TZOFFSETFROM:+0100
TZOFFSETTO:+0200
RDATE:20210328T020000
TZNAME:CEST
END:DAYLIGHT
END:VTIMEZONE
BEGIN:VEVENT
UID:20260419T202706UTC-7395WulVDk@85.215.121.98
DTSTAMP:20260419T202706Z
DTSTART;TZID=Europe/Berlin:20190727T173000
DTEND;TZID=Europe/Berlin:20190727T191500
SUMMARY:K - 2. Klasse D 2019/20: St. Paul - Frantschach
END:VEVENT
BEGIN:VEVENT
UID:20260419T202706UTC-7487iBGZTI@85.215.121.98
DTSTAMP:20260419T202706Z
DTSTART;TZID=Europe/Berlin:20190804T140000
DTEND;TZID=Europe/Berlin:20190804T154500
SUMMARY:K - 2. Klasse D 2019/20: Frantschach - Reichenfels
END:VEVENT
BEGIN:VEVENT
UID:20260419T202706UTC-7493Ho2M0b@85.215.121.98
DTSTAMP:20260419T202706Z
DTSTART;TZID=Europe/Berlin:20190810T170000
DTEND;TZID=Europe/Berlin:20190810T184500
SUMMARY:K - 2. Klasse D 2019/20: Maria Rojach - Frantschach
END:VEVENT
BEGIN:VEVENT
UID:20260419T202706UTC-7500kv6VHk@85.215.121.98
DTSTAMP:20260419T202706Z
DTSTART;TZID=Europe/Berlin:20190818T170000
DTEND;TZID=Europe/Berlin:20190818T184500
SUMMARY:K - 2. Klasse D 2019/20: Frantschach - SG SV Magdalensberg/ASKÖ Pog
 gersdorf Youngsters
END:VEVENT
BEGIN:VEVENT
UID:20260419T202706UTC-7505wxEaFE@85.215.121.98
DTSTAMP:20260419T202706Z
DTSTART;TZID=Europe/Berlin:20190824T173000
DTEND;TZID=Europe/Berlin:20190824T191500
SUMMARY:K - 2. Klasse D 2019/20: Preitenegg - Frantschach
END:VEVENT
BEGIN:VEVENT
UID:20260419T202706UTC-751205NMhD@85.215.121.98
DTSTAMP:20260419T202706Z
DTSTART;TZID=Europe/Berlin:20190901T170000
DTEND;TZID=Europe/Berlin:20190901T184500
SUMMARY:K - 2. Klasse D 2019/20: Frantschach - SG Annabichler Austria Amate
 ure
END:VEVENT
BEGIN:VEVENT
UID:20260419T202706UTC-7517gmuzzk@85.215.121.98
DTSTAMP:20260419T202706Z
DTSTART;TZID=Europe/Berlin:20190908T160000
DTEND;TZID=Europe/Berlin:20190908T174500
SUMMARY:K - 2. Klasse D 2019/20: Frantschach - KAC 1909 Juniors
END:VEVENT
BEGIN:VEVENT
UID:20260419T202706UTC-7523gu1LSr@85.215.121.98
DTSTAMP:20260419T202706Z
DTSTART;TZID=Europe/Berlin:20190915T160000
DTEND;TZID=Europe/Berlin:20190915T174500
SUMMARY:K - 2. Klasse D 2019/20: Frantschach - St. Paul
END:VEVENT
BEGIN:VEVENT
UID:20260419T202706UTC-7528iAUwWo@85.215.121.98
DTSTAMP:20260419T202706Z
DTSTART;TZID=Europe/Berlin:20190921T160000
DTEND;TZID=Europe/Berlin:20190921T174500
SUMMARY:K - 2. Klasse D 2019/20: Reichenfels - Frantschach
END:VEVENT
BEGIN:VEVENT
UID:20260419T202706UTC-7534GX782C@85.215.121.98
DTSTAMP:20260419T202706Z
DTSTART;TZID=Europe/Berlin:20190928T160000
DTEND;TZID=Europe/Berlin:20190928T174500
SUMMARY:K - 2. Klasse D 2019/20: Frantschach - Maria Rojach
END:VEVENT
BEGIN:VEVENT
UID:20260419T202706UTC-7539MCVotn@85.215.121.98
DTSTAMP:20260419T202706Z
DTSTART;TZID=Europe/Berlin:20191005T160000
DTEND;TZID=Europe/Berlin:20191005T174500
SUMMARY:K - 2. Klasse D 2019/20: SG SV Magdalensberg/ASKÖ Poggersdorf Young
 sters - Frantschach
END:VEVENT
BEGIN:VEVENT
UID:20260419T202706UTC-7545jVkWVV@85.215.121.98
DTSTAMP:20260419T202706Z
DTSTART;TZID=Europe/Berlin:20191012T150000
DTEND;TZID=Europe/Berlin:20191012T164500
SUMMARY:K - 2. Klasse D 2019/20: Frantschach - Preitenegg
END:VEVENT
BEGIN:VEVENT
UID:20260419T202706UTC-7550aX7wnn@85.215.121.98
DTSTAMP:20260419T202706Z
DTSTART;TZID=Europe/Berlin:20191019T160000
DTEND;TZID=Europe/Berlin:20191019T174500
SUMMARY:K - 2. Klasse D 2019/20: SG Annabichler Austria Amateure - Frantsch
 ach
END:VEVENT
BEGIN:VEVENT
UID:20260419T202706UTC-7556RlZZmo@85.215.121.98
DTSTAMP:20260419T202706Z
DTSTART;TZID=Europe/Berlin:20191027T140000
DTEND;TZID=Europe/Berlin:20191027T154500
SUMMARY:K - 2. Klasse D 2019/20: KAC 1909 Juniors - Frantschach
END:VEVENT
BEGIN:VEVENT
UID:20260419T202706UTC-7562isc5um@85.215.121.98
DTSTAMP:20260419T202706Z
DTSTART;TZID=Europe/Berlin:20191102T143000
DTEND;TZID=Europe/Berlin:20191102T161500
SUMMARY:K - 2. Klasse D 2019/20: St. Paul - Frantschach
END:VEVENT
BEGIN:VEVENT
UID:20260419T202706UTC-75683OExUp@85.215.121.98
DTSTAMP:20260419T202706Z
DTSTART;TZID=Europe/Berlin:20200329T230000
DTEND;TZID=Europe/Berlin:20200330T004500
SUMMARY:K - 2. Klasse D 2019/20: Frantschach - Reichenfels
END:VEVENT
BEGIN:VEVENT
UID:20260419T202706UTC-7573nEjhB2@85.215.121.98
DTSTAMP:20260419T202706Z
DTSTART;TZID=Europe/Berlin:20200405T230000
DTEND;TZID=Europe/Berlin:20200406T004500
SUMMARY:K - 2. Klasse D 2019/20: Maria Rojach - Frantschach
END:VEVENT
BEGIN:VEVENT
UID:20260419T202706UTC-757963TU0w@85.215.121.98
DTSTAMP:20260419T202706Z
DTSTART;TZID=Europe/Berlin:20200412T230000
DTEND;TZID=Europe/Berlin:20200413T004500
SUMMARY:K - 2. Klasse D 2019/20: Frantschach - SG SV Magdalensberg/ASKÖ Pog
 gersdorf Youngsters
END:VEVENT
BEGIN:VEVENT
UID:20260419T202706UTC-7585OKk85v@85.215.121.98
DTSTAMP:20260419T202706Z
DTSTART;TZID=Europe/Berlin:20200419T230000
DTEND;TZID=Europe/Berlin:20200420T004500
SUMMARY:K - 2. Klasse D 2019/20: Preitenegg - Frantschach
END:VEVENT
BEGIN:VEVENT
UID:20260419T202706UTC-7591i1lU6C@85.215.121.98
DTSTAMP:20260419T202706Z
DTSTART;TZID=Europe/Berlin:20200426T230000
DTEND;TZID=Europe/Berlin:20200427T004500
SUMMARY:K - 2. Klasse D 2019/20: Frantschach - SG Annabichler Austria Amate
 ure
END:VEVENT
BEGIN:VEVENT
UID:20260419T202706UTC-7596UwDoGN@85.215.121.98
DTSTAMP:20260419T202706Z
DTSTART;TZID=Europe/Berlin:20200501T230000
DTEND;TZID=Europe/Berlin:20200502T004500
SUMMARY:K - 2. Klasse D 2019/20: Frantschach - KAC 1909 Juniors
END:VEVENT
BEGIN:VEVENT
UID:20260419T202706UTC-7602GXvG74@85.215.121.98
DTSTAMP:20260419T202706Z
DTSTART;TZID=Europe/Berlin:20200503T230000
DTEND;TZID=Europe/Berlin:20200504T004500
SUMMARY:K - 2. Klasse D 2019/20: Frantschach - St. Paul
END:VEVENT
BEGIN:VEVENT
UID:20260419T202706UTC-76082TUt4P@85.215.121.98
DTSTAMP:20260419T202706Z
DTSTART;TZID=Europe/Berlin:20200510T230000
DTEND;TZID=Europe/Berlin:20200511T004500
SUMMARY:K - 2. Klasse D 2019/20: Reichenfels - Frantschach
END:VEVENT
BEGIN:VEVENT
UID:20260419T202706UTC-7616kNKDjw@85.215.121.98
DTSTAMP:20260419T202706Z
DTSTART;TZID=Europe/Berlin:20200517T230000
DTEND;TZID=Europe/Berlin:20200518T004500
SUMMARY:K - 2. Klasse D 2019/20: Frantschach - Maria Rojach
END:VEVENT
BEGIN:VEVENT
UID:20260419T202706UTC-7622UgpCf5@85.215.121.98
DTSTAMP:20260419T202706Z
DTSTART;TZID=Europe/Berlin:20200524T230000
DTEND;TZID=Europe/Berlin:20200525T004500
SUMMARY:K - 2. Klasse D 2019/20: SG SV Magdalensberg/ASKÖ Poggersdorf Young
 sters - Frantschach
END:VEVENT
BEGIN:VEVENT
UID:20260419T202706UTC-76274CU21V@85.215.121.98
DTSTAMP:20260419T202706Z
DTSTART;TZID=Europe/Berlin:20200531T230000
DTEND;TZID=Europe/Berlin:20200601T004500
SUMMARY:K - 2. Klasse D 2019/20: Frantschach - Preitenegg
END:VEVENT
BEGIN:VEVENT
UID:20260419T202706UTC-763309oGsU@85.215.121.98
DTSTAMP:20260419T202706Z
DTSTART;TZID=Europe/Berlin:20200607T230000
DTEND;TZID=Europe/Berlin:20200608T004500
SUMMARY:K - 2. Klasse D 2019/20: SG Annabichler Austria Amateure - Frantsch
 ach
END:VEVENT
BEGIN:VEVENT
UID:20260419T202706UTC-7638x3V6MR@85.215.121.98
DTSTAMP:20260419T202706Z
DTSTART;TZID=Europe/Berlin:20200614T230000
DTEND;TZID=Europe/Berlin:20200615T004500
SUMMARY:K - 2. Klasse D 2019/20: KAC 1909 Juniors - Frantschach
END:VEVENT
END:VCALENDAR
