BEGIN:VCALENDAR
VERSION:2.0
PRODID:-////NONSGML kigkonsult.se iCalcreator 2.18//
X-WR-TIMEZONE:Europe/Amsterdam
BEGIN:VTIMEZONE
TZID:Europe/Amsterdam
X-LIC-LOCATION:Europe/Amsterdam
BEGIN:STANDARD
DTSTART:20111030T030000
TZOFFSETFROM:+0200
TZOFFSETTO:+0100
RDATE:20121028T030000
TZNAME:CET
END:STANDARD
BEGIN:DAYLIGHT
DTSTART:20120325T020000
TZOFFSETFROM:+0100
TZOFFSETTO:+0200
RDATE:20130331T020000
TZNAME:CEST
END:DAYLIGHT
END:VTIMEZONE
BEGIN:VEVENT
UID:20260420T084948UTC-6377vo3eni@85.215.121.98
DTSTAMP:20260420T084948Z
DTSTART;TZID=Europe/Amsterdam:20110903T140000
DTEND;TZID=Europe/Amsterdam:20110903T154000
SUMMARY:W - 1. Klasse B 2011/12: Dynamo Wollers - UFK Schwemm
END:VEVENT
BEGIN:VEVENT
UID:20260420T084948UTC-6383smULdx@85.215.121.98
DTSTAMP:20260420T084948Z
DTSTART;TZID=Europe/Amsterdam:20110910T130000
DTEND;TZID=Europe/Amsterdam:20110910T144000
SUMMARY:W - 1. Klasse B 2011/12: UFK Schwemm - AC Shqiponja Wien
END:VEVENT
BEGIN:VEVENT
UID:20260420T084948UTC-6389ZLGV1i@85.215.121.98
DTSTAMP:20260420T084948Z
DTSTART;TZID=Europe/Amsterdam:20110917T140000
DTEND;TZID=Europe/Amsterdam:20110917T154000
SUMMARY:W - 1. Klasse B 2011/12: Elite - UFK Schwemm
END:VEVENT
BEGIN:VEVENT
UID:20260420T084948UTC-6395VTev39@85.215.121.98
DTSTAMP:20260420T084948Z
DTSTART;TZID=Europe/Amsterdam:20110925T090000
DTEND;TZID=Europe/Amsterdam:20110925T104000
SUMMARY:W - 1. Klasse B 2011/12: UFK Schwemm - Vorwärts Brigittenau
END:VEVENT
BEGIN:VEVENT
UID:20260420T084948UTC-6403edzU5e@85.215.121.98
DTSTAMP:20260420T084948Z
DTSTART;TZID=Europe/Amsterdam:20111002T140000
DTEND;TZID=Europe/Amsterdam:20111002T154000
SUMMARY:W - 1. Klasse B 2011/12: Lindenhof ISG - UFK Schwemm
END:VEVENT
BEGIN:VEVENT
UID:20260420T084948UTC-6408m7d78f@85.215.121.98
DTSTAMP:20260420T084948Z
DTSTART;TZID=Europe/Amsterdam:20111008T140000
DTEND;TZID=Europe/Amsterdam:20111008T154000
SUMMARY:W - 1. Klasse B 2011/12: UFK Schwemm - Währing-Döbling
END:VEVENT
BEGIN:VEVENT
UID:20260420T084948UTC-6415Lo7vvv@85.215.121.98
DTSTAMP:20260420T084948Z
DTSTART;TZID=Europe/Amsterdam:20111015T140000
DTEND;TZID=Europe/Amsterdam:20111015T154000
SUMMARY:W - 1. Klasse B 2011/12: SG Inter AGO - UFK Schwemm
END:VEVENT
BEGIN:VEVENT
UID:20260420T084948UTC-6420flmnBD@85.215.121.98
DTSTAMP:20260420T084948Z
DTSTART;TZID=Europe/Amsterdam:20111022T130000
DTEND;TZID=Europe/Amsterdam:20111022T144000
SUMMARY:W - 1. Klasse B 2011/12: UFK Schwemm - Mariahilf
END:VEVENT
BEGIN:VEVENT
UID:20260420T084948UTC-6425crWKhm@85.215.121.98
DTSTAMP:20260420T084948Z
DTSTART;TZID=Europe/Amsterdam:20111030T140000
DTEND;TZID=Europe/Amsterdam:20111030T154000
SUMMARY:W - 1. Klasse B 2011/12: Alianza Latina - UFK Schwemm
END:VEVENT
BEGIN:VEVENT
UID:20260420T084948UTC-6430D4uMFM@85.215.121.98
DTSTAMP:20260420T084948Z
DTSTART;TZID=Europe/Amsterdam:20111105T130000
DTEND;TZID=Europe/Amsterdam:20111105T144000
SUMMARY:W - 1. Klasse B 2011/12: UFK Schwemm - Marswiese
END:VEVENT
BEGIN:VEVENT
UID:20260420T084948UTC-6436bsLKwA@85.215.121.98
DTSTAMP:20260420T084948Z
DTSTART;TZID=Europe/Amsterdam:20111113T130000
DTEND;TZID=Europe/Amsterdam:20111113T144000
SUMMARY:W - 1. Klasse B 2011/12: NAFA - UFK Schwemm
END:VEVENT
BEGIN:VEVENT
UID:20260420T084948UTC-6441aWjKSv@85.215.121.98
DTSTAMP:20260420T084948Z
DTSTART;TZID=Europe/Amsterdam:20111119T130000
DTEND;TZID=Europe/Amsterdam:20111119T144000
SUMMARY:W - 1. Klasse B 2011/12: Süssenbrunn - UFK Schwemm
END:VEVENT
BEGIN:VEVENT
UID:20260420T084948UTC-6449wlKGnX@85.215.121.98
DTSTAMP:20260420T084948Z
DTSTART;TZID=Europe/Amsterdam:20111126T130000
DTEND;TZID=Europe/Amsterdam:20111126T144000
SUMMARY:W - 1. Klasse B 2011/12: UFK Schwemm - Columbia Floridsdorf 1b
END:VEVENT
BEGIN:VEVENT
UID:20260420T084948UTC-6454HTjGGt@85.215.121.98
DTSTAMP:20260420T084948Z
DTSTART;TZID=Europe/Amsterdam:20120317T150000
DTEND;TZID=Europe/Amsterdam:20120317T164000
SUMMARY:W - 1. Klasse B 2011/12: UFK Schwemm - Dynamo Wollers
END:VEVENT
BEGIN:VEVENT
UID:20260420T084948UTC-6458XLC7Mm@85.215.121.98
DTSTAMP:20260420T084948Z
DTSTART;TZID=Europe/Amsterdam:20120325T140000
DTEND;TZID=Europe/Amsterdam:20120325T154000
SUMMARY:W - 1. Klasse B 2011/12: AC Shqiponja Wien - UFK Schwemm
END:VEVENT
BEGIN:VEVENT
UID:20260420T084948UTC-6465NgPUpN@85.215.121.98
DTSTAMP:20260420T084948Z
DTSTART;TZID=Europe/Amsterdam:20120331T140000
DTEND;TZID=Europe/Amsterdam:20120331T154000
SUMMARY:W - 1. Klasse B 2011/12: UFK Schwemm - Elite
END:VEVENT
BEGIN:VEVENT
UID:20260420T084948UTC-647037jIPU@85.215.121.98
DTSTAMP:20260420T084948Z
DTSTART;TZID=Europe/Amsterdam:20120415T083000
DTEND;TZID=Europe/Amsterdam:20120415T101000
SUMMARY:W - 1. Klasse B 2011/12: Vorwärts Brigittenau - UFK Schwemm
END:VEVENT
BEGIN:VEVENT
UID:20260420T084948UTC-6478nisgr3@85.215.121.98
DTSTAMP:20260420T084948Z
DTSTART;TZID=Europe/Amsterdam:20120421T150000
DTEND;TZID=Europe/Amsterdam:20120421T164000
SUMMARY:W - 1. Klasse B 2011/12: UFK Schwemm - Lindenhof ISG
END:VEVENT
BEGIN:VEVENT
UID:20260420T084948UTC-6484xga8fi@85.215.121.98
DTSTAMP:20260420T084948Z
DTSTART;TZID=Europe/Amsterdam:20120429T210000
DTEND;TZID=Europe/Amsterdam:20120429T224000
SUMMARY:W - 1. Klasse B 2011/12: Währing-Döbling - UFK Schwemm
END:VEVENT
BEGIN:VEVENT
UID:20260420T084948UTC-6492KWBhxk@85.215.121.98
DTSTAMP:20260420T084948Z
DTSTART;TZID=Europe/Amsterdam:20120505T150000
DTEND;TZID=Europe/Amsterdam:20120505T164000
SUMMARY:W - 1. Klasse B 2011/12: UFK Schwemm - SG Inter AGO
END:VEVENT
BEGIN:VEVENT
UID:20260420T084948UTC-64978bu2rO@85.215.121.98
DTSTAMP:20260420T084948Z
DTSTART;TZID=Europe/Amsterdam:20120512T140000
DTEND;TZID=Europe/Amsterdam:20120512T154000
SUMMARY:W - 1. Klasse B 2011/12: Mariahilf - UFK Schwemm
END:VEVENT
BEGIN:VEVENT
UID:20260420T084948UTC-6507rvzldk@85.215.121.98
DTSTAMP:20260420T084948Z
DTSTART;TZID=Europe/Amsterdam:20120519T150000
DTEND;TZID=Europe/Amsterdam:20120519T164000
SUMMARY:W - 1. Klasse B 2011/12: UFK Schwemm - Alianza Latina
END:VEVENT
BEGIN:VEVENT
UID:20260420T084948UTC-6511J8Mos5@85.215.121.98
DTSTAMP:20260420T084948Z
DTSTART;TZID=Europe/Amsterdam:20120602T143000
DTEND;TZID=Europe/Amsterdam:20120602T161000
SUMMARY:W - 1. Klasse B 2011/12: Marswiese - UFK Schwemm
END:VEVENT
BEGIN:VEVENT
UID:20260420T084948UTC-6516Vo1j6s@85.215.121.98
DTSTAMP:20260420T084948Z
DTSTART;TZID=Europe/Amsterdam:20120609T150000
DTEND;TZID=Europe/Amsterdam:20120609T164000
SUMMARY:W - 1. Klasse B 2011/12: UFK Schwemm - NAFA
END:VEVENT
BEGIN:VEVENT
UID:20260420T084948UTC-6522r9emvv@85.215.121.98
DTSTAMP:20260420T084948Z
DTSTART;TZID=Europe/Amsterdam:20120617T083000
DTEND;TZID=Europe/Amsterdam:20120617T101000
SUMMARY:W - 1. Klasse B 2011/12: UFK Schwemm - Süssenbrunn
END:VEVENT
BEGIN:VEVENT
UID:20260420T084948UTC-6527Ctv573@85.215.121.98
DTSTAMP:20260420T084948Z
DTSTART;TZID=Europe/Amsterdam:20120623T150000
DTEND;TZID=Europe/Amsterdam:20120623T164000
SUMMARY:W - 1. Klasse B 2011/12: Columbia Floridsdorf 1b - UFK Schwemm
END:VEVENT
END:VCALENDAR
