BEGIN:VCALENDAR
VERSION:2.0
PRODID:-////NONSGML kigkonsult.se iCalcreator 2.18//
X-WR-TIMEZONE:Europe/Amsterdam
BEGIN:VTIMEZONE
TZID:Europe/Amsterdam
X-LIC-LOCATION:Europe/Amsterdam
BEGIN:STANDARD
DTSTART:20131027T030000
TZOFFSETFROM:+0200
TZOFFSETTO:+0100
RDATE:20141026T030000
TZNAME:CET
END:STANDARD
BEGIN:DAYLIGHT
DTSTART:20140330T020000
TZOFFSETFROM:+0100
TZOFFSETTO:+0200
RDATE:20150329T020000
TZNAME:CEST
END:DAYLIGHT
END:VTIMEZONE
BEGIN:VEVENT
UID:20260422T195430UTC-5769upKK8N@85.215.121.98
DTSTAMP:20260422T195430Z
DTSTART;TZID=Europe/Amsterdam:20130804T150000
DTEND;TZID=Europe/Amsterdam:20130804T164000
SUMMARY:B - 2. Klasse Süd A 2013/14: Zuberbach - Bernstein
END:VEVENT
BEGIN:VEVENT
UID:20260422T195430UTC-5777gJihoF@85.215.121.98
DTSTAMP:20260422T195430Z
DTSTART;TZID=Europe/Amsterdam:20130810T150000
DTEND;TZID=Europe/Amsterdam:20130810T164000
SUMMARY:B - 2. Klasse Süd A 2013/14: Bernstein - Bad Tatzmannsdorf
END:VEVENT
BEGIN:VEVENT
UID:20260422T195430UTC-5814CBFFCp@85.215.121.98
DTSTAMP:20260422T195430Z
DTSTART;TZID=Europe/Amsterdam:20130818T150000
DTEND;TZID=Europe/Amsterdam:20130818T164000
SUMMARY:B - 2. Klasse Süd A 2013/14: Hannersdorf - Bernstein
END:VEVENT
BEGIN:VEVENT
UID:20260422T195430UTC-5824aDFnhG@85.215.121.98
DTSTAMP:20260422T195430Z
DTSTART;TZID=Europe/Amsterdam:20130824T150000
DTEND;TZID=Europe/Amsterdam:20130824T164000
SUMMARY:B - 2. Klasse Süd A 2013/14: Bernstein - Redlschlag
END:VEVENT
BEGIN:VEVENT
UID:20260422T195430UTC-5831Uv6FdV@85.215.121.98
DTSTAMP:20260422T195430Z
DTSTART;TZID=Europe/Amsterdam:20130901T140000
DTEND;TZID=Europe/Amsterdam:20130901T154000
SUMMARY:B - 2. Klasse Süd A 2013/14: Oberwart 1b - Bernstein
END:VEVENT
BEGIN:VEVENT
UID:20260422T195430UTC-5839aJab9I@85.215.121.98
DTSTAMP:20260422T195430Z
DTSTART;TZID=Europe/Amsterdam:20130908T140000
DTEND;TZID=Europe/Amsterdam:20130908T154000
SUMMARY:B - 2. Klasse Süd A 2013/14: Bernstein - Markt Neuhodis
END:VEVENT
BEGIN:VEVENT
UID:20260422T195430UTC-5846UGKHcF@85.215.121.98
DTSTAMP:20260422T195430Z
DTSTART;TZID=Europe/Amsterdam:20130915T140000
DTEND;TZID=Europe/Amsterdam:20130915T154000
SUMMARY:B - 2. Klasse Süd A 2013/14: Bernstein - Mariasdorf
END:VEVENT
BEGIN:VEVENT
UID:20260422T195430UTC-5857PuSG1P@85.215.121.98
DTSTAMP:20260422T195430Z
DTSTART;TZID=Europe/Amsterdam:20130922T140000
DTEND;TZID=Europe/Amsterdam:20130922T154000
SUMMARY:B - 2. Klasse Süd A 2013/14: Schachendorf - Bernstein
END:VEVENT
BEGIN:VEVENT
UID:20260422T195430UTC-5871avjcHi@85.215.121.98
DTSTAMP:20260422T195430Z
DTSTART;TZID=Europe/Amsterdam:20130929T130000
DTEND;TZID=Europe/Amsterdam:20130929T144000
SUMMARY:B - 2. Klasse Süd A 2013/14: Bernstein - Unterwart
END:VEVENT
BEGIN:VEVENT
UID:20260422T195430UTC-5914r1R3HT@85.215.121.98
DTSTAMP:20260422T195430Z
DTSTART;TZID=Europe/Amsterdam:20131006T130000
DTEND;TZID=Europe/Amsterdam:20131006T144000
SUMMARY:B - 2. Klasse Süd A 2013/14: Kroisegg - Bernstein
END:VEVENT
BEGIN:VEVENT
UID:20260422T195430UTC-5923e4I5zC@85.215.121.98
DTSTAMP:20260422T195430Z
DTSTART;TZID=Europe/Amsterdam:20131012T130000
DTEND;TZID=Europe/Amsterdam:20131012T144000
SUMMARY:B - 2. Klasse Süd A 2013/14: Bernstein - Deutsch Schützen
END:VEVENT
BEGIN:VEVENT
UID:20260422T195430UTC-5933EeK08u@85.215.121.98
DTSTAMP:20260422T195430Z
DTSTART;TZID=Europe/Amsterdam:20131019T140000
DTEND;TZID=Europe/Amsterdam:20131019T154000
SUMMARY:B - 2. Klasse Süd A 2013/14: Jabing - Bernstein
END:VEVENT
BEGIN:VEVENT
UID:20260422T195430UTC-5951s5Omu6@85.215.121.98
DTSTAMP:20260422T195430Z
DTSTART;TZID=Europe/Amsterdam:20131027T130000
DTEND;TZID=Europe/Amsterdam:20131027T144000
SUMMARY:B - 2. Klasse Süd A 2013/14: Bernstein - Siget
END:VEVENT
BEGIN:VEVENT
UID:20260422T195430UTC-5984GvSFrJ@85.215.121.98
DTSTAMP:20260422T195430Z
DTSTART;TZID=Europe/Amsterdam:20131102T130000
DTEND;TZID=Europe/Amsterdam:20131102T144000
SUMMARY:B - 2. Klasse Süd A 2013/14: Loipersdorf-Kitzladen - Bernstein
END:VEVENT
BEGIN:VEVENT
UID:20260422T195430UTC-5992h7Zucp@85.215.121.98
DTSTAMP:20260422T195430Z
DTSTART;TZID=Europe/Amsterdam:20131109T130000
DTEND;TZID=Europe/Amsterdam:20131109T144000
SUMMARY:B - 2. Klasse Süd A 2013/14: Bernstein - Hochart
END:VEVENT
BEGIN:VEVENT
UID:20260422T195430UTC-5999zLXFzs@85.215.121.98
DTSTAMP:20260422T195430Z
DTSTART;TZID=Europe/Amsterdam:20140308T140000
DTEND;TZID=Europe/Amsterdam:20140308T154000
SUMMARY:B - 2. Klasse Süd A 2013/14: Bad Tatzmannsdorf - Bernstein
END:VEVENT
BEGIN:VEVENT
UID:20260422T195430UTC-6006FIzghp@85.215.121.98
DTSTAMP:20260422T195430Z
DTSTART;TZID=Europe/Amsterdam:20140316T140000
DTEND;TZID=Europe/Amsterdam:20140316T154000
SUMMARY:B - 2. Klasse Süd A 2013/14: Bernstein - Hannersdorf
END:VEVENT
BEGIN:VEVENT
UID:20260422T195430UTC-6012g5Xx5c@85.215.121.98
DTSTAMP:20260422T195430Z
DTSTART;TZID=Europe/Amsterdam:20140322T140000
DTEND;TZID=Europe/Amsterdam:20140322T154000
SUMMARY:B - 2. Klasse Süd A 2013/14: Redlschlag - Bernstein
END:VEVENT
BEGIN:VEVENT
UID:20260422T195430UTC-6020xTTj5T@85.215.121.98
DTSTAMP:20260422T195430Z
DTSTART;TZID=Europe/Amsterdam:20140329T150000
DTEND;TZID=Europe/Amsterdam:20140329T164000
SUMMARY:B - 2. Klasse Süd A 2013/14: Bernstein - Oberwart 1b
END:VEVENT
BEGIN:VEVENT
UID:20260422T195430UTC-60296HRUC4@85.215.121.98
DTSTAMP:20260422T195430Z
DTSTART;TZID=Europe/Amsterdam:20140405T140000
DTEND;TZID=Europe/Amsterdam:20140405T154000
SUMMARY:B - 2. Klasse Süd A 2013/14: Markt Neuhodis - Bernstein
END:VEVENT
BEGIN:VEVENT
UID:20260422T195430UTC-6037hjs6Vu@85.215.121.98
DTSTAMP:20260422T195430Z
DTSTART;TZID=Europe/Amsterdam:20140413T140000
DTEND;TZID=Europe/Amsterdam:20140413T154000
SUMMARY:B - 2. Klasse Süd A 2013/14: Mariasdorf - Bernstein
END:VEVENT
BEGIN:VEVENT
UID:20260422T195430UTC-6265JUmpvh@85.215.121.98
DTSTAMP:20260422T195430Z
DTSTART;TZID=Europe/Amsterdam:20140419T140000
DTEND;TZID=Europe/Amsterdam:20140419T154000
SUMMARY:B - 2. Klasse Süd A 2013/14: Bernstein - Schachendorf
END:VEVENT
BEGIN:VEVENT
UID:20260422T195430UTC-6273ZV1FXK@85.215.121.98
DTSTAMP:20260422T195430Z
DTSTART;TZID=Europe/Amsterdam:20140427T140000
DTEND;TZID=Europe/Amsterdam:20140427T154000
SUMMARY:B - 2. Klasse Süd A 2013/14: Unterwart - Bernstein
END:VEVENT
BEGIN:VEVENT
UID:20260422T195430UTC-6349ho4gvf@85.215.121.98
DTSTAMP:20260422T195430Z
DTSTART;TZID=Europe/Amsterdam:20140503T150000
DTEND;TZID=Europe/Amsterdam:20140503T164000
SUMMARY:B - 2. Klasse Süd A 2013/14: Bernstein - Kroisegg
END:VEVENT
BEGIN:VEVENT
UID:20260422T195430UTC-6385ZAavAG@85.215.121.98
DTSTAMP:20260422T195430Z
DTSTART;TZID=Europe/Amsterdam:20140525T150000
DTEND;TZID=Europe/Amsterdam:20140525T164000
SUMMARY:B - 2. Klasse Süd A 2013/14: Siget - Bernstein
END:VEVENT
BEGIN:VEVENT
UID:20260422T195430UTC-6392ADT3aU@85.215.121.98
DTSTAMP:20260422T195430Z
DTSTART;TZID=Europe/Amsterdam:20140529T150000
DTEND;TZID=Europe/Amsterdam:20140529T164000
SUMMARY:B - 2. Klasse Süd A 2013/14: Bernstein - Jabing
END:VEVENT
BEGIN:VEVENT
UID:20260422T195430UTC-6400evAhPJ@85.215.121.98
DTSTAMP:20260422T195430Z
DTSTART;TZID=Europe/Amsterdam:20140601T150000
DTEND;TZID=Europe/Amsterdam:20140601T164000
SUMMARY:B - 2. Klasse Süd A 2013/14: Bernstein - Loipersdorf-Kitzladen
END:VEVENT
BEGIN:VEVENT
UID:20260422T195430UTC-6409IujS7R@85.215.121.98
DTSTAMP:20260422T195430Z
DTSTART;TZID=Europe/Amsterdam:20140607T150000
DTEND;TZID=Europe/Amsterdam:20140607T164000
SUMMARY:B - 2. Klasse Süd A 2013/14: Hochart - Bernstein
END:VEVENT
BEGIN:VEVENT
UID:20260422T195430UTC-6424TALxvF@85.215.121.98
DTSTAMP:20260422T195430Z
DTSTART;TZID=Europe/Amsterdam:20140609T150000
DTEND;TZID=Europe/Amsterdam:20140609T164000
SUMMARY:B - 2. Klasse Süd A 2013/14: Deutsch Schützen - Bernstein
END:VEVENT
BEGIN:VEVENT
UID:20260422T195430UTC-6430nIROTE@85.215.121.98
DTSTAMP:20260422T195430Z
DTSTART;TZID=Europe/Amsterdam:20140614T150000
DTEND;TZID=Europe/Amsterdam:20140614T164000
SUMMARY:B - 2. Klasse Süd A 2013/14: Bernstein - Zuberbach
END:VEVENT
END:VCALENDAR
