BEGIN:VCALENDAR
VERSION:2.0
PRODID:-////NONSGML kigkonsult.se iCalcreator 2.18//
X-WR-TIMEZONE:Europe/Amsterdam
BEGIN:VTIMEZONE
TZID:Europe/Amsterdam
X-LIC-LOCATION:Europe/Amsterdam
BEGIN:STANDARD
DTSTART:20111030T030000
TZOFFSETFROM:+0200
TZOFFSETTO:+0100
RDATE:20121028T030000
TZNAME:CET
END:STANDARD
BEGIN:DAYLIGHT
DTSTART:20120325T020000
TZOFFSETFROM:+0100
TZOFFSETTO:+0200
RDATE:20130331T020000
TZNAME:CEST
END:DAYLIGHT
END:VTIMEZONE
BEGIN:VEVENT
UID:20260423T024449UTC-9204SEAMA0@85.215.121.98
DTSTAMP:20260423T024449Z
DTSTART;TZID=Europe/Amsterdam:20110814T150000
DTEND;TZID=Europe/Amsterdam:20110814T164000
SUMMARY:B - 2. Klasse Süd A 2011/12: Deutsch Schützen - Siget
END:VEVENT
BEGIN:VEVENT
UID:20260423T024449UTC-9331RhLMEa@85.215.121.98
DTSTAMP:20260423T024449Z
DTSTART;TZID=Europe/Amsterdam:20110821T150000
DTEND;TZID=Europe/Amsterdam:20110821T164000
SUMMARY:B - 2. Klasse Süd A 2011/12: Redlschlag - Siget
END:VEVENT
BEGIN:VEVENT
UID:20260423T024449UTC-9341MO6jVA@85.215.121.98
DTSTAMP:20260423T024449Z
DTSTART;TZID=Europe/Amsterdam:20110828T150000
DTEND;TZID=Europe/Amsterdam:20110828T164000
SUMMARY:B - 2. Klasse Süd A 2011/12: Siget - Loipersdorf-Kitzladen
END:VEVENT
BEGIN:VEVENT
UID:20260423T024449UTC-9351HVBjeG@85.215.121.98
DTSTAMP:20260423T024449Z
DTSTART;TZID=Europe/Amsterdam:20110904T140000
DTEND;TZID=Europe/Amsterdam:20110904T154000
SUMMARY:B - 2. Klasse Süd A 2011/12: Hochart - Siget
END:VEVENT
BEGIN:VEVENT
UID:20260423T024449UTC-9357OmcnhF@85.215.121.98
DTSTAMP:20260423T024449Z
DTSTART;TZID=Europe/Amsterdam:20110911T140000
DTEND;TZID=Europe/Amsterdam:20110911T154000
SUMMARY:B - 2. Klasse Süd A 2011/12: Siget - Markt Neuhodis
END:VEVENT
BEGIN:VEVENT
UID:20260423T024449UTC-9370KU9ZuT@85.215.121.98
DTSTAMP:20260423T024449Z
DTSTART;TZID=Europe/Amsterdam:20110918T140000
DTEND;TZID=Europe/Amsterdam:20110918T154000
SUMMARY:B - 2. Klasse Süd A 2011/12: Bernstein - Siget
END:VEVENT
BEGIN:VEVENT
UID:20260423T024449UTC-9375niou3m@85.215.121.98
DTSTAMP:20260423T024449Z
DTSTART;TZID=Europe/Amsterdam:20110925T140000
DTEND;TZID=Europe/Amsterdam:20110925T154000
SUMMARY:B - 2. Klasse Süd A 2011/12: Siget - Mischendorf
END:VEVENT
BEGIN:VEVENT
UID:20260423T024449UTC-9381gPUwv5@85.215.121.98
DTSTAMP:20260423T024449Z
DTSTART;TZID=Europe/Amsterdam:20111002T130000
DTEND;TZID=Europe/Amsterdam:20111002T144000
SUMMARY:B - 2. Klasse Süd A 2011/12: Mariasdorf - Siget
END:VEVENT
BEGIN:VEVENT
UID:20260423T024449UTC-9386XAUA3M@85.215.121.98
DTSTAMP:20260423T024449Z
DTSTART;TZID=Europe/Amsterdam:20111009T130000
DTEND;TZID=Europe/Amsterdam:20111009T144000
SUMMARY:B - 2. Klasse Süd A 2011/12: Siget - Kroisegg
END:VEVENT
BEGIN:VEVENT
UID:20260423T024449UTC-93939bUf3N@85.215.121.98
DTSTAMP:20260423T024449Z
DTSTART;TZID=Europe/Amsterdam:20111016T130000
DTEND;TZID=Europe/Amsterdam:20111016T144000
SUMMARY:B - 2. Klasse Süd A 2011/12: Zuberbach - Siget
END:VEVENT
BEGIN:VEVENT
UID:20260423T024449UTC-94018xcuTj@85.215.121.98
DTSTAMP:20260423T024449Z
DTSTART;TZID=Europe/Amsterdam:20111022T130000
DTEND;TZID=Europe/Amsterdam:20111022T144000
SUMMARY:B - 2. Klasse Süd A 2011/12: Siget - Unterwart
END:VEVENT
BEGIN:VEVENT
UID:20260423T024449UTC-9409vTctDZ@85.215.121.98
DTSTAMP:20260423T024449Z
DTSTART;TZID=Europe/Amsterdam:20120401T140000
DTEND;TZID=Europe/Amsterdam:20120401T154000
SUMMARY:B - 2. Klasse Süd A 2011/12: Siget - Deutsch Schützen
END:VEVENT
BEGIN:VEVENT
UID:20260423T024449UTC-9414DW2UlL@85.215.121.98
DTSTAMP:20260423T024449Z
DTSTART;TZID=Europe/Amsterdam:20120407T140000
DTEND;TZID=Europe/Amsterdam:20120407T154000
SUMMARY:B - 2. Klasse Süd A 2011/12: Siget - Redlschlag
END:VEVENT
BEGIN:VEVENT
UID:20260423T024449UTC-942018ScJ3@85.215.121.98
DTSTAMP:20260423T024449Z
DTSTART;TZID=Europe/Amsterdam:20120415T140000
DTEND;TZID=Europe/Amsterdam:20120415T154000
SUMMARY:B - 2. Klasse Süd A 2011/12: Loipersdorf-Kitzladen - Siget
END:VEVENT
BEGIN:VEVENT
UID:20260423T024449UTC-9427nmnpIB@85.215.121.98
DTSTAMP:20260423T024449Z
DTSTART;TZID=Europe/Amsterdam:20120422T140000
DTEND;TZID=Europe/Amsterdam:20120422T154000
SUMMARY:B - 2. Klasse Süd A 2011/12: Siget - Hochart
END:VEVENT
BEGIN:VEVENT
UID:20260423T024449UTC-9434HFv0E2@85.215.121.98
DTSTAMP:20260423T024449Z
DTSTART;TZID=Europe/Amsterdam:20120429T140000
DTEND;TZID=Europe/Amsterdam:20120429T154000
SUMMARY:B - 2. Klasse Süd A 2011/12: Markt Neuhodis - Siget
END:VEVENT
BEGIN:VEVENT
UID:20260423T024449UTC-9439elBkuR@85.215.121.98
DTSTAMP:20260423T024449Z
DTSTART;TZID=Europe/Amsterdam:20120506T150000
DTEND;TZID=Europe/Amsterdam:20120506T164000
SUMMARY:B - 2. Klasse Süd A 2011/12: Siget - Bernstein
END:VEVENT
BEGIN:VEVENT
UID:20260423T024449UTC-9444e1H2VV@85.215.121.98
DTSTAMP:20260423T024449Z
DTSTART;TZID=Europe/Amsterdam:20120512T150000
DTEND;TZID=Europe/Amsterdam:20120512T164000
SUMMARY:B - 2. Klasse Süd A 2011/12: Mischendorf - Siget
END:VEVENT
BEGIN:VEVENT
UID:20260423T024449UTC-94507fdG6i@85.215.121.98
DTSTAMP:20260423T024449Z
DTSTART;TZID=Europe/Amsterdam:20120520T150000
DTEND;TZID=Europe/Amsterdam:20120520T164000
SUMMARY:B - 2. Klasse Süd A 2011/12: Siget - Mariasdorf
END:VEVENT
BEGIN:VEVENT
UID:20260423T024449UTC-9457KFu4z7@85.215.121.98
DTSTAMP:20260423T024449Z
DTSTART;TZID=Europe/Amsterdam:20120527T150000
DTEND;TZID=Europe/Amsterdam:20120527T164000
SUMMARY:B - 2. Klasse Süd A 2011/12: Kroisegg - Siget
END:VEVENT
BEGIN:VEVENT
UID:20260423T024449UTC-9461jFaoUd@85.215.121.98
DTSTAMP:20260423T024449Z
DTSTART;TZID=Europe/Amsterdam:20120603T150000
DTEND;TZID=Europe/Amsterdam:20120603T164000
SUMMARY:B - 2. Klasse Süd A 2011/12: Siget - Zuberbach
END:VEVENT
BEGIN:VEVENT
UID:20260423T024449UTC-9467o2HE1d@85.215.121.98
DTSTAMP:20260423T024449Z
DTSTART;TZID=Europe/Amsterdam:20120610T150000
DTEND;TZID=Europe/Amsterdam:20120610T164000
SUMMARY:B - 2. Klasse Süd A 2011/12: Unterwart - Siget
END:VEVENT
END:VCALENDAR
