BEGIN:VCALENDAR
VERSION:2.0
PRODID:-////NONSGML kigkonsult.se iCalcreator 2.18//
X-WR-TIMEZONE:Europe/Amsterdam
BEGIN:VTIMEZONE
TZID:Europe/Amsterdam
X-LIC-LOCATION:Europe/Amsterdam
BEGIN:STANDARD
DTSTART:20081026T030000
TZOFFSETFROM:+0200
TZOFFSETTO:+0100
RDATE:20091025T030000
TZNAME:CET
END:STANDARD
BEGIN:DAYLIGHT
DTSTART:20090329T020000
TZOFFSETFROM:+0100
TZOFFSETTO:+0200
RDATE:20100328T020000
TZNAME:CEST
END:DAYLIGHT
END:VTIMEZONE
BEGIN:VEVENT
UID:20260423T040352UTC-3027sfvM9C@85.215.121.98
DTSTAMP:20260423T040352Z
DTSTART;TZID=Europe/Amsterdam:20080817T150000
DTEND;TZID=Europe/Amsterdam:20080817T164000
SUMMARY:B - 2. Klasse Süd A 2008/09: Bernstein - Goberling
END:VEVENT
BEGIN:VEVENT
UID:20260423T040352UTC-3149XW6v4G@85.215.121.98
DTSTAMP:20260423T040352Z
DTSTART;TZID=Europe/Amsterdam:20080824T150000
DTEND;TZID=Europe/Amsterdam:20080824T164000
SUMMARY:B - 2. Klasse Süd A 2008/09: Kroisegg - Bernstein
END:VEVENT
BEGIN:VEVENT
UID:20260423T040352UTC-3160uvHBXM@85.215.121.98
DTSTAMP:20260423T040352Z
DTSTART;TZID=Europe/Amsterdam:20080831T150000
DTEND;TZID=Europe/Amsterdam:20080831T164000
SUMMARY:B - 2. Klasse Süd A 2008/09: Bernstein - Siget
END:VEVENT
BEGIN:VEVENT
UID:20260423T040352UTC-3170itVbEd@85.215.121.98
DTSTAMP:20260423T040352Z
DTSTART;TZID=Europe/Amsterdam:20080907T140000
DTEND;TZID=Europe/Amsterdam:20080907T154000
SUMMARY:B - 2. Klasse Süd A 2008/09: Redlschlag - Bernstein
END:VEVENT
BEGIN:VEVENT
UID:20260423T040352UTC-3179JNzKmu@85.215.121.98
DTSTAMP:20260423T040352Z
DTSTART;TZID=Europe/Amsterdam:20080914T140000
DTEND;TZID=Europe/Amsterdam:20080914T154000
SUMMARY:B - 2. Klasse Süd A 2008/09: Bernstein - Unterwart
END:VEVENT
BEGIN:VEVENT
UID:20260423T040352UTC-3189Kk7jD5@85.215.121.98
DTSTAMP:20260423T040352Z
DTSTART;TZID=Europe/Amsterdam:20080921T140000
DTEND;TZID=Europe/Amsterdam:20080921T154000
SUMMARY:B - 2. Klasse Süd A 2008/09: Markt Neuhodis - Bernstein
END:VEVENT
BEGIN:VEVENT
UID:20260423T040352UTC-3199JPOmr8@85.215.121.98
DTSTAMP:20260423T040352Z
DTSTART;TZID=Europe/Amsterdam:20080928T140000
DTEND;TZID=Europe/Amsterdam:20080928T154000
SUMMARY:B - 2. Klasse Süd A 2008/09: Bernstein - Hochart
END:VEVENT
BEGIN:VEVENT
UID:20260423T040352UTC-3211uBOaHo@85.215.121.98
DTSTAMP:20260423T040352Z
DTSTART;TZID=Europe/Amsterdam:20081005T130000
DTEND;TZID=Europe/Amsterdam:20081005T144000
SUMMARY:B - 2. Klasse Süd A 2008/09: Zuberbach - Bernstein
END:VEVENT
BEGIN:VEVENT
UID:20260423T040352UTC-3219x3iH2O@85.215.121.98
DTSTAMP:20260423T040352Z
DTSTART;TZID=Europe/Amsterdam:20081012T130000
DTEND;TZID=Europe/Amsterdam:20081012T144000
SUMMARY:B - 2. Klasse Süd A 2008/09: Bernstein - Deutsch Schützen
END:VEVENT
BEGIN:VEVENT
UID:20260423T040352UTC-3228X8UDVU@85.215.121.98
DTSTAMP:20260423T040352Z
DTSTART;TZID=Europe/Amsterdam:20081019T130000
DTEND;TZID=Europe/Amsterdam:20081019T144000
SUMMARY:B - 2. Klasse Süd A 2008/09: Bernstein - Badersdorf
END:VEVENT
BEGIN:VEVENT
UID:20260423T040352UTC-3239mElK9I@85.215.121.98
DTSTAMP:20260423T040352Z
DTSTART;TZID=Europe/Amsterdam:20081026T140000
DTEND;TZID=Europe/Amsterdam:20081026T154000
SUMMARY:B - 2. Klasse Süd A 2008/09: Loipersdorf-Kitzladen - Bernstein
END:VEVENT
BEGIN:VEVENT
UID:20260423T040352UTC-3273uoukKg@85.215.121.98
DTSTAMP:20260423T040352Z
DTSTART;TZID=Europe/Amsterdam:20090329T130000
DTEND;TZID=Europe/Amsterdam:20090329T144000
SUMMARY:B - 2. Klasse Süd A 2008/09: Goberling - Bernstein
END:VEVENT
BEGIN:VEVENT
UID:20260423T040352UTC-3284E7B939@85.215.121.98
DTSTAMP:20260423T040352Z
DTSTART;TZID=Europe/Amsterdam:20090405T140000
DTEND;TZID=Europe/Amsterdam:20090405T154000
SUMMARY:B - 2. Klasse Süd A 2008/09: Bernstein - Kroisegg
END:VEVENT
BEGIN:VEVENT
UID:20260423T040352UTC-3293bKwMAM@85.215.121.98
DTSTAMP:20260423T040352Z
DTSTART;TZID=Europe/Amsterdam:20090411T140000
DTEND;TZID=Europe/Amsterdam:20090411T154000
SUMMARY:B - 2. Klasse Süd A 2008/09: Siget - Bernstein
END:VEVENT
BEGIN:VEVENT
UID:20260423T040352UTC-33010DHopu@85.215.121.98
DTSTAMP:20260423T040352Z
DTSTART;TZID=Europe/Amsterdam:20090419T140000
DTEND;TZID=Europe/Amsterdam:20090419T154000
SUMMARY:B - 2. Klasse Süd A 2008/09: Bernstein - Redlschlag
END:VEVENT
BEGIN:VEVENT
UID:20260423T040352UTC-3308omeujm@85.215.121.98
DTSTAMP:20260423T040352Z
DTSTART;TZID=Europe/Amsterdam:20090426T140000
DTEND;TZID=Europe/Amsterdam:20090426T154000
SUMMARY:B - 2. Klasse Süd A 2008/09: Unterwart - Bernstein
END:VEVENT
BEGIN:VEVENT
UID:20260423T040352UTC-3315vGHe9a@85.215.121.98
DTSTAMP:20260423T040352Z
DTSTART;TZID=Europe/Amsterdam:20090503T140000
DTEND;TZID=Europe/Amsterdam:20090503T154000
SUMMARY:B - 2. Klasse Süd A 2008/09: Bernstein - Markt Neuhodis
END:VEVENT
BEGIN:VEVENT
UID:20260423T040352UTC-3324walVcf@85.215.121.98
DTSTAMP:20260423T040352Z
DTSTART;TZID=Europe/Amsterdam:20090510T150000
DTEND;TZID=Europe/Amsterdam:20090510T164000
SUMMARY:B - 2. Klasse Süd A 2008/09: Hochart - Bernstein
END:VEVENT
BEGIN:VEVENT
UID:20260423T040352UTC-3331XkMjxO@85.215.121.98
DTSTAMP:20260423T040352Z
DTSTART;TZID=Europe/Amsterdam:20090517T150000
DTEND;TZID=Europe/Amsterdam:20090517T164000
SUMMARY:B - 2. Klasse Süd A 2008/09: Bernstein - Zuberbach
END:VEVENT
BEGIN:VEVENT
UID:20260423T040352UTC-3337SvAd85@85.215.121.98
DTSTAMP:20260423T040352Z
DTSTART;TZID=Europe/Amsterdam:20090524T150000
DTEND;TZID=Europe/Amsterdam:20090524T164000
SUMMARY:B - 2. Klasse Süd A 2008/09: Deutsch Schützen - Bernstein
END:VEVENT
BEGIN:VEVENT
UID:20260423T040352UTC-3344UzBggD@85.215.121.98
DTSTAMP:20260423T040352Z
DTSTART;TZID=Europe/Amsterdam:20090531T150000
DTEND;TZID=Europe/Amsterdam:20090531T164000
SUMMARY:B - 2. Klasse Süd A 2008/09: Badersdorf - Bernstein
END:VEVENT
BEGIN:VEVENT
UID:20260423T040352UTC-3350gSeP6e@85.215.121.98
DTSTAMP:20260423T040352Z
DTSTART;TZID=Europe/Amsterdam:20090607T150000
DTEND;TZID=Europe/Amsterdam:20090607T164000
SUMMARY:B - 2. Klasse Süd A 2008/09: Bernstein - Loipersdorf-Kitzladen
END:VEVENT
END:VCALENDAR
