BEGIN:VCALENDAR
VERSION:2.0
PRODID:-////NONSGML kigkonsult.se iCalcreator 2.18//
X-WR-TIMEZONE:Europe/Amsterdam
BEGIN:VTIMEZONE
TZID:Europe/Amsterdam
X-LIC-LOCATION:Europe/Amsterdam
BEGIN:STANDARD
DTSTART:20171029T030000
TZOFFSETFROM:+0200
TZOFFSETTO:+0100
RDATE:20181028T030000
TZNAME:CET
END:STANDARD
BEGIN:DAYLIGHT
DTSTART:20180325T020000
TZOFFSETFROM:+0100
TZOFFSETTO:+0200
RDATE:20190331T020000
TZNAME:CEST
END:DAYLIGHT
END:VTIMEZONE
BEGIN:VEVENT
UID:20260426T011432UTC-5096em8n5V@85.215.121.98
DTSTAMP:20260426T011432Z
DTSTART;TZID=Europe/Amsterdam:20170806T173000
DTEND;TZID=Europe/Amsterdam:20170806T191000
SUMMARY:K - 1. Klasse A 2017/18: Irschen - Tristach
END:VEVENT
BEGIN:VEVENT
UID:20260426T011432UTC-5102SJKn3V@85.215.121.98
DTSTAMP:20260426T011432Z
DTSTART;TZID=Europe/Amsterdam:20170812T170000
DTEND;TZID=Europe/Amsterdam:20170812T184000
SUMMARY:K - 1. Klasse A 2017/18: Tristach - Gmünd 1b
END:VEVENT
BEGIN:VEVENT
UID:20260426T011432UTC-5107DDXd6W@85.215.121.98
DTSTAMP:20260426T011432Z
DTSTART;TZID=Europe/Amsterdam:20170815T230000
DTEND;TZID=Europe/Amsterdam:20170816T004000
SUMMARY:K - 1. Klasse A 2017/18: Oberlienz - Tristach
END:VEVENT
BEGIN:VEVENT
UID:20260426T011432UTC-5112jkwwvv@85.215.121.98
DTSTAMP:20260426T011432Z
DTSTART;TZID=Europe/Amsterdam:20170819T170000
DTEND;TZID=Europe/Amsterdam:20170819T184000
SUMMARY:K - 1. Klasse A 2017/18: Tristach - TSU Virgen
END:VEVENT
BEGIN:VEVENT
UID:20260426T011432UTC-511729d7lu@85.215.121.98
DTSTAMP:20260426T011432Z
DTSTART;TZID=Europe/Amsterdam:20170826T180000
DTEND;TZID=Europe/Amsterdam:20170826T194000
SUMMARY:K - 1. Klasse A 2017/18: Sillian - Tristach
END:VEVENT
BEGIN:VEVENT
UID:20260426T011432UTC-5122S0UdUR@85.215.121.98
DTSTAMP:20260426T011432Z
DTSTART;TZID=Europe/Amsterdam:20170902T170000
DTEND;TZID=Europe/Amsterdam:20170902T184000
SUMMARY:K - 1. Klasse A 2017/18: Tristach - Matrei i.O. 1b
END:VEVENT
BEGIN:VEVENT
UID:20260426T011432UTC-51274I8Fzk@85.215.121.98
DTSTAMP:20260426T011432Z
DTSTART;TZID=Europe/Amsterdam:20170909T163000
DTEND;TZID=Europe/Amsterdam:20170909T181000
SUMMARY:K - 1. Klasse A 2017/18: Prägraten - Tristach
END:VEVENT
BEGIN:VEVENT
UID:20260426T011432UTC-5135zcv6Df@85.215.121.98
DTSTAMP:20260426T011432Z
DTSTART;TZID=Europe/Amsterdam:20170917T170000
DTEND;TZID=Europe/Amsterdam:20170917T184000
SUMMARY:K - 1. Klasse A 2017/18: Tristach - Malta
END:VEVENT
BEGIN:VEVENT
UID:20260426T011432UTC-5140Ju8iae@85.215.121.98
DTSTAMP:20260426T011432Z
DTSTART;TZID=Europe/Amsterdam:20170924T160000
DTEND;TZID=Europe/Amsterdam:20170924T174000
SUMMARY:K - 1. Klasse A 2017/18: Hermagor - Tristach
END:VEVENT
BEGIN:VEVENT
UID:20260426T011432UTC-51463FCevS@85.215.121.98
DTSTAMP:20260426T011432Z
DTSTART;TZID=Europe/Amsterdam:20170930T160000
DTEND;TZID=Europe/Amsterdam:20170930T174000
SUMMARY:K - 1. Klasse A 2017/18: Tristach - Dölsach
END:VEVENT
BEGIN:VEVENT
UID:20260426T011432UTC-5151h7IlMi@85.215.121.98
DTSTAMP:20260426T011432Z
DTSTART;TZID=Europe/Amsterdam:20171007T163000
DTEND;TZID=Europe/Amsterdam:20171007T181000
SUMMARY:K - 1. Klasse A 2017/18: Thal/Assling - Tristach
END:VEVENT
BEGIN:VEVENT
UID:20260426T011432UTC-5157GTFzlm@85.215.121.98
DTSTAMP:20260426T011432Z
DTSTART;TZID=Europe/Amsterdam:20171015T160000
DTEND;TZID=Europe/Amsterdam:20171015T174000
SUMMARY:K - 1. Klasse A 2017/18: Tristach - SK Kirchbach
END:VEVENT
BEGIN:VEVENT
UID:20260426T011432UTC-51620VNeBt@85.215.121.98
DTSTAMP:20260426T011432Z
DTSTART;TZID=Europe/Amsterdam:20171021T150000
DTEND;TZID=Europe/Amsterdam:20171021T164000
SUMMARY:K - 1. Klasse A 2017/18: Mölltal - Tristach
END:VEVENT
BEGIN:VEVENT
UID:20260426T011432UTC-5171hEAULx@85.215.121.98
DTSTAMP:20260426T011432Z
DTSTART;TZID=Europe/Amsterdam:20171028T153000
DTEND;TZID=Europe/Amsterdam:20171028T171000
SUMMARY:K - 1. Klasse A 2017/18: Tristach - Nikolsdorf
END:VEVENT
BEGIN:VEVENT
UID:20260426T011432UTC-5178h8Db3e@85.215.121.98
DTSTAMP:20260426T011432Z
DTSTART;TZID=Europe/Amsterdam:20180325T230000
DTEND;TZID=Europe/Amsterdam:20180326T004000
SUMMARY:K - 1. Klasse A 2017/18: Tristach - Irschen
END:VEVENT
BEGIN:VEVENT
UID:20260426T011432UTC-5183UzzrMv@85.215.121.98
DTSTAMP:20260426T011432Z
DTSTART;TZID=Europe/Amsterdam:20180401T230000
DTEND;TZID=Europe/Amsterdam:20180402T004000
SUMMARY:K - 1. Klasse A 2017/18: Gmünd 1b - Tristach
END:VEVENT
BEGIN:VEVENT
UID:20260426T011432UTC-5189Ebf1oL@85.215.121.98
DTSTAMP:20260426T011432Z
DTSTART;TZID=Europe/Amsterdam:20180408T230000
DTEND;TZID=Europe/Amsterdam:20180409T004000
SUMMARY:K - 1. Klasse A 2017/18: Tristach - Oberlienz
END:VEVENT
BEGIN:VEVENT
UID:20260426T011432UTC-5195k9UuHR@85.215.121.98
DTSTAMP:20260426T011432Z
DTSTART;TZID=Europe/Amsterdam:20180415T230000
DTEND;TZID=Europe/Amsterdam:20180416T004000
SUMMARY:K - 1. Klasse A 2017/18: TSU Virgen - Tristach
END:VEVENT
BEGIN:VEVENT
UID:20260426T011432UTC-5201sP0AXA@85.215.121.98
DTSTAMP:20260426T011432Z
DTSTART;TZID=Europe/Amsterdam:20180422T230000
DTEND;TZID=Europe/Amsterdam:20180423T004000
SUMMARY:K - 1. Klasse A 2017/18: Tristach - Sillian
END:VEVENT
BEGIN:VEVENT
UID:20260426T011432UTC-5206ZwDVM8@85.215.121.98
DTSTAMP:20260426T011432Z
DTSTART;TZID=Europe/Amsterdam:20180429T230000
DTEND;TZID=Europe/Amsterdam:20180430T004000
SUMMARY:K - 1. Klasse A 2017/18: Matrei i.O. 1b - Tristach
END:VEVENT
BEGIN:VEVENT
UID:20260426T011432UTC-5211L4oKvH@85.215.121.98
DTSTAMP:20260426T011432Z
DTSTART;TZID=Europe/Amsterdam:20180506T230000
DTEND;TZID=Europe/Amsterdam:20180507T004000
SUMMARY:K - 1. Klasse A 2017/18: Tristach - Prägraten
END:VEVENT
BEGIN:VEVENT
UID:20260426T011432UTC-5217xdcBZ8@85.215.121.98
DTSTAMP:20260426T011432Z
DTSTART;TZID=Europe/Amsterdam:20180510T230000
DTEND;TZID=Europe/Amsterdam:20180511T004000
SUMMARY:K - 1. Klasse A 2017/18: Malta - Tristach
END:VEVENT
BEGIN:VEVENT
UID:20260426T011432UTC-5222eKotRV@85.215.121.98
DTSTAMP:20260426T011432Z
DTSTART;TZID=Europe/Amsterdam:20180513T230000
DTEND;TZID=Europe/Amsterdam:20180514T004000
SUMMARY:K - 1. Klasse A 2017/18: Tristach - Hermagor
END:VEVENT
BEGIN:VEVENT
UID:20260426T011432UTC-52274kibZ1@85.215.121.98
DTSTAMP:20260426T011432Z
DTSTART;TZID=Europe/Amsterdam:20180520T230000
DTEND;TZID=Europe/Amsterdam:20180521T004000
SUMMARY:K - 1. Klasse A 2017/18: Dölsach - Tristach
END:VEVENT
BEGIN:VEVENT
UID:20260426T011432UTC-52324cu267@85.215.121.98
DTSTAMP:20260426T011432Z
DTSTART;TZID=Europe/Amsterdam:20180527T230000
DTEND;TZID=Europe/Amsterdam:20180528T004000
SUMMARY:K - 1. Klasse A 2017/18: Tristach - Thal/Assling
END:VEVENT
BEGIN:VEVENT
UID:20260426T011432UTC-5237e6o5ub@85.215.121.98
DTSTAMP:20260426T011432Z
DTSTART;TZID=Europe/Amsterdam:20180603T230000
DTEND;TZID=Europe/Amsterdam:20180604T004000
SUMMARY:K - 1. Klasse A 2017/18: SK Kirchbach - Tristach
END:VEVENT
BEGIN:VEVENT
UID:20260426T011432UTC-5242EIeFsp@85.215.121.98
DTSTAMP:20260426T011432Z
DTSTART;TZID=Europe/Amsterdam:20180610T230000
DTEND;TZID=Europe/Amsterdam:20180611T004000
SUMMARY:K - 1. Klasse A 2017/18: Tristach - Mölltal
END:VEVENT
BEGIN:VEVENT
UID:20260426T011432UTC-5247SIXxSt@85.215.121.98
DTSTAMP:20260426T011432Z
DTSTART;TZID=Europe/Amsterdam:20180617T230000
DTEND;TZID=Europe/Amsterdam:20180618T004000
SUMMARY:K - 1. Klasse A 2017/18: Nikolsdorf - Tristach
END:VEVENT
END:VCALENDAR
