BEGIN:VCALENDAR
VERSION:2.0
PRODID:-////NONSGML kigkonsult.se iCalcreator 2.18//
X-WR-TIMEZONE:Europe/Amsterdam
BEGIN:VTIMEZONE
TZID:Europe/Amsterdam
X-LIC-LOCATION:Europe/Amsterdam
BEGIN:STANDARD
DTSTART:20171029T030000
TZOFFSETFROM:+0200
TZOFFSETTO:+0100
RDATE:20181028T030000
TZNAME:CET
END:STANDARD
BEGIN:DAYLIGHT
DTSTART:20180325T020000
TZOFFSETFROM:+0100
TZOFFSETTO:+0200
RDATE:20190331T020000
TZNAME:CEST
END:DAYLIGHT
END:VTIMEZONE
BEGIN:VEVENT
UID:20260426T022731UTC-72321WoV2l@85.215.121.98
DTSTAMP:20260426T022731Z
DTSTART;TZID=Europe/Amsterdam:20170815T173000
DTEND;TZID=Europe/Amsterdam:20170815T191500
SUMMARY:T - 2. Klasse Mitte 2017/18: Scharnitz - FC Natters 1b
END:VEVENT
BEGIN:VEVENT
UID:20260426T022731UTC-7354l9M4kV@85.215.121.98
DTSTAMP:20260426T022731Z
DTSTART;TZID=Europe/Amsterdam:20170826T173000
DTEND;TZID=Europe/Amsterdam:20170826T191500
SUMMARY:T - 2. Klasse Mitte 2017/18: Scharnitz - Sans Papiers
END:VEVENT
BEGIN:VEVENT
UID:20260426T022731UTC-7361cVzk3T@85.215.121.98
DTSTAMP:20260426T022731Z
DTSTART;TZID=Europe/Amsterdam:20170906T193000
DTEND;TZID=Europe/Amsterdam:20170906T211500
SUMMARY:T - 2. Klasse Mitte 2017/18: SV Telfs 1b - Scharnitz
END:VEVENT
BEGIN:VEVENT
UID:20260426T022731UTC-7366MD0KK7@85.215.121.98
DTSTAMP:20260426T022731Z
DTSTART;TZID=Europe/Amsterdam:20170913T193000
DTEND;TZID=Europe/Amsterdam:20170913T211500
SUMMARY:T - 2. Klasse Mitte 2017/18: FC Flaurling-Polling - Scharnitz
END:VEVENT
BEGIN:VEVENT
UID:20260426T022731UTC-7371lpc2zo@85.215.121.98
DTSTAMP:20260426T022731Z
DTSTART;TZID=Europe/Amsterdam:20170916T143000
DTEND;TZID=Europe/Amsterdam:20170916T161500
SUMMARY:T - 2. Klasse Mitte 2017/18: Völser SV 1b - Scharnitz
END:VEVENT
BEGIN:VEVENT
UID:20260426T022731UTC-7377l5dirr@85.215.121.98
DTSTAMP:20260426T022731Z
DTSTART;TZID=Europe/Amsterdam:20170923T163000
DTEND;TZID=Europe/Amsterdam:20170923T181500
SUMMARY:T - 2. Klasse Mitte 2017/18: Scharnitz - Innsbrucker AC 1b
END:VEVENT
BEGIN:VEVENT
UID:20260426T022731UTC-7383LE9Hvd@85.215.121.98
DTSTAMP:20260426T022731Z
DTSTART;TZID=Europe/Amsterdam:20170929T193000
DTEND;TZID=Europe/Amsterdam:20170929T211500
SUMMARY:T - 2. Klasse Mitte 2017/18: SV Sistrans 1b - Scharnitz
END:VEVENT
BEGIN:VEVENT
UID:20260426T022731UTC-7389uwvxwd@85.215.121.98
DTSTAMP:20260426T022731Z
DTSTART;TZID=Europe/Amsterdam:20171007T163000
DTEND;TZID=Europe/Amsterdam:20171007T181500
SUMMARY:T - 2. Klasse Mitte 2017/18: Scharnitz - ESV Hatting - Pettnau
END:VEVENT
BEGIN:VEVENT
UID:20260426T022731UTC-7395VUzfVu@85.215.121.98
DTSTAMP:20260426T022731Z
DTSTART;TZID=Europe/Amsterdam:20171014T160000
DTEND;TZID=Europe/Amsterdam:20171014T174500
SUMMARY:T - 2. Klasse Mitte 2017/18: FC Seefelder Plateau 1b - Scharnitz
END:VEVENT
BEGIN:VEVENT
UID:20260426T022731UTC-7400a5ATEk@85.215.121.98
DTSTAMP:20260426T022731Z
DTSTART;TZID=Europe/Amsterdam:20171021T160000
DTEND;TZID=Europe/Amsterdam:20171021T174500
SUMMARY:T - 2. Klasse Mitte 2017/18: Scharnitz - Wacker Innsbruck 1c
END:VEVENT
BEGIN:VEVENT
UID:20260426T022731UTC-7406K1ShdB@85.215.121.98
DTSTAMP:20260426T022731Z
DTSTART;TZID=Europe/Amsterdam:20171028T160000
DTEND;TZID=Europe/Amsterdam:20171028T174500
SUMMARY:T - 2. Klasse Mitte 2017/18: Scharnitz - Schönberg
END:VEVENT
BEGIN:VEVENT
UID:20260426T022731UTC-74124CiLcV@85.215.121.98
DTSTAMP:20260426T022731Z
DTSTART;TZID=Europe/Amsterdam:20171104T150000
DTEND;TZID=Europe/Amsterdam:20171104T164500
SUMMARY:T - 2. Klasse Mitte 2017/18: SPG Innsbruck West 1b - Scharnitz
END:VEVENT
BEGIN:VEVENT
UID:20260426T022731UTC-7417d6h12H@85.215.121.98
DTSTAMP:20260426T022731Z
DTSTART;TZID=Europe/Amsterdam:20180324T000000
DTEND;TZID=Europe/Amsterdam:20180324T014500
SUMMARY:T - 2. Klasse Mitte 2017/18: ESV Hatting - Pettnau - Scharnitz
END:VEVENT
BEGIN:VEVENT
UID:20260426T022731UTC-7423r9r0SX@85.215.121.98
DTSTAMP:20260426T022731Z
DTSTART;TZID=Europe/Amsterdam:20180331T000000
DTEND;TZID=Europe/Amsterdam:20180331T014500
SUMMARY:T - 2. Klasse Mitte 2017/18: FC Natters 1b - Scharnitz
END:VEVENT
BEGIN:VEVENT
UID:20260426T022731UTC-7429Z4bUVj@85.215.121.98
DTSTAMP:20260426T022731Z
DTSTART;TZID=Europe/Amsterdam:20180407T000000
DTEND;TZID=Europe/Amsterdam:20180407T014500
SUMMARY:T - 2. Klasse Mitte 2017/18: Scharnitz - SV Telfs 1b
END:VEVENT
BEGIN:VEVENT
UID:20260426T022731UTC-7435tLehrt@85.215.121.98
DTSTAMP:20260426T022731Z
DTSTART;TZID=Europe/Amsterdam:20180414T000000
DTEND;TZID=Europe/Amsterdam:20180414T014500
SUMMARY:T - 2. Klasse Mitte 2017/18: Sans Papiers - Scharnitz
END:VEVENT
BEGIN:VEVENT
UID:20260426T022731UTC-7442hwFguH@85.215.121.98
DTSTAMP:20260426T022731Z
DTSTART;TZID=Europe/Amsterdam:20180421T000000
DTEND;TZID=Europe/Amsterdam:20180421T014500
SUMMARY:T - 2. Klasse Mitte 2017/18: Scharnitz - FC Flaurling-Polling
END:VEVENT
BEGIN:VEVENT
UID:20260426T022731UTC-7448rllNmm@85.215.121.98
DTSTAMP:20260426T022731Z
DTSTART;TZID=Europe/Amsterdam:20180502T000000
DTEND;TZID=Europe/Amsterdam:20180502T014500
SUMMARY:T - 2. Klasse Mitte 2017/18: Scharnitz - Völser SV 1b
END:VEVENT
BEGIN:VEVENT
UID:20260426T022731UTC-7454JvXFBf@85.215.121.98
DTSTAMP:20260426T022731Z
DTSTART;TZID=Europe/Amsterdam:20180505T000000
DTEND;TZID=Europe/Amsterdam:20180505T014500
SUMMARY:T - 2. Klasse Mitte 2017/18: Innsbrucker AC 1b - Scharnitz
END:VEVENT
BEGIN:VEVENT
UID:20260426T022731UTC-74607tT2Nb@85.215.121.98
DTSTAMP:20260426T022731Z
DTSTART;TZID=Europe/Amsterdam:20180512T000000
DTEND;TZID=Europe/Amsterdam:20180512T014500
SUMMARY:T - 2. Klasse Mitte 2017/18: Scharnitz - SV Sistrans 1b
END:VEVENT
BEGIN:VEVENT
UID:20260426T022731UTC-7466Lg1LVz@85.215.121.98
DTSTAMP:20260426T022731Z
DTSTART;TZID=Europe/Amsterdam:20180526T000000
DTEND;TZID=Europe/Amsterdam:20180526T014500
SUMMARY:T - 2. Klasse Mitte 2017/18: Scharnitz - FC Seefelder Plateau 1b
END:VEVENT
BEGIN:VEVENT
UID:20260426T022731UTC-7472d0j2vA@85.215.121.98
DTSTAMP:20260426T022731Z
DTSTART;TZID=Europe/Amsterdam:20180602T000000
DTEND;TZID=Europe/Amsterdam:20180602T014500
SUMMARY:T - 2. Klasse Mitte 2017/18: Wacker Innsbruck 1c - Scharnitz
END:VEVENT
BEGIN:VEVENT
UID:20260426T022731UTC-74804o67UN@85.215.121.98
DTSTAMP:20260426T022731Z
DTSTART;TZID=Europe/Amsterdam:20180609T000000
DTEND;TZID=Europe/Amsterdam:20180609T014500
SUMMARY:T - 2. Klasse Mitte 2017/18: Schönberg - Scharnitz
END:VEVENT
BEGIN:VEVENT
UID:20260426T022731UTC-74855vGUTw@85.215.121.98
DTSTAMP:20260426T022731Z
DTSTART;TZID=Europe/Amsterdam:20180616T000000
DTEND;TZID=Europe/Amsterdam:20180616T014500
SUMMARY:T - 2. Klasse Mitte 2017/18: Scharnitz - SPG Innsbruck West 1b
END:VEVENT
END:VCALENDAR
