BEGIN:VCALENDAR
VERSION:2.0
PRODID:-////NONSGML kigkonsult.se iCalcreator 2.18//
X-WR-TIMEZONE:Europe/Amsterdam
BEGIN:VTIMEZONE
TZID:Europe/Amsterdam
X-LIC-LOCATION:Europe/Amsterdam
BEGIN:STANDARD
DTSTART:20161030T030000
TZOFFSETFROM:+0200
TZOFFSETTO:+0100
RDATE:20171029T030000
TZNAME:CET
END:STANDARD
BEGIN:DAYLIGHT
DTSTART:20170326T020000
TZOFFSETFROM:+0100
TZOFFSETTO:+0200
RDATE:20180325T020000
TZNAME:CEST
END:DAYLIGHT
END:VTIMEZONE
BEGIN:VEVENT
UID:20260424T230817UTC-238095XUPI@85.215.121.98
DTSTAMP:20260424T230817Z
DTSTART;TZID=Europe/Amsterdam:20160729T183000
DTEND;TZID=Europe/Amsterdam:20160729T201000
SUMMARY:K - 2. Klasse D 2016/17: Guttaring - Kraig 1b
END:VEVENT
BEGIN:VEVENT
UID:20260424T230817UTC-2495Fc0vn4@85.215.121.98
DTSTAMP:20260424T230817Z
DTSTART;TZID=Europe/Amsterdam:20160806T173000
DTEND;TZID=Europe/Amsterdam:20160806T191000
SUMMARY:K - 2. Klasse D 2016/17: Kraig 1b - Gurk
END:VEVENT
BEGIN:VEVENT
UID:20260424T230817UTC-2501x0hnj3@85.215.121.98
DTSTAMP:20260424T230817Z
DTSTART;TZID=Europe/Amsterdam:20160813T154500
DTEND;TZID=Europe/Amsterdam:20160813T172500
SUMMARY:K - 2. Klasse D 2016/17: KAC 1909 Juniors - Kraig 1b
END:VEVENT
BEGIN:VEVENT
UID:20260424T230817UTC-2508cUVVaJ@85.215.121.98
DTSTAMP:20260424T230817Z
DTSTART;TZID=Europe/Amsterdam:20160821T110000
DTEND;TZID=Europe/Amsterdam:20160821T124000
SUMMARY:K - 2. Klasse D 2016/17: Kraig 1b - SG SV Feldkirchen/SV Oberglan 1
 b
END:VEVENT
BEGIN:VEVENT
UID:20260424T230817UTC-2514uhoFUR@85.215.121.98
DTSTAMP:20260424T230817Z
DTSTART;TZID=Europe/Amsterdam:20160828T170000
DTEND;TZID=Europe/Amsterdam:20160828T184000
SUMMARY:K - 2. Klasse D 2016/17: Moosburg - Kraig 1b
END:VEVENT
BEGIN:VEVENT
UID:20260424T230817UTC-2521Hjz2HE@85.215.121.98
DTSTAMP:20260424T230817Z
DTSTART;TZID=Europe/Amsterdam:20160903T160000
DTEND;TZID=Europe/Amsterdam:20160903T174000
SUMMARY:K - 2. Klasse D 2016/17: St. Urban - Kraig 1b
END:VEVENT
BEGIN:VEVENT
UID:20260424T230817UTC-2527jXc2Uv@85.215.121.98
DTSTAMP:20260424T230817Z
DTSTART;TZID=Europe/Amsterdam:20160911T110000
DTEND;TZID=Europe/Amsterdam:20160911T124000
SUMMARY:K - 2. Klasse D 2016/17: Kraig 1b - Weitensfeld
END:VEVENT
BEGIN:VEVENT
UID:20260424T230817UTC-25334hDV6r@85.215.121.98
DTSTAMP:20260424T230817Z
DTSTART;TZID=Europe/Amsterdam:20160917T160000
DTEND;TZID=Europe/Amsterdam:20160917T174000
SUMMARY:K - 2. Klasse D 2016/17: Sörg - Kraig 1b
END:VEVENT
BEGIN:VEVENT
UID:20260424T230817UTC-2540TdDmS6@85.215.121.98
DTSTAMP:20260424T230817Z
DTSTART;TZID=Europe/Amsterdam:20160924T150000
DTEND;TZID=Europe/Amsterdam:20160924T164000
SUMMARY:K - 2. Klasse D 2016/17: Kraig 1b - Köttmannsdorf 1b
END:VEVENT
BEGIN:VEVENT
UID:20260424T230817UTC-25745HMJdm@85.215.121.98
DTSTAMP:20260424T230817Z
DTSTART;TZID=Europe/Amsterdam:20161001T150000
DTEND;TZID=Europe/Amsterdam:20161001T164000
SUMMARY:K - 2. Klasse D 2016/17: Straßburg - Kraig 1b
END:VEVENT
BEGIN:VEVENT
UID:20260424T230817UTC-2581fhjxV1@85.215.121.98
DTSTAMP:20260424T230817Z
DTSTART;TZID=Europe/Amsterdam:20161008T150000
DTEND;TZID=Europe/Amsterdam:20161008T164000
SUMMARY:K - 2. Klasse D 2016/17: Kraig 1b - Maria Rain
END:VEVENT
BEGIN:VEVENT
UID:20260424T230817UTC-2587hW8bM8@85.215.121.98
DTSTAMP:20260424T230817Z
DTSTART;TZID=Europe/Amsterdam:20161015T150000
DTEND;TZID=Europe/Amsterdam:20161015T164000
SUMMARY:K - 2. Klasse D 2016/17: Himmelberg - Kraig 1b
END:VEVENT
BEGIN:VEVENT
UID:20260424T230817UTC-2593PsXBOV@85.215.121.98
DTSTAMP:20260424T230817Z
DTSTART;TZID=Europe/Amsterdam:20161022T150000
DTEND;TZID=Europe/Amsterdam:20161022T164000
SUMMARY:K - 2. Klasse D 2016/17: Kraig 1b - Kappel
END:VEVENT
BEGIN:VEVENT
UID:20260424T230817UTC-25995A9jVI@85.215.121.98
DTSTAMP:20260424T230817Z
DTSTART;TZID=Europe/Amsterdam:20161026T153000
DTEND;TZID=Europe/Amsterdam:20161026T171000
SUMMARY:K - 2. Klasse D 2016/17: Launsdorf - Kraig 1b
END:VEVENT
BEGIN:VEVENT
UID:20260424T230817UTC-2605UvBBRT@85.215.121.98
DTSTAMP:20260424T230817Z
DTSTART;TZID=Europe/Amsterdam:20161030T110000
DTEND;TZID=Europe/Amsterdam:20161030T124000
SUMMARY:K - 2. Klasse D 2016/17: Kraig 1b - Keutschach
END:VEVENT
BEGIN:VEVENT
UID:20260424T230817UTC-2610kjuUiX@85.215.121.98
DTSTAMP:20260424T230817Z
DTSTART;TZID=Europe/Amsterdam:20161105T150000
DTEND;TZID=Europe/Amsterdam:20161105T164000
SUMMARY:K - 2. Klasse D 2016/17: Kraig 1b - Guttaring
END:VEVENT
BEGIN:VEVENT
UID:20260424T230817UTC-2616aNz0nK@85.215.121.98
DTSTAMP:20260424T230817Z
DTSTART;TZID=Europe/Amsterdam:20170325T140000
DTEND;TZID=Europe/Amsterdam:20170325T154000
SUMMARY:K - 2. Klasse D 2016/17: Gurk - Kraig 1b
END:VEVENT
BEGIN:VEVENT
UID:20260424T230817UTC-2622Uzs9SF@85.215.121.98
DTSTAMP:20260424T230817Z
DTSTART;TZID=Europe/Amsterdam:20170402T110000
DTEND;TZID=Europe/Amsterdam:20170402T124000
SUMMARY:K - 2. Klasse D 2016/17: Kraig 1b - KAC 1909 Juniors
END:VEVENT
BEGIN:VEVENT
UID:20260424T230817UTC-2628o6MVlv@85.215.121.98
DTSTAMP:20260424T230817Z
DTSTART;TZID=Europe/Amsterdam:20170409T230000
DTEND;TZID=Europe/Amsterdam:20170410T004000
SUMMARY:K - 2. Klasse D 2016/17: SG SV Feldkirchen/SV Oberglan 1b - Kraig 1
 b
END:VEVENT
BEGIN:VEVENT
UID:20260424T230817UTC-2633xV61Xe@85.215.121.98
DTSTAMP:20260424T230817Z
DTSTART;TZID=Europe/Amsterdam:20170415T160000
DTEND;TZID=Europe/Amsterdam:20170415T174000
SUMMARY:K - 2. Klasse D 2016/17: Kraig 1b - Moosburg
END:VEVENT
BEGIN:VEVENT
UID:20260424T230817UTC-2639tBUJ5e@85.215.121.98
DTSTAMP:20260424T230817Z
DTSTART;TZID=Europe/Amsterdam:20170422T160000
DTEND;TZID=Europe/Amsterdam:20170422T174000
SUMMARY:K - 2. Klasse D 2016/17: Kraig 1b - St. Urban
END:VEVENT
BEGIN:VEVENT
UID:20260424T230817UTC-2646tEbvWU@85.215.121.98
DTSTAMP:20260424T230817Z
DTSTART;TZID=Europe/Amsterdam:20170429T140000
DTEND;TZID=Europe/Amsterdam:20170429T154000
SUMMARY:K - 2. Klasse D 2016/17: Weitensfeld - Kraig 1b
END:VEVENT
BEGIN:VEVENT
UID:20260424T230817UTC-2652lsX6Ka@85.215.121.98
DTSTAMP:20260424T230817Z
DTSTART;TZID=Europe/Amsterdam:20170501T110000
DTEND;TZID=Europe/Amsterdam:20170501T124000
SUMMARY:K - 2. Klasse D 2016/17: Kraig 1b - Sörg
END:VEVENT
BEGIN:VEVENT
UID:20260424T230817UTC-26574i2UMj@85.215.121.98
DTSTAMP:20260424T230817Z
DTSTART;TZID=Europe/Amsterdam:20170507T170000
DTEND;TZID=Europe/Amsterdam:20170507T184000
SUMMARY:K - 2. Klasse D 2016/17: Köttmannsdorf 1b - Kraig 1b
END:VEVENT
BEGIN:VEVENT
UID:20260424T230817UTC-26943SFmud@85.215.121.98
DTSTAMP:20260424T230817Z
DTSTART;TZID=Europe/Amsterdam:20170513T153000
DTEND;TZID=Europe/Amsterdam:20170513T171000
SUMMARY:K - 2. Klasse D 2016/17: Kraig 1b - Straßburg
END:VEVENT
BEGIN:VEVENT
UID:20260424T230817UTC-2700b1rMkC@85.215.121.98
DTSTAMP:20260424T230817Z
DTSTART;TZID=Europe/Amsterdam:20170520T160000
DTEND;TZID=Europe/Amsterdam:20170520T174000
SUMMARY:K - 2. Klasse D 2016/17: Maria Rain - Kraig 1b
END:VEVENT
BEGIN:VEVENT
UID:20260424T230817UTC-2705OVIUJK@85.215.121.98
DTSTAMP:20260424T230817Z
DTSTART;TZID=Europe/Amsterdam:20170525T123000
DTEND;TZID=Europe/Amsterdam:20170525T141000
SUMMARY:K - 2. Klasse D 2016/17: Kraig 1b - Himmelberg
END:VEVENT
BEGIN:VEVENT
UID:20260424T230817UTC-2712u5uMKv@85.215.121.98
DTSTAMP:20260424T230817Z
DTSTART;TZID=Europe/Amsterdam:20170527T180000
DTEND;TZID=Europe/Amsterdam:20170527T194000
SUMMARY:K - 2. Klasse D 2016/17: Kappel - Kraig 1b
END:VEVENT
BEGIN:VEVENT
UID:20260424T230817UTC-2717T1WOBU@85.215.121.98
DTSTAMP:20260424T230817Z
DTSTART;TZID=Europe/Amsterdam:20170531T180000
DTEND;TZID=Europe/Amsterdam:20170531T194000
SUMMARY:K - 2. Klasse D 2016/17: Kraig 1b - Launsdorf
END:VEVENT
BEGIN:VEVENT
UID:20260424T230817UTC-2724sNFzx6@85.215.121.98
DTSTAMP:20260424T230817Z
DTSTART;TZID=Europe/Amsterdam:20170610T180000
DTEND;TZID=Europe/Amsterdam:20170610T194000
SUMMARY:K - 2. Klasse D 2016/17: Keutschach - Kraig 1b
END:VEVENT
END:VCALENDAR
