BEGIN:VCALENDAR
VERSION:2.0
PRODID:-////NONSGML kigkonsult.se iCalcreator 2.18//
X-WR-TIMEZONE:Europe/Amsterdam
BEGIN:VTIMEZONE
TZID:Europe/Amsterdam
X-LIC-LOCATION:Europe/Amsterdam
BEGIN:STANDARD
DTSTART:20121028T030000
TZOFFSETFROM:+0200
TZOFFSETTO:+0100
RDATE:20131027T030000
TZNAME:CET
END:STANDARD
BEGIN:DAYLIGHT
DTSTART:20130331T020000
TZOFFSETFROM:+0100
TZOFFSETTO:+0200
RDATE:20140330T020000
TZNAME:CEST
END:DAYLIGHT
END:VTIMEZONE
BEGIN:VEVENT
UID:20260425T132739UTC-7904ZgrhKN@85.215.121.98
DTSTAMP:20260425T132739Z
DTSTART;TZID=Europe/Amsterdam:20120811T180000
DTEND;TZID=Europe/Amsterdam:20120811T194000
SUMMARY:T - 2. Klasse  Mitte  2012/13: FC St.Leonhard - SV Absam 1b
END:VEVENT
BEGIN:VEVENT
UID:20260425T132739UTC-8040vAvNse@85.215.121.98
DTSTAMP:20260425T132739Z
DTSTART;TZID=Europe/Amsterdam:20120819T110000
DTEND;TZID=Europe/Amsterdam:20120819T124000
SUMMARY:T - 2. Klasse  Mitte  2012/13: Sportverein Innsbruck 1b - FC St.Leo
 nhard
END:VEVENT
BEGIN:VEVENT
UID:20260425T132739UTC-8048ZgeUJE@85.215.121.98
DTSTAMP:20260425T132739Z
DTSTART;TZID=Europe/Amsterdam:20120825T180000
DTEND;TZID=Europe/Amsterdam:20120825T194000
SUMMARY:T - 2. Klasse  Mitte  2012/13: FC St.Leonhard - Völser SV 1b
END:VEVENT
BEGIN:VEVENT
UID:20260425T132739UTC-8053VzULNb@85.215.121.98
DTSTAMP:20260425T132739Z
DTSTART;TZID=Europe/Amsterdam:20120901T170000
DTEND;TZID=Europe/Amsterdam:20120901T184000
SUMMARY:T - 2. Klasse  Mitte  2012/13: Scharnitz - FC St.Leonhard
END:VEVENT
BEGIN:VEVENT
UID:20260425T132739UTC-8061KpxU18@85.215.121.98
DTSTAMP:20260425T132739Z
DTSTART;TZID=Europe/Amsterdam:20120908T163000
DTEND;TZID=Europe/Amsterdam:20120908T181000
SUMMARY:T - 2. Klasse  Mitte  2012/13: FC St.Leonhard - Neustift 1b
END:VEVENT
BEGIN:VEVENT
UID:20260425T132739UTC-8066dAikL8@85.215.121.98
DTSTAMP:20260425T132739Z
DTSTART;TZID=Europe/Amsterdam:20120916T143000
DTEND;TZID=Europe/Amsterdam:20120916T161000
SUMMARY:T - 2. Klasse  Mitte  2012/13: FC Zirl - FC St.Leonhard
END:VEVENT
BEGIN:VEVENT
UID:20260425T132739UTC-8073C2eWaL@85.215.121.98
DTSTAMP:20260425T132739Z
DTSTART;TZID=Europe/Amsterdam:20120920T200000
DTEND;TZID=Europe/Amsterdam:20120920T214000
SUMMARY:T - 2. Klasse  Mitte  2012/13: Silz/Mötz 1b - FC St.Leonhard
END:VEVENT
BEGIN:VEVENT
UID:20260425T132739UTC-8079zacubT@85.215.121.98
DTSTAMP:20260425T132739Z
DTSTART;TZID=Europe/Amsterdam:20120929T170000
DTEND;TZID=Europe/Amsterdam:20120929T184000
SUMMARY:T - 2. Klasse  Mitte  2012/13: FC St.Leonhard - FC Nassereith
END:VEVENT
BEGIN:VEVENT
UID:20260425T132739UTC-8087bAZV3C@85.215.121.98
DTSTAMP:20260425T132739Z
DTSTART;TZID=Europe/Amsterdam:20121006T163000
DTEND;TZID=Europe/Amsterdam:20121006T181000
SUMMARY:T - 2. Klasse  Mitte  2012/13: SPG Mieminger Plateau - FC St.Leonha
 rd
END:VEVENT
BEGIN:VEVENT
UID:20260425T132739UTC-8095TvaHKu@85.215.121.98
DTSTAMP:20260425T132739Z
DTSTART;TZID=Europe/Amsterdam:20121020T133000
DTEND;TZID=Europe/Amsterdam:20121020T151000
SUMMARY:T - 2. Klasse  Mitte  2012/13: SC Mils 1b - FC St.Leonhard
END:VEVENT
BEGIN:VEVENT
UID:20260425T132739UTC-8103TO6WRo@85.215.121.98
DTSTAMP:20260425T132739Z
DTSTART;TZID=Europe/Amsterdam:20121026T150000
DTEND;TZID=Europe/Amsterdam:20121026T164000
SUMMARY:T - 2. Klasse  Mitte  2012/13: SV Absam 1b - FC St.Leonhard
END:VEVENT
BEGIN:VEVENT
UID:20260425T132739UTC-8111OmVEoZ@85.215.121.98
DTSTAMP:20260425T132739Z
DTSTART;TZID=Europe/Amsterdam:20130413T143000
DTEND;TZID=Europe/Amsterdam:20130413T161000
SUMMARY:T - 2. Klasse  Mitte  2012/13: Völser SV 1b - FC St.Leonhard
END:VEVENT
BEGIN:VEVENT
UID:20260425T132739UTC-8116JCLucB@85.215.121.98
DTSTAMP:20260425T132739Z
DTSTART;TZID=Europe/Amsterdam:20130427T153000
DTEND;TZID=Europe/Amsterdam:20130427T171000
SUMMARY:T - 2. Klasse  Mitte  2012/13: Neustift 1b - FC St.Leonhard
END:VEVENT
BEGIN:VEVENT
UID:20260425T132739UTC-8122pJh6KN@85.215.121.98
DTSTAMP:20260425T132739Z
DTSTART;TZID=Europe/Amsterdam:20130501T170000
DTEND;TZID=Europe/Amsterdam:20130501T184000
SUMMARY:T - 2. Klasse  Mitte  2012/13: FC St.Leonhard - Sportverein Innsbru
 ck 1b
END:VEVENT
BEGIN:VEVENT
UID:20260425T132739UTC-8129R3zMnv@85.215.121.98
DTSTAMP:20260425T132739Z
DTSTART;TZID=Europe/Amsterdam:20130504T183000
DTEND;TZID=Europe/Amsterdam:20130504T201000
SUMMARY:T - 2. Klasse  Mitte  2012/13: FC St.Leonhard - FC Zirl
END:VEVENT
BEGIN:VEVENT
UID:20260425T132739UTC-8135mVkncu@85.215.121.98
DTSTAMP:20260425T132739Z
DTSTART;TZID=Europe/Amsterdam:20130508T200000
DTEND;TZID=Europe/Amsterdam:20130508T214000
SUMMARY:T - 2. Klasse  Mitte  2012/13: FC Nassereith - FC St.Leonhard
END:VEVENT
BEGIN:VEVENT
UID:20260425T132739UTC-8139I6UXUa@85.215.121.98
DTSTAMP:20260425T132739Z
DTSTART;TZID=Europe/Amsterdam:20130511T173000
DTEND;TZID=Europe/Amsterdam:20130511T191000
SUMMARY:T - 2. Klasse  Mitte  2012/13: FC St.Leonhard - Silz/Mötz 1b
END:VEVENT
BEGIN:VEVENT
UID:20260425T132739UTC-8145mi7OUt@85.215.121.98
DTSTAMP:20260425T132739Z
DTSTART;TZID=Europe/Amsterdam:20130520T173000
DTEND;TZID=Europe/Amsterdam:20130520T191000
SUMMARY:T - 2. Klasse  Mitte  2012/13: FC St.Leonhard - Scharnitz
END:VEVENT
BEGIN:VEVENT
UID:20260425T132739UTC-8151L6nzaK@85.215.121.98
DTSTAMP:20260425T132739Z
DTSTART;TZID=Europe/Amsterdam:20130525T153000
DTEND;TZID=Europe/Amsterdam:20130525T171000
SUMMARY:T - 2. Klasse  Mitte  2012/13: FC St.Leonhard - SPG Mieminger Plate
 au
END:VEVENT
BEGIN:VEVENT
UID:20260425T132739UTC-8157ZZplVN@85.215.121.98
DTSTAMP:20260425T132739Z
DTSTART;TZID=Europe/Amsterdam:20130608T183000
DTEND;TZID=Europe/Amsterdam:20130608T201000
SUMMARY:T - 2. Klasse  Mitte  2012/13: FC St.Leonhard - SC Mils 1b
END:VEVENT
END:VCALENDAR
