BEGIN:VCALENDAR
VERSION:2.0
PRODID:-////NONSGML kigkonsult.se iCalcreator 2.18//
X-WR-TIMEZONE:Europe/Amsterdam
BEGIN:VTIMEZONE
TZID:Europe/Amsterdam
X-LIC-LOCATION:Europe/Amsterdam
BEGIN:STANDARD
DTSTART:20071028T030000
TZOFFSETFROM:+0200
TZOFFSETTO:+0100
RDATE:20081026T030000
TZNAME:CET
END:STANDARD
BEGIN:DAYLIGHT
DTSTART:20080330T020000
TZOFFSETFROM:+0100
TZOFFSETTO:+0200
RDATE:20090329T020000
TZNAME:CEST
END:DAYLIGHT
END:VTIMEZONE
BEGIN:VEVENT
UID:20260424T110443UTC-0936E3sINl@85.215.121.98
DTSTAMP:20260424T110443Z
DTSTART;TZID=Europe/Amsterdam:20070728T170000
DTEND;TZID=Europe/Amsterdam:20070728T184500
SUMMARY:K - 2. Klasse A 2007/08: Nußdorf 1b - Oberlienz
END:VEVENT
BEGIN:VEVENT
UID:20260424T110443UTC-0943b0kpmk@85.215.121.98
DTSTAMP:20260424T110443Z
DTSTART;TZID=Europe/Amsterdam:20070804T170000
DTEND;TZID=Europe/Amsterdam:20070804T184500
SUMMARY:K - 2. Klasse A 2007/08: Oberlienz - Weissensee
END:VEVENT
BEGIN:VEVENT
UID:20260424T110443UTC-0949rJ6uvO@85.215.121.98
DTSTAMP:20260424T110443Z
DTSTART;TZID=Europe/Amsterdam:20070811T180000
DTEND;TZID=Europe/Amsterdam:20070811T194500
SUMMARY:K - 2. Klasse A 2007/08: USV Grafendorf - Oberlienz
END:VEVENT
BEGIN:VEVENT
UID:20260424T110443UTC-0954ZV68LC@85.215.121.98
DTSTAMP:20260424T110443Z
DTSTART;TZID=Europe/Amsterdam:20070815T130000
DTEND;TZID=Europe/Amsterdam:20070815T144500
SUMMARY:K - 2. Klasse A 2007/08: Oberlienz - Lurnfeld
END:VEVENT
BEGIN:VEVENT
UID:20260424T110443UTC-09605PuafP@85.215.121.98
DTSTAMP:20260424T110443Z
DTSTART;TZID=Europe/Amsterdam:20070818T170000
DTEND;TZID=Europe/Amsterdam:20070818T184500
SUMMARY:K - 2. Klasse A 2007/08: Ainet - Oberlienz
END:VEVENT
BEGIN:VEVENT
UID:20260424T110443UTC-0965nhjh91@85.215.121.98
DTSTAMP:20260424T110443Z
DTSTART;TZID=Europe/Amsterdam:20070825T170000
DTEND;TZID=Europe/Amsterdam:20070825T184500
SUMMARY:K - 2. Klasse A 2007/08: Oberlienz - Oberdrauburg
END:VEVENT
BEGIN:VEVENT
UID:20260424T110443UTC-0971VzAeeR@85.215.121.98
DTSTAMP:20260424T110443Z
DTSTART;TZID=Europe/Amsterdam:20070908T163000
DTEND;TZID=Europe/Amsterdam:20070908T181500
SUMMARY:K - 2. Klasse A 2007/08: Oberlienz - Nikolsdorf
END:VEVENT
BEGIN:VEVENT
UID:20260424T110443UTC-0976usgjuu@85.215.121.98
DTSTAMP:20260424T110443Z
DTSTART;TZID=Europe/Amsterdam:20070915T160000
DTEND;TZID=Europe/Amsterdam:20070915T174500
SUMMARY:K - 2. Klasse A 2007/08: TSU Virgen - Oberlienz
END:VEVENT
BEGIN:VEVENT
UID:20260424T110443UTC-0982GcgDzp@85.215.121.98
DTSTAMP:20260424T110443Z
DTSTART;TZID=Europe/Amsterdam:20070922T160000
DTEND;TZID=Europe/Amsterdam:20070922T174500
SUMMARY:K - 2. Klasse A 2007/08: Oberlienz - Prägraten
END:VEVENT
BEGIN:VEVENT
UID:20260424T110443UTC-0987H0SS6F@85.215.121.98
DTSTAMP:20260424T110443Z
DTSTART;TZID=Europe/Amsterdam:20070929T134500
DTEND;TZID=Europe/Amsterdam:20070929T153000
SUMMARY:K - 2. Klasse A 2007/08: Stall1b - Oberlienz
END:VEVENT
BEGIN:VEVENT
UID:20260424T110443UTC-09924UoHUe@85.215.121.98
DTSTAMP:20260424T110443Z
DTSTART;TZID=Europe/Amsterdam:20071006T153000
DTEND;TZID=Europe/Amsterdam:20071006T171500
SUMMARY:K - 2. Klasse A 2007/08: Oberlienz - SG Oberes Drautal
END:VEVENT
BEGIN:VEVENT
UID:20260424T110443UTC-1002bfUp75@85.215.121.98
DTSTAMP:20260424T110443Z
DTSTART;TZID=Europe/Amsterdam:20071012T190000
DTEND;TZID=Europe/Amsterdam:20071012T204500
SUMMARY:K - 2. Klasse A 2007/08: Matrei i.O. 1b - Oberlienz
END:VEVENT
BEGIN:VEVENT
UID:20260424T110443UTC-1008CTUB03@85.215.121.98
DTSTAMP:20260424T110443Z
DTSTART;TZID=Europe/Amsterdam:20071021T150000
DTEND;TZID=Europe/Amsterdam:20071021T164500
SUMMARY:K - 2. Klasse A 2007/08: Oberlienz - Nußdorf 1b
END:VEVENT
BEGIN:VEVENT
UID:20260424T110443UTC-1054G8nJvf@85.215.121.98
DTSTAMP:20260424T110443Z
DTSTART;TZID=Europe/Amsterdam:20071026T150000
DTEND;TZID=Europe/Amsterdam:20071026T164500
SUMMARY:K - 2. Klasse A 2007/08: Weissensee - Oberlienz
END:VEVENT
BEGIN:VEVENT
UID:20260424T110443UTC-1060Mhsmmx@85.215.121.98
DTSTAMP:20260424T110443Z
DTSTART;TZID=Europe/Amsterdam:20071103T150000
DTEND;TZID=Europe/Amsterdam:20071103T164500
SUMMARY:K - 2. Klasse A 2007/08: Oberlienz - USV Grafendorf
END:VEVENT
BEGIN:VEVENT
UID:20260424T110443UTC-1066SmcmmS@85.215.121.98
DTSTAMP:20260424T110443Z
DTSTART;TZID=Europe/Amsterdam:20080322T150000
DTEND;TZID=Europe/Amsterdam:20080322T164500
SUMMARY:K - 2. Klasse A 2007/08: Lurnfeld - Oberlienz
END:VEVENT
BEGIN:VEVENT
UID:20260424T110443UTC-1071CSkjn8@85.215.121.98
DTSTAMP:20260424T110443Z
DTSTART;TZID=Europe/Amsterdam:20080329T160000
DTEND;TZID=Europe/Amsterdam:20080329T174500
SUMMARY:K - 2. Klasse A 2007/08: Oberlienz - Ainet
END:VEVENT
BEGIN:VEVENT
UID:20260424T110443UTC-1077LFRPGP@85.215.121.98
DTSTAMP:20260424T110443Z
DTSTART;TZID=Europe/Amsterdam:20080406T153000
DTEND;TZID=Europe/Amsterdam:20080406T171500
SUMMARY:K - 2. Klasse A 2007/08: Oberdrauburg - Oberlienz
END:VEVENT
BEGIN:VEVENT
UID:20260424T110443UTC-108310NRU0@85.215.121.98
DTSTAMP:20260424T110443Z
DTSTART;TZID=Europe/Amsterdam:20080420T150000
DTEND;TZID=Europe/Amsterdam:20080420T164500
SUMMARY:K - 2. Klasse A 2007/08: Nikolsdorf - Oberlienz
END:VEVENT
BEGIN:VEVENT
UID:20260424T110443UTC-1091ziDTuz@85.215.121.98
DTSTAMP:20260424T110443Z
DTSTART;TZID=Europe/Amsterdam:20080426T163000
DTEND;TZID=Europe/Amsterdam:20080426T181500
SUMMARY:K - 2. Klasse A 2007/08: Oberlienz - TSU Virgen
END:VEVENT
BEGIN:VEVENT
UID:20260424T110443UTC-1097EIA0zb@85.215.121.98
DTSTAMP:20260424T110443Z
DTSTART;TZID=Europe/Amsterdam:20080501T170000
DTEND;TZID=Europe/Amsterdam:20080501T184500
SUMMARY:K - 2. Klasse A 2007/08: Oberlienz - Matrei i.O. 1b
END:VEVENT
BEGIN:VEVENT
UID:20260424T110443UTC-1103BWSNMC@85.215.121.98
DTSTAMP:20260424T110443Z
DTSTART;TZID=Europe/Amsterdam:20080503T170000
DTEND;TZID=Europe/Amsterdam:20080503T184500
SUMMARY:K - 2. Klasse A 2007/08: Prägraten - Oberlienz
END:VEVENT
BEGIN:VEVENT
UID:20260424T110443UTC-1108iFdkCu@85.215.121.98
DTSTAMP:20260424T110443Z
DTSTART;TZID=Europe/Amsterdam:20080517T170000
DTEND;TZID=Europe/Amsterdam:20080517T184500
SUMMARY:K - 2. Klasse A 2007/08: Oberlienz - Stall1b
END:VEVENT
BEGIN:VEVENT
UID:20260424T110443UTC-1114TUpSr6@85.215.121.98
DTSTAMP:20260424T110443Z
DTSTART;TZID=Europe/Amsterdam:20080522T160000
DTEND;TZID=Europe/Amsterdam:20080522T174500
SUMMARY:K - 2. Klasse A 2007/08: SG Oberes Drautal - Oberlienz
END:VEVENT
END:VCALENDAR
