BEGIN:VCALENDAR
VERSION:2.0
PRODID:-////NONSGML kigkonsult.se iCalcreator 2.18//
X-WR-TIMEZONE:Europe/Amsterdam
BEGIN:VTIMEZONE
TZID:Europe/Amsterdam
X-LIC-LOCATION:Europe/Amsterdam
BEGIN:STANDARD
DTSTART:20091025T030000
TZOFFSETFROM:+0200
TZOFFSETTO:+0100
RDATE:20101031T030000
TZNAME:CET
END:STANDARD
BEGIN:DAYLIGHT
DTSTART:20100328T020000
TZOFFSETFROM:+0100
TZOFFSETTO:+0200
RDATE:20110327T020000
TZNAME:CEST
END:DAYLIGHT
END:VTIMEZONE
BEGIN:VEVENT
UID:20260423T021028UTC-8085TPXmN7@85.215.121.98
DTSTAMP:20260423T021028Z
DTSTART;TZID=Europe/Amsterdam:20090801T180000
DTEND;TZID=Europe/Amsterdam:20090801T194500
SUMMARY:K - 2. Klasse B 2009/10: Egg - St. Jakob/Ros.
END:VEVENT
BEGIN:VEVENT
UID:20260423T021028UTC-80955KjIi7@85.215.121.98
DTSTAMP:20260423T021028Z
DTSTART;TZID=Europe/Amsterdam:20090808T180000
DTEND;TZID=Europe/Amsterdam:20090808T194500
SUMMARY:K - 2. Klasse B 2009/10: Egg - St. Egyden
END:VEVENT
BEGIN:VEVENT
UID:20260423T021028UTC-8104atPiCO@85.215.121.98
DTSTAMP:20260423T021028Z
DTSTART;TZID=Europe/Amsterdam:20090816T170000
DTEND;TZID=Europe/Amsterdam:20090816T184500
SUMMARY:K - 2. Klasse B 2009/10: Arriach - Egg
END:VEVENT
BEGIN:VEVENT
UID:20260423T021028UTC-8109wcC8Mv@85.215.121.98
DTSTAMP:20260423T021028Z
DTSTART;TZID=Europe/Amsterdam:20090823T180000
DTEND;TZID=Europe/Amsterdam:20090823T194500
SUMMARY:K - 2. Klasse B 2009/10: Egg - Malta
END:VEVENT
BEGIN:VEVENT
UID:20260423T021028UTC-8115IutW6T@85.215.121.98
DTSTAMP:20260423T021028Z
DTSTART;TZID=Europe/Amsterdam:20090830T160000
DTEND;TZID=Europe/Amsterdam:20090830T174500
SUMMARY:K - 2. Klasse B 2009/10: Techelsberg - Egg
END:VEVENT
BEGIN:VEVENT
UID:20260423T021028UTC-8122R5zUw0@85.215.121.98
DTSTAMP:20260423T021028Z
DTSTART;TZID=Europe/Amsterdam:20090906T170000
DTEND;TZID=Europe/Amsterdam:20090906T184500
SUMMARY:K - 2. Klasse B 2009/10: Egg - Töplitsch
END:VEVENT
BEGIN:VEVENT
UID:20260423T021028UTC-8129T1pS5Z@85.215.121.98
DTSTAMP:20260423T021028Z
DTSTART;TZID=Europe/Amsterdam:20090912T143000
DTEND;TZID=Europe/Amsterdam:20090912T161500
SUMMARY:K - 2. Klasse B 2009/10: Ferndorf - Egg
END:VEVENT
BEGIN:VEVENT
UID:20260423T021028UTC-8135kHcXRo@85.215.121.98
DTSTAMP:20260423T021028Z
DTSTART;TZID=Europe/Amsterdam:20090919T170000
DTEND;TZID=Europe/Amsterdam:20090919T184500
SUMMARY:K - 2. Klasse B 2009/10: Egg - Afritz
END:VEVENT
BEGIN:VEVENT
UID:20260423T021028UTC-8143zkv5K1@85.215.121.98
DTSTAMP:20260423T021028Z
DTSTART;TZID=Europe/Amsterdam:20090926T160000
DTEND;TZID=Europe/Amsterdam:20090926T174500
SUMMARY:K - 2. Klasse B 2009/10: Baldramsdorf - Egg
END:VEVENT
BEGIN:VEVENT
UID:20260423T021028UTC-8149FOwClI@85.215.121.98
DTSTAMP:20260423T021028Z
DTSTART;TZID=Europe/Amsterdam:20091004T160000
DTEND;TZID=Europe/Amsterdam:20091004T174500
SUMMARY:K - 2. Klasse B 2009/10: Egg - Ledenitzen
END:VEVENT
BEGIN:VEVENT
UID:20260423T021028UTC-8155SzZdbd@85.215.121.98
DTSTAMP:20260423T021028Z
DTSTART;TZID=Europe/Amsterdam:20091011T150000
DTEND;TZID=Europe/Amsterdam:20091011T164500
SUMMARY:K - 2. Klasse B 2009/10: Schiefling - Egg
END:VEVENT
BEGIN:VEVENT
UID:20260423T021028UTC-8161Uv1M5g@85.215.121.98
DTSTAMP:20260423T021028Z
DTSTART;TZID=Europe/Amsterdam:20091018T150000
DTEND;TZID=Europe/Amsterdam:20091018T164500
SUMMARY:K - 2. Klasse B 2009/10: Egg - Kleinkirchheim
END:VEVENT
BEGIN:VEVENT
UID:20260423T021028UTC-8167JkoRVr@85.215.121.98
DTSTAMP:20260423T021028Z
DTSTART;TZID=Europe/Amsterdam:20091024T150000
DTEND;TZID=Europe/Amsterdam:20091024T164500
SUMMARY:K - 2. Klasse B 2009/10: Köstenberg - Egg
END:VEVENT
BEGIN:VEVENT
UID:20260423T021028UTC-8173dc1pvG@85.215.121.98
DTSTAMP:20260423T021028Z
DTSTART;TZID=Europe/Amsterdam:20091026T150000
DTEND;TZID=Europe/Amsterdam:20091026T164500
SUMMARY:K - 2. Klasse B 2009/10: Egg - Fresach
END:VEVENT
BEGIN:VEVENT
UID:20260423T021028UTC-81794ubXcR@85.215.121.98
DTSTAMP:20260423T021028Z
DTSTART;TZID=Europe/Amsterdam:20091031T150000
DTEND;TZID=Europe/Amsterdam:20091031T164500
SUMMARY:K - 2. Klasse B 2009/10: Seebach - Egg
END:VEVENT
BEGIN:VEVENT
UID:20260423T021028UTC-8186amn1rD@85.215.121.98
DTSTAMP:20260423T021028Z
DTSTART;TZID=Europe/Amsterdam:20091107T143000
DTEND;TZID=Europe/Amsterdam:20091107T161500
SUMMARY:K - 2. Klasse B 2009/10: St. Jakob/Ros. - Egg
END:VEVENT
BEGIN:VEVENT
UID:20260423T021028UTC-819322Lgor@85.215.121.98
DTSTAMP:20260423T021028Z
DTSTART;TZID=Europe/Amsterdam:20100321T143000
DTEND;TZID=Europe/Amsterdam:20100321T161500
SUMMARY:K - 2. Klasse B 2009/10: St. Egyden - Egg
END:VEVENT
BEGIN:VEVENT
UID:20260423T021028UTC-819934a5UU@85.215.121.98
DTSTAMP:20260423T021028Z
DTSTART;TZID=Europe/Amsterdam:20100328T150000
DTEND;TZID=Europe/Amsterdam:20100328T164500
SUMMARY:K - 2. Klasse B 2009/10: Egg - Arriach
END:VEVENT
BEGIN:VEVENT
UID:20260423T021028UTC-8206xs6oaR@85.215.121.98
DTSTAMP:20260423T021028Z
DTSTART;TZID=Europe/Amsterdam:20100403T160000
DTEND;TZID=Europe/Amsterdam:20100403T174500
SUMMARY:K - 2. Klasse B 2009/10: Malta - Egg
END:VEVENT
BEGIN:VEVENT
UID:20260423T021028UTC-8212tZMPXs@85.215.121.98
DTSTAMP:20260423T021028Z
DTSTART;TZID=Europe/Amsterdam:20100411T160000
DTEND;TZID=Europe/Amsterdam:20100411T174500
SUMMARY:K - 2. Klasse B 2009/10: Egg - Techelsberg
END:VEVENT
BEGIN:VEVENT
UID:20260423T021028UTC-8221mMvFvE@85.215.121.98
DTSTAMP:20260423T021028Z
DTSTART;TZID=Europe/Amsterdam:20100417T170000
DTEND;TZID=Europe/Amsterdam:20100417T184500
SUMMARY:K - 2. Klasse B 2009/10: Töplitsch - Egg
END:VEVENT
BEGIN:VEVENT
UID:20260423T021028UTC-8229sxiBjt@85.215.121.98
DTSTAMP:20260423T021028Z
DTSTART;TZID=Europe/Amsterdam:20100425T160000
DTEND;TZID=Europe/Amsterdam:20100425T174500
SUMMARY:K - 2. Klasse B 2009/10: Egg - Ferndorf
END:VEVENT
BEGIN:VEVENT
UID:20260423T021028UTC-8234kHI3dl@85.215.121.98
DTSTAMP:20260423T021028Z
DTSTART;TZID=Europe/Amsterdam:20100501T173000
DTEND;TZID=Europe/Amsterdam:20100501T191500
SUMMARY:K - 2. Klasse B 2009/10: Afritz - Egg
END:VEVENT
BEGIN:VEVENT
UID:20260423T021028UTC-8243zU9oxb@85.215.121.98
DTSTAMP:20260423T021028Z
DTSTART;TZID=Europe/Amsterdam:20100513T170000
DTEND;TZID=Europe/Amsterdam:20100513T184500
SUMMARY:K - 2. Klasse B 2009/10: Ledenitzen - Egg
END:VEVENT
BEGIN:VEVENT
UID:20260423T021028UTC-82491j4x6n@85.215.121.98
DTSTAMP:20260423T021028Z
DTSTART;TZID=Europe/Amsterdam:20100516T170000
DTEND;TZID=Europe/Amsterdam:20100516T184500
SUMMARY:K - 2. Klasse B 2009/10: Egg - Schiefling
END:VEVENT
BEGIN:VEVENT
UID:20260423T021028UTC-82561LxFNc@85.215.121.98
DTSTAMP:20260423T021028Z
DTSTART;TZID=Europe/Amsterdam:20100522T170000
DTEND;TZID=Europe/Amsterdam:20100522T184500
SUMMARY:K - 2. Klasse B 2009/10: Kleinkirchheim - Egg
END:VEVENT
BEGIN:VEVENT
UID:20260423T021028UTC-8262fGnGr8@85.215.121.98
DTSTAMP:20260423T021028Z
DTSTART;TZID=Europe/Amsterdam:20100524T173000
DTEND;TZID=Europe/Amsterdam:20100524T191500
SUMMARY:K - 2. Klasse B 2009/10: Egg - Baldramsdorf
END:VEVENT
BEGIN:VEVENT
UID:20260423T021028UTC-8269SLF1pv@85.215.121.98
DTSTAMP:20260423T021028Z
DTSTART;TZID=Europe/Amsterdam:20100529T170000
DTEND;TZID=Europe/Amsterdam:20100529T184500
SUMMARY:K - 2. Klasse B 2009/10: Egg - Köstenberg
END:VEVENT
BEGIN:VEVENT
UID:20260423T021028UTC-8275FR0fpG@85.215.121.98
DTSTAMP:20260423T021028Z
DTSTART;TZID=Europe/Amsterdam:20100606T170000
DTEND;TZID=Europe/Amsterdam:20100606T184500
SUMMARY:K - 2. Klasse B 2009/10: Fresach - Egg
END:VEVENT
BEGIN:VEVENT
UID:20260423T021028UTC-8284agduNo@85.215.121.98
DTSTAMP:20260423T021028Z
DTSTART;TZID=Europe/Amsterdam:20100613T170000
DTEND;TZID=Europe/Amsterdam:20100613T184500
SUMMARY:K - 2. Klasse B 2009/10: Egg - Seebach
END:VEVENT
END:VCALENDAR
