BEGIN:VCALENDAR
VERSION:2.0
PRODID:-////NONSGML kigkonsult.se iCalcreator 2.18//
X-WR-TIMEZONE:Europe/Amsterdam
BEGIN:VTIMEZONE
TZID:Europe/Amsterdam
X-LIC-LOCATION:Europe/Amsterdam
BEGIN:STANDARD
DTSTART:20131027T030000
TZOFFSETFROM:+0200
TZOFFSETTO:+0100
RDATE:20141026T030000
TZNAME:CET
END:STANDARD
BEGIN:DAYLIGHT
DTSTART:20140330T020000
TZOFFSETFROM:+0100
TZOFFSETTO:+0200
RDATE:20150329T020000
TZNAME:CEST
END:DAYLIGHT
END:VTIMEZONE
BEGIN:VEVENT
UID:20260426T005338UTC-5001S4aoLC@85.215.121.98
DTSTAMP:20260426T005338Z
DTSTART;TZID=Europe/Amsterdam:20130728T180000
DTEND;TZID=Europe/Amsterdam:20130728T194500
SUMMARY:K - 1. Klasse A 2013/14: Thal/Assling - Stall
END:VEVENT
BEGIN:VEVENT
UID:20260426T005338UTC-5008t9B7ew@85.215.121.98
DTSTAMP:20260426T005338Z
DTSTART;TZID=Europe/Amsterdam:20130803T180000
DTEND;TZID=Europe/Amsterdam:20130803T194500
SUMMARY:K - 1. Klasse A 2013/14: Stall - Nikolsdorf
END:VEVENT
BEGIN:VEVENT
UID:20260426T005338UTC-50141H8Rm9@85.215.121.98
DTSTAMP:20260426T005338Z
DTSTART;TZID=Europe/Amsterdam:20130810T180000
DTEND;TZID=Europe/Amsterdam:20130810T194500
SUMMARY:K - 1. Klasse A 2013/14: Egg - Stall
END:VEVENT
BEGIN:VEVENT
UID:20260426T005338UTC-5020DxamRB@85.215.121.98
DTSTAMP:20260426T005338Z
DTSTART;TZID=Europe/Amsterdam:20130817T180000
DTEND;TZID=Europe/Amsterdam:20130817T194500
SUMMARY:K - 1. Klasse A 2013/14: Stall - Dellach/Dr.
END:VEVENT
BEGIN:VEVENT
UID:20260426T005338UTC-50257Lw8gk@85.215.121.98
DTSTAMP:20260426T005338Z
DTSTART;TZID=Europe/Amsterdam:20130831T170000
DTEND;TZID=Europe/Amsterdam:20130831T184500
SUMMARY:K - 1. Klasse A 2013/14: Stall - SK Grafendorf
END:VEVENT
BEGIN:VEVENT
UID:20260426T005338UTC-5030ercH2u@85.215.121.98
DTSTAMP:20260426T005338Z
DTSTART;TZID=Europe/Amsterdam:20130906T173000
DTEND;TZID=Europe/Amsterdam:20130906T191500
SUMMARY:K - 1. Klasse A 2013/14: Gitschtal - Stall
END:VEVENT
BEGIN:VEVENT
UID:20260426T005338UTC-5035ZZxBKl@85.215.121.98
DTSTAMP:20260426T005338Z
DTSTART;TZID=Europe/Amsterdam:20130908T160000
DTEND;TZID=Europe/Amsterdam:20130908T174500
SUMMARY:K - 1. Klasse A 2013/14: TSU Virgen - Stall
END:VEVENT
BEGIN:VEVENT
UID:20260426T005338UTC-5040Sgls72@85.215.121.98
DTSTAMP:20260426T005338Z
DTSTART;TZID=Europe/Amsterdam:20130914T170000
DTEND;TZID=Europe/Amsterdam:20130914T184500
SUMMARY:K - 1. Klasse A 2013/14: Stall - Sillian
END:VEVENT
BEGIN:VEVENT
UID:20260426T005338UTC-50461reUwO@85.215.121.98
DTSTAMP:20260426T005338Z
DTSTART;TZID=Europe/Amsterdam:20130921T160000
DTEND;TZID=Europe/Amsterdam:20130921T174500
SUMMARY:K - 1. Klasse A 2013/14: Dellach/Gail - Stall
END:VEVENT
BEGIN:VEVENT
UID:20260426T005338UTC-5051mVP518@85.215.121.98
DTSTAMP:20260426T005338Z
DTSTART;TZID=Europe/Amsterdam:20130929T160000
DTEND;TZID=Europe/Amsterdam:20130929T174500
SUMMARY:K - 1. Klasse A 2013/14: Stall - Kötschach
END:VEVENT
BEGIN:VEVENT
UID:20260426T005338UTC-5058Vas1Im@85.215.121.98
DTSTAMP:20260426T005338Z
DTSTART;TZID=Europe/Amsterdam:20131006T160000
DTEND;TZID=Europe/Amsterdam:20131006T174500
SUMMARY:K - 1. Klasse A 2013/14: Dölsach - Stall
END:VEVENT
BEGIN:VEVENT
UID:20260426T005338UTC-5065Cb8VUc@85.215.121.98
DTSTAMP:20260426T005338Z
DTSTART;TZID=Europe/Amsterdam:20131019T150000
DTEND;TZID=Europe/Amsterdam:20131019T164500
SUMMARY:K - 1. Klasse A 2013/14: Nötsch - Stall
END:VEVENT
BEGIN:VEVENT
UID:20260426T005338UTC-5071nXSd85@85.215.121.98
DTSTAMP:20260426T005338Z
DTSTART;TZID=Europe/Amsterdam:20131026T150000
DTEND;TZID=Europe/Amsterdam:20131026T164500
SUMMARY:K - 1. Klasse A 2013/14: Stall - Thal/Assling
END:VEVENT
BEGIN:VEVENT
UID:20260426T005338UTC-5076kwEDoe@85.215.121.98
DTSTAMP:20260426T005338Z
DTSTART;TZID=Europe/Amsterdam:20131103T103000
DTEND;TZID=Europe/Amsterdam:20131103T121500
SUMMARY:K - 1. Klasse A 2013/14: Nikolsdorf - Stall
END:VEVENT
BEGIN:VEVENT
UID:20260426T005338UTC-5081jLGdl7@85.215.121.98
DTSTAMP:20260426T005338Z
DTSTART;TZID=Europe/Amsterdam:20140329T150000
DTEND;TZID=Europe/Amsterdam:20140329T164500
SUMMARY:K - 1. Klasse A 2013/14: Stall - Egg
END:VEVENT
BEGIN:VEVENT
UID:20260426T005338UTC-5086sGsv4G@85.215.121.98
DTSTAMP:20260426T005338Z
DTSTART;TZID=Europe/Amsterdam:20140413T153000
DTEND;TZID=Europe/Amsterdam:20140413T171500
SUMMARY:K - 1. Klasse A 2013/14: Stall - Gitschtal
END:VEVENT
BEGIN:VEVENT
UID:20260426T005338UTC-5091ffVKvd@85.215.121.98
DTSTAMP:20260426T005338Z
DTSTART;TZID=Europe/Amsterdam:20140419T160000
DTEND;TZID=Europe/Amsterdam:20140419T174500
SUMMARY:K - 1. Klasse A 2013/14: SK Grafendorf - Stall
END:VEVENT
BEGIN:VEVENT
UID:20260426T005338UTC-5096EF08Bm@85.215.121.98
DTSTAMP:20260426T005338Z
DTSTART;TZID=Europe/Amsterdam:20140421T150000
DTEND;TZID=Europe/Amsterdam:20140421T164500
SUMMARY:K - 1. Klasse A 2013/14: Stall - Tristach
END:VEVENT
BEGIN:VEVENT
UID:20260426T005338UTC-5101a6Xj5Z@85.215.121.98
DTSTAMP:20260426T005338Z
DTSTART;TZID=Europe/Amsterdam:20140426T163000
DTEND;TZID=Europe/Amsterdam:20140426T181500
SUMMARY:K - 1. Klasse A 2013/14: Stall - TSU Virgen
END:VEVENT
BEGIN:VEVENT
UID:20260426T005338UTC-5107oDv6FN@85.215.121.98
DTSTAMP:20260426T005338Z
DTSTART;TZID=Europe/Amsterdam:20140501T170000
DTEND;TZID=Europe/Amsterdam:20140501T184500
SUMMARY:K - 1. Klasse A 2013/14: Dellach/Dr. - Stall
END:VEVENT
BEGIN:VEVENT
UID:20260426T005338UTC-51127v9cjT@85.215.121.98
DTSTAMP:20260426T005338Z
DTSTART;TZID=Europe/Amsterdam:20140503T173000
DTEND;TZID=Europe/Amsterdam:20140503T191500
SUMMARY:K - 1. Klasse A 2013/14: Sillian - Stall
END:VEVENT
BEGIN:VEVENT
UID:20260426T005338UTC-5117f2wXr4@85.215.121.98
DTSTAMP:20260426T005338Z
DTSTART;TZID=Europe/Amsterdam:20140510T163000
DTEND;TZID=Europe/Amsterdam:20140510T181500
SUMMARY:K - 1. Klasse A 2013/14: Stall - Dellach/Gail
END:VEVENT
BEGIN:VEVENT
UID:20260426T005338UTC-5122JxJwiV@85.215.121.98
DTSTAMP:20260426T005338Z
DTSTART;TZID=Europe/Amsterdam:20140518T123000
DTEND;TZID=Europe/Amsterdam:20140518T141500
SUMMARY:K - 1. Klasse A 2013/14: Kötschach - Stall
END:VEVENT
BEGIN:VEVENT
UID:20260426T005338UTC-51274VDkPW@85.215.121.98
DTSTAMP:20260426T005338Z
DTSTART;TZID=Europe/Amsterdam:20140523T183000
DTEND;TZID=Europe/Amsterdam:20140523T201500
SUMMARY:K - 1. Klasse A 2013/14: Stall - Dölsach
END:VEVENT
BEGIN:VEVENT
UID:20260426T005338UTC-5132wubC8j@85.215.121.98
DTSTAMP:20260426T005338Z
DTSTART;TZID=Europe/Amsterdam:20140531T173000
DTEND;TZID=Europe/Amsterdam:20140531T191500
SUMMARY:K - 1. Klasse A 2013/14: Tristach - Stall
END:VEVENT
BEGIN:VEVENT
UID:20260426T005338UTC-5136mA0Jvr@85.215.121.98
DTSTAMP:20260426T005338Z
DTSTART;TZID=Europe/Amsterdam:20140615T170000
DTEND;TZID=Europe/Amsterdam:20140615T184500
SUMMARY:K - 1. Klasse A 2013/14: Stall - Nötsch
END:VEVENT
END:VCALENDAR
