BEGIN:VCALENDAR
VERSION:2.0
PRODID:-////NONSGML kigkonsult.se iCalcreator 2.18//
X-WR-TIMEZONE:Europe/Berlin
BEGIN:VTIMEZONE
TZID:Europe/Berlin
X-LIC-LOCATION:Europe/Berlin
BEGIN:STANDARD
DTSTART:20231029T030000
TZOFFSETFROM:+0200
TZOFFSETTO:+0100
TZNAME:CET
END:STANDARD
BEGIN:DAYLIGHT
DTSTART:20240331T020000
TZOFFSETFROM:+0100
TZOFFSETTO:+0200
TZNAME:CEST
END:DAYLIGHT
END:VTIMEZONE
BEGIN:VEVENT
UID:20260421T205236UTC-6168tpU7ua@85.215.121.98
DTSTAMP:20260421T205236Z
DTSTART;TZID=Europe/Berlin:20230723T170000
DTEND;TZID=Europe/Berlin:20230723T184500
SUMMARY:ÖFB Cup 2023/24: Haitzendorf - Floridsdorfer AC
END:VEVENT
END:VCALENDAR
