BEGIN:VCALENDAR
VERSION:2.0
PRODID:-////NONSGML kigkonsult.se iCalcreator 2.18//
X-WR-TIMEZONE:Europe/Amsterdam
BEGIN:VTIMEZONE
TZID:Europe/Amsterdam
X-LIC-LOCATION:Europe/Amsterdam
BEGIN:STANDARD
DTSTART:20091025T030000
TZOFFSETFROM:+0200
TZOFFSETTO:+0100
RDATE:20101031T030000
TZNAME:CET
END:STANDARD
BEGIN:DAYLIGHT
DTSTART:20100328T020000
TZOFFSETFROM:+0100
TZOFFSETTO:+0200
RDATE:20110327T020000
TZNAME:CEST
END:DAYLIGHT
END:VTIMEZONE
BEGIN:VEVENT
UID:20260423T203650UTC-8991pcgopA@85.215.121.98
DTSTAMP:20260423T203650Z
DTSTART;TZID=Europe/Amsterdam:20090801T170000
DTEND;TZID=Europe/Amsterdam:20090801T184500
SUMMARY:K - 2. Klasse C 2009/10: Ferlach DSG - Ossiach
END:VEVENT
BEGIN:VEVENT
UID:20260423T203650UTC-8997PKrUUu@85.215.121.98
DTSTAMP:20260423T203650Z
DTSTART;TZID=Europe/Amsterdam:20090808T173000
DTEND;TZID=Europe/Amsterdam:20090808T191500
SUMMARY:K - 2. Klasse C 2009/10: Ossiach - HSV
END:VEVENT
BEGIN:VEVENT
UID:20260423T203650UTC-9004DDuJt2@85.215.121.98
DTSTAMP:20260423T203650Z
DTSTART;TZID=Europe/Amsterdam:20090815T173000
DTEND;TZID=Europe/Amsterdam:20090815T191500
SUMMARY:K - 2. Klasse C 2009/10: Micheldorf - Ossiach
END:VEVENT
BEGIN:VEVENT
UID:20260423T203650UTC-90114GrT2R@85.215.121.98
DTSTAMP:20260423T203650Z
DTSTART;TZID=Europe/Amsterdam:20090822T170000
DTEND;TZID=Europe/Amsterdam:20090822T184500
SUMMARY:K - 2. Klasse C 2009/10: Krumpendorf - Ossiach
END:VEVENT
BEGIN:VEVENT
UID:20260423T203650UTC-90180JsVZ2@85.215.121.98
DTSTAMP:20260423T203650Z
DTSTART;TZID=Europe/Amsterdam:20090829T173000
DTEND;TZID=Europe/Amsterdam:20090829T191500
SUMMARY:K - 2. Klasse C 2009/10: Ossiach - Kappel
END:VEVENT
BEGIN:VEVENT
UID:20260423T203650UTC-9024irh0l7@85.215.121.98
DTSTAMP:20260423T203650Z
DTSTART;TZID=Europe/Amsterdam:20090905T170000
DTEND;TZID=Europe/Amsterdam:20090905T184500
SUMMARY:K - 2. Klasse C 2009/10: Weitensfeld - Ossiach
END:VEVENT
BEGIN:VEVENT
UID:20260423T203650UTC-9040jEp1tg@85.215.121.98
DTSTAMP:20260423T203650Z
DTSTART;TZID=Europe/Amsterdam:20090913T103000
DTEND;TZID=Europe/Amsterdam:20090913T121500
SUMMARY:K - 2. Klasse C 2009/10: Ossiach - Himmelberg
END:VEVENT
BEGIN:VEVENT
UID:20260423T203650UTC-9046WuBZoR@85.215.121.98
DTSTAMP:20260423T203650Z
DTSTART;TZID=Europe/Amsterdam:20090919T163000
DTEND;TZID=Europe/Amsterdam:20090919T181500
SUMMARY:K - 2. Klasse C 2009/10: Viktring - Ossiach
END:VEVENT
BEGIN:VEVENT
UID:20260423T203650UTC-90527XFTPe@85.215.121.98
DTSTAMP:20260423T203650Z
DTSTART;TZID=Europe/Amsterdam:20090926T163000
DTEND;TZID=Europe/Amsterdam:20090926T181500
SUMMARY:K - 2. Klasse C 2009/10: Ossiach - St. Urban
END:VEVENT
BEGIN:VEVENT
UID:20260423T203650UTC-9060E7V7OD@85.215.121.98
DTSTAMP:20260423T203650Z
DTSTART;TZID=Europe/Amsterdam:20091004T160000
DTEND;TZID=Europe/Amsterdam:20091004T174500
SUMMARY:K - 2. Klasse C 2009/10: Keutschach - Ossiach
END:VEVENT
BEGIN:VEVENT
UID:20260423T203650UTC-9066ov53vO@85.215.121.98
DTSTAMP:20260423T203650Z
DTSTART;TZID=Europe/Amsterdam:20091010T153000
DTEND;TZID=Europe/Amsterdam:20091010T171500
SUMMARY:K - 2. Klasse C 2009/10: Ossiach - Feistritz/Ros.
END:VEVENT
BEGIN:VEVENT
UID:20260423T203650UTC-9072W0dtfS@85.215.121.98
DTSTAMP:20260423T203650Z
DTSTART;TZID=Europe/Amsterdam:20091018T150000
DTEND;TZID=Europe/Amsterdam:20091018T164500
SUMMARY:K - 2. Klasse C 2009/10: Oberglan - Ossiach
END:VEVENT
BEGIN:VEVENT
UID:20260423T203650UTC-9081VpvU4a@85.215.121.98
DTSTAMP:20260423T203650Z
DTSTART;TZID=Europe/Amsterdam:20091024T153000
DTEND;TZID=Europe/Amsterdam:20091024T171500
SUMMARY:K - 2. Klasse C 2009/10: Ossiach - Sörg
END:VEVENT
BEGIN:VEVENT
UID:20260423T203650UTC-908702NueL@85.215.121.98
DTSTAMP:20260423T203650Z
DTSTART;TZID=Europe/Amsterdam:20091031T143000
DTEND;TZID=Europe/Amsterdam:20091031T161500
SUMMARY:K - 2. Klasse C 2009/10: Ossiach - Ferlach DSG
END:VEVENT
BEGIN:VEVENT
UID:20260423T203650UTC-9093uE442V@85.215.121.98
DTSTAMP:20260423T203650Z
DTSTART;TZID=Europe/Amsterdam:20100320T150000
DTEND;TZID=Europe/Amsterdam:20100320T164500
SUMMARY:K - 2. Klasse C 2009/10: HSV - Ossiach
END:VEVENT
BEGIN:VEVENT
UID:20260423T203650UTC-9098GdPVhn@85.215.121.98
DTSTAMP:20260423T203650Z
DTSTART;TZID=Europe/Amsterdam:20100403T150000
DTEND;TZID=Europe/Amsterdam:20100403T164500
SUMMARY:K - 2. Klasse C 2009/10: Ossiach - Krumpendorf
END:VEVENT
BEGIN:VEVENT
UID:20260423T203650UTC-9134JezaHK@85.215.121.98
DTSTAMP:20260423T203650Z
DTSTART;TZID=Europe/Amsterdam:20100410T160000
DTEND;TZID=Europe/Amsterdam:20100410T174500
SUMMARY:K - 2. Klasse C 2009/10: Kappel - Ossiach
END:VEVENT
BEGIN:VEVENT
UID:20260423T203650UTC-91409UscAw@85.215.121.98
DTSTAMP:20260423T203650Z
DTSTART;TZID=Europe/Amsterdam:20100417T160000
DTEND;TZID=Europe/Amsterdam:20100417T174500
SUMMARY:K - 2. Klasse C 2009/10: Ossiach - Weitensfeld
END:VEVENT
BEGIN:VEVENT
UID:20260423T203650UTC-914689AVnf@85.215.121.98
DTSTAMP:20260423T203650Z
DTSTART;TZID=Europe/Amsterdam:20100424T170000
DTEND;TZID=Europe/Amsterdam:20100424T184500
SUMMARY:K - 2. Klasse C 2009/10: Himmelberg - Ossiach
END:VEVENT
BEGIN:VEVENT
UID:20260423T203650UTC-9155Uz1sjV@85.215.121.98
DTSTAMP:20260423T203650Z
DTSTART;TZID=Europe/Amsterdam:20100502T110000
DTEND;TZID=Europe/Amsterdam:20100502T124500
SUMMARY:K - 2. Klasse C 2009/10: Ossiach - Viktring
END:VEVENT
BEGIN:VEVENT
UID:20260423T203650UTC-91620wSDcN@85.215.121.98
DTSTAMP:20260423T203650Z
DTSTART;TZID=Europe/Amsterdam:20100509T170000
DTEND;TZID=Europe/Amsterdam:20100509T184500
SUMMARY:K - 2. Klasse C 2009/10: St. Urban - Ossiach
END:VEVENT
BEGIN:VEVENT
UID:20260423T203650UTC-9171zbtVs0@85.215.121.98
DTSTAMP:20260423T203650Z
DTSTART;TZID=Europe/Amsterdam:20100513T170000
DTEND;TZID=Europe/Amsterdam:20100513T184500
SUMMARY:K - 2. Klasse C 2009/10: Ossiach - Micheldorf
END:VEVENT
BEGIN:VEVENT
UID:20260423T203650UTC-9180BiNH3F@85.215.121.98
DTSTAMP:20260423T203650Z
DTSTART;TZID=Europe/Amsterdam:20100515T170000
DTEND;TZID=Europe/Amsterdam:20100515T184500
SUMMARY:K - 2. Klasse C 2009/10: Ossiach - Keutschach
END:VEVENT
BEGIN:VEVENT
UID:20260423T203650UTC-91962rPNpU@85.215.121.98
DTSTAMP:20260423T203650Z
DTSTART;TZID=Europe/Amsterdam:20100530T180000
DTEND;TZID=Europe/Amsterdam:20100530T194500
SUMMARY:K - 2. Klasse C 2009/10: Feistritz/Ros. - Ossiach
END:VEVENT
BEGIN:VEVENT
UID:20260423T203650UTC-92104ZUCXu@85.215.121.98
DTSTAMP:20260423T203650Z
DTSTART;TZID=Europe/Amsterdam:20100606T110000
DTEND;TZID=Europe/Amsterdam:20100606T124500
SUMMARY:K - 2. Klasse C 2009/10: Ossiach - Oberglan
END:VEVENT
BEGIN:VEVENT
UID:20260423T203650UTC-921810uf4S@85.215.121.98
DTSTAMP:20260423T203650Z
DTSTART;TZID=Europe/Amsterdam:20100612T170000
DTEND;TZID=Europe/Amsterdam:20100612T184500
SUMMARY:K - 2. Klasse C 2009/10: Sörg - Ossiach
END:VEVENT
END:VCALENDAR
