BEGIN:VCALENDAR
VERSION:2.0
PRODID:-////NONSGML kigkonsult.se iCalcreator 2.18//
X-WR-TIMEZONE:Europe/Berlin
BEGIN:VTIMEZONE
TZID:Europe/Berlin
X-LIC-LOCATION:Europe/Berlin
BEGIN:STANDARD
DTSTART:20171029T030000
TZOFFSETFROM:+0200
TZOFFSETTO:+0100
RDATE:20181028T030000
TZNAME:CET
END:STANDARD
BEGIN:DAYLIGHT
DTSTART:20180325T020000
TZOFFSETFROM:+0100
TZOFFSETTO:+0200
RDATE:20190331T020000
TZNAME:CEST
END:DAYLIGHT
END:VTIMEZONE
BEGIN:VEVENT
UID:20260425T145141UTC-7153fMVjN4@85.215.121.98
DTSTAMP:20260425T145141Z
DTSTART;TZID=Europe/Berlin:20170730T180000
DTEND;TZID=Europe/Berlin:20170730T194500
SUMMARY:K - 2. Klasse C 2017/18: Afritz - Treffen
END:VEVENT
BEGIN:VEVENT
UID:20260425T145141UTC-7165zzHAMb@85.215.121.98
DTSTAMP:20260425T145141Z
DTSTART;TZID=Europe/Berlin:20170805T173000
DTEND;TZID=Europe/Berlin:20170805T191500
SUMMARY:K - 2. Klasse C 2017/18: Weißenstein - Afritz
END:VEVENT
BEGIN:VEVENT
UID:20260425T145141UTC-7205cjxgrT@85.215.121.98
DTSTAMP:20260425T145141Z
DTSTART;TZID=Europe/Berlin:20170812T180000
DTEND;TZID=Europe/Berlin:20170812T194500
SUMMARY:K - 2. Klasse C 2017/18: Afritz - ASKÖ Techelsberg/DSG Köstenberg
END:VEVENT
BEGIN:VEVENT
UID:20260425T145141UTC-7212d10KKt@85.215.121.98
DTSTAMP:20260425T145141Z
DTSTART;TZID=Europe/Berlin:20170815T160000
DTEND;TZID=Europe/Berlin:20170815T174500
SUMMARY:K - 2. Klasse C 2017/18: Arriach - Afritz
END:VEVENT
BEGIN:VEVENT
UID:20260425T145141UTC-7245rw8gfN@85.215.121.98
DTSTAMP:20260425T145141Z
DTSTART;TZID=Europe/Berlin:20170820T180000
DTEND;TZID=Europe/Berlin:20170820T194500
SUMMARY:K - 2. Klasse C 2017/18: Afritz - Gitschtal
END:VEVENT
BEGIN:VEVENT
UID:20260425T145141UTC-7252mZd9Ud@85.215.121.98
DTSTAMP:20260425T145141Z
DTSTART;TZID=Europe/Berlin:20170827T173000
DTEND;TZID=Europe/Berlin:20170827T191500
SUMMARY:K - 2. Klasse C 2017/18: Arnoldstein - Afritz
END:VEVENT
BEGIN:VEVENT
UID:20260425T145141UTC-72592wXZWc@85.215.121.98
DTSTAMP:20260425T145141Z
DTSTART;TZID=Europe/Berlin:20170903T170000
DTEND;TZID=Europe/Berlin:20170903T184500
SUMMARY:K - 2. Klasse C 2017/18: Afritz - VSV
END:VEVENT
BEGIN:VEVENT
UID:20260425T145141UTC-7265cuoxX5@85.215.121.98
DTSTAMP:20260425T145141Z
DTSTART;TZID=Europe/Berlin:20170910T163000
DTEND;TZID=Europe/Berlin:20170910T181500
SUMMARY:K - 2. Klasse C 2017/18: SK Grafendorf - Afritz
END:VEVENT
BEGIN:VEVENT
UID:20260425T145141UTC-7271uWruKf@85.215.121.98
DTSTAMP:20260425T145141Z
DTSTART;TZID=Europe/Berlin:20170917T160000
DTEND;TZID=Europe/Berlin:20170917T174500
SUMMARY:K - 2. Klasse C 2017/18: Afritz - Landskron 1b
END:VEVENT
BEGIN:VEVENT
UID:20260425T145141UTC-7279gUHLxu@85.215.121.98
DTSTAMP:20260425T145141Z
DTSTART;TZID=Europe/Berlin:20170924T160000
DTEND;TZID=Europe/Berlin:20170924T174500
SUMMARY:K - 2. Klasse C 2017/18: Draschitz - Afritz
END:VEVENT
BEGIN:VEVENT
UID:20260425T145141UTC-7285kVboKA@85.215.121.98
DTSTAMP:20260425T145141Z
DTSTART;TZID=Europe/Berlin:20170930T160000
DTEND;TZID=Europe/Berlin:20170930T174500
SUMMARY:K - 2. Klasse C 2017/18: Afritz - SG FC Bad Kleinkirchheim/SC Reich
 enau 1b
END:VEVENT
BEGIN:VEVENT
UID:20260425T145141UTC-7324JjgeS8@85.215.121.98
DTSTAMP:20260425T145141Z
DTSTART;TZID=Europe/Berlin:20171007T160000
DTEND;TZID=Europe/Berlin:20171007T174500
SUMMARY:K - 2. Klasse C 2017/18: Afritz - Faakersee 1b
END:VEVENT
BEGIN:VEVENT
UID:20260425T145141UTC-73310IxM9e@85.215.121.98
DTSTAMP:20260425T145141Z
DTSTART;TZID=Europe/Berlin:20171014T150000
DTEND;TZID=Europe/Berlin:20171014T164500
SUMMARY:K - 2. Klasse C 2017/18: Feldkirchen SV 1b - Afritz
END:VEVENT
BEGIN:VEVENT
UID:20260425T145141UTC-7336gUNXfz@85.215.121.98
DTSTAMP:20260425T145141Z
DTSTART;TZID=Europe/Berlin:20171021T150000
DTEND;TZID=Europe/Berlin:20171021T164500
SUMMARY:K - 2. Klasse C 2017/18: Afritz - Himmelberg
END:VEVENT
BEGIN:VEVENT
UID:20260425T145141UTC-7342brPsTM@85.215.121.98
DTSTAMP:20260425T145141Z
DTSTART;TZID=Europe/Berlin:20171029T140000
DTEND;TZID=Europe/Berlin:20171029T154500
SUMMARY:K - 2. Klasse C 2017/18: St. Jakob/Ros. 1b - Afritz
END:VEVENT
BEGIN:VEVENT
UID:20260425T145141UTC-73488SClc4@85.215.121.98
DTSTAMP:20260425T145141Z
DTSTART;TZID=Europe/Berlin:20171104T140000
DTEND;TZID=Europe/Berlin:20171104T154500
SUMMARY:K - 2. Klasse C 2017/18: Treffen - Afritz
END:VEVENT
BEGIN:VEVENT
UID:20260425T145141UTC-73544m3vWS@85.215.121.98
DTSTAMP:20260425T145141Z
DTSTART;TZID=Europe/Berlin:20180331T160000
DTEND;TZID=Europe/Berlin:20180331T174500
SUMMARY:K - 2. Klasse C 2017/18: ASKÖ Techelsberg/DSG Köstenberg - Afritz
END:VEVENT
BEGIN:VEVENT
UID:20260425T145141UTC-7360dZl4CD@85.215.121.98
DTSTAMP:20260425T145141Z
DTSTART;TZID=Europe/Berlin:20180408T153000
DTEND;TZID=Europe/Berlin:20180408T171500
SUMMARY:K - 2. Klasse C 2017/18: Afritz - Arriach
END:VEVENT
BEGIN:VEVENT
UID:20260425T145141UTC-7366arhEpA@85.215.121.98
DTSTAMP:20260425T145141Z
DTSTART;TZID=Europe/Berlin:20180415T150000
DTEND;TZID=Europe/Berlin:20180415T164500
SUMMARY:K - 2. Klasse C 2017/18: Gitschtal - Afritz
END:VEVENT
BEGIN:VEVENT
UID:20260425T145141UTC-74047EdPIX@85.215.121.98
DTSTAMP:20260425T145141Z
DTSTART;TZID=Europe/Berlin:20180421T170000
DTEND;TZID=Europe/Berlin:20180421T184500
SUMMARY:K - 2. Klasse C 2017/18: Afritz - Arnoldstein
END:VEVENT
BEGIN:VEVENT
UID:20260425T145141UTC-74100fuM2d@85.215.121.98
DTSTAMP:20260425T145141Z
DTSTART;TZID=Europe/Berlin:20180428T170000
DTEND;TZID=Europe/Berlin:20180428T184500
SUMMARY:K - 2. Klasse C 2017/18: VSV - Afritz
END:VEVENT
BEGIN:VEVENT
UID:20260425T145141UTC-74173uvwV7@85.215.121.98
DTSTAMP:20260425T145141Z
DTSTART;TZID=Europe/Berlin:20180501T110000
DTEND;TZID=Europe/Berlin:20180501T124500
SUMMARY:K - 2. Klasse C 2017/18: Afritz - Weißenstein
END:VEVENT
BEGIN:VEVENT
UID:20260425T145141UTC-7423UavnoE@85.215.121.98
DTSTAMP:20260425T145141Z
DTSTART;TZID=Europe/Berlin:20180505T150000
DTEND;TZID=Europe/Berlin:20180505T164500
SUMMARY:K - 2. Klasse C 2017/18: Afritz - SK Grafendorf
END:VEVENT
BEGIN:VEVENT
UID:20260425T145141UTC-7429090PR3@85.215.121.98
DTSTAMP:20260425T145141Z
DTSTART;TZID=Europe/Berlin:20180510T160000
DTEND;TZID=Europe/Berlin:20180510T174500
SUMMARY:K - 2. Klasse C 2017/18: Landskron 1b - Afritz
END:VEVENT
BEGIN:VEVENT
UID:20260425T145141UTC-7434gaUcVG@85.215.121.98
DTSTAMP:20260425T145141Z
DTSTART;TZID=Europe/Berlin:20180512T160000
DTEND;TZID=Europe/Berlin:20180512T174500
SUMMARY:K - 2. Klasse C 2017/18: Afritz - Draschitz
END:VEVENT
BEGIN:VEVENT
UID:20260425T145141UTC-7440Xbbu9P@85.215.121.98
DTSTAMP:20260425T145141Z
DTSTART;TZID=Europe/Berlin:20180519T170000
DTEND;TZID=Europe/Berlin:20180519T184500
SUMMARY:K - 2. Klasse C 2017/18: SG FC Bad Kleinkirchheim/SC Reichenau 1b -
  Afritz
END:VEVENT
BEGIN:VEVENT
UID:20260425T145141UTC-7454uUPVCz@85.215.121.98
DTSTAMP:20260425T145141Z
DTSTART;TZID=Europe/Berlin:20180527T150000
DTEND;TZID=Europe/Berlin:20180527T164500
SUMMARY:K - 2. Klasse C 2017/18: Faakersee 1b - Afritz
END:VEVENT
BEGIN:VEVENT
UID:20260425T145141UTC-7460nbPT5o@85.215.121.98
DTSTAMP:20260425T145141Z
DTSTART;TZID=Europe/Berlin:20180530T183000
DTEND;TZID=Europe/Berlin:20180530T201500
SUMMARY:K - 2. Klasse C 2017/18: Afritz - Feldkirchen SV 1b
END:VEVENT
BEGIN:VEVENT
UID:20260425T145141UTC-7465MmxNz5@85.215.121.98
DTSTAMP:20260425T145141Z
DTSTART;TZID=Europe/Berlin:20180602T150000
DTEND;TZID=Europe/Berlin:20180602T164500
SUMMARY:K - 2. Klasse C 2017/18: Himmelberg - Afritz
END:VEVENT
BEGIN:VEVENT
UID:20260425T145141UTC-7494UmrtVA@85.215.121.98
DTSTAMP:20260425T145141Z
DTSTART;TZID=Europe/Berlin:20180609T180000
DTEND;TZID=Europe/Berlin:20180609T194500
SUMMARY:K - 2. Klasse C 2017/18: Afritz - St. Jakob/Ros. 1b
END:VEVENT
END:VCALENDAR
