BEGIN:VCALENDAR
VERSION:2.0
PRODID:-////NONSGML kigkonsult.se iCalcreator 2.18//
X-WR-TIMEZONE:Europe/Berlin
BEGIN:VTIMEZONE
TZID:Europe/Berlin
X-LIC-LOCATION:Europe/Berlin
BEGIN:STANDARD
DTSTART:20201025T030000
TZOFFSETFROM:+0200
TZOFFSETTO:+0100
RDATE:20211031T030000
TZNAME:CET
END:STANDARD
BEGIN:DAYLIGHT
DTSTART:20210328T020000
TZOFFSETFROM:+0100
TZOFFSETTO:+0200
RDATE:20220327T020000
TZNAME:CEST
END:DAYLIGHT
END:VTIMEZONE
BEGIN:VEVENT
UID:20260423T204421UTC-8382uUDJ2U@85.215.121.98
DTSTAMP:20260423T204421Z
DTSTART;TZID=Europe/Berlin:20200801T170000
DTEND;TZID=Europe/Berlin:20200801T184500
SUMMARY:K - 2. Klasse B 2020/21: Treffen - Töplitsch
END:VEVENT
BEGIN:VEVENT
UID:20260423T204421UTC-8390HbGn38@85.215.121.98
DTSTAMP:20260423T204421Z
DTSTART;TZID=Europe/Berlin:20200808T160000
DTEND;TZID=Europe/Berlin:20200808T174500
SUMMARY:K - 2. Klasse B 2020/21: Töplitsch - Ferndorf
END:VEVENT
BEGIN:VEVENT
UID:20260423T204421UTC-8397aGxWzZ@85.215.121.98
DTSTAMP:20260423T204421Z
DTSTART;TZID=Europe/Berlin:20200815T180000
DTEND;TZID=Europe/Berlin:20200815T194500
SUMMARY:K - 2. Klasse B 2020/21: Arnoldstein - Töplitsch
END:VEVENT
BEGIN:VEVENT
UID:20260423T204421UTC-8402bvi2Kg@85.215.121.98
DTSTAMP:20260423T204421Z
DTSTART;TZID=Europe/Berlin:20200822T180000
DTEND;TZID=Europe/Berlin:20200822T194500
SUMMARY:K - 2. Klasse B 2020/21: Töplitsch - Kleinkirchheim
END:VEVENT
BEGIN:VEVENT
UID:20260423T204421UTC-8407uF6moR@85.215.121.98
DTSTAMP:20260423T204421Z
DTSTART;TZID=Europe/Berlin:20200905T150000
DTEND;TZID=Europe/Berlin:20200905T164500
SUMMARY:K - 2. Klasse B 2020/21: Töplitsch - Bodensdorf
END:VEVENT
BEGIN:VEVENT
UID:20260423T204421UTC-8412UnVKJd@85.215.121.98
DTSTAMP:20260423T204421Z
DTSTART;TZID=Europe/Berlin:20200909T173000
DTEND;TZID=Europe/Berlin:20200909T191500
SUMMARY:K - 2. Klasse B 2020/21: SG SV St. Jakob/Ros/DSG Ledenitzen 1b - Tö
 plitsch
END:VEVENT
BEGIN:VEVENT
UID:20260423T204421UTC-8418gXbUVp@85.215.121.98
DTSTAMP:20260423T204421Z
DTSTART;TZID=Europe/Berlin:20200912T163000
DTEND;TZID=Europe/Berlin:20200912T181500
SUMMARY:K - 2. Klasse B 2020/21: Draschitz - Töplitsch
END:VEVENT
BEGIN:VEVENT
UID:20260423T204421UTC-8424eednfv@85.215.121.98
DTSTAMP:20260423T204421Z
DTSTART;TZID=Europe/Berlin:20200919T163000
DTEND;TZID=Europe/Berlin:20200919T181500
SUMMARY:K - 2. Klasse B 2020/21: Töplitsch - Admira Villach 1b
END:VEVENT
BEGIN:VEVENT
UID:20260423T204421UTC-8431D6Nrio@85.215.121.98
DTSTAMP:20260423T204421Z
DTSTART;TZID=Europe/Berlin:20200926T163000
DTEND;TZID=Europe/Berlin:20200926T181500
SUMMARY:K - 2. Klasse B 2020/21: Rosegg - Töplitsch
END:VEVENT
BEGIN:VEVENT
UID:20260423T204421UTC-8437gFChVp@85.215.121.98
DTSTAMP:20260423T204421Z
DTSTART;TZID=Europe/Berlin:20201003T150000
DTEND;TZID=Europe/Berlin:20201003T164500
SUMMARY:K - 2. Klasse B 2020/21: Afritz - Töplitsch
END:VEVENT
BEGIN:VEVENT
UID:20260423T204421UTC-8443s3MVFw@85.215.121.98
DTSTAMP:20260423T204421Z
DTSTART;TZID=Europe/Berlin:20201010T150000
DTEND;TZID=Europe/Berlin:20201010T164500
SUMMARY:K - 2. Klasse B 2020/21: Töplitsch - Weißenstein
END:VEVENT
BEGIN:VEVENT
UID:20260423T204421UTC-84491IZFTz@85.215.121.98
DTSTAMP:20260423T204421Z
DTSTART;TZID=Europe/Berlin:20201018T150000
DTEND;TZID=Europe/Berlin:20201018T164500
SUMMARY:K - 2. Klasse B 2020/21: Landskron 1b - Töplitsch
END:VEVENT
BEGIN:VEVENT
UID:20260423T204421UTC-8455JDBavd@85.215.121.98
DTSTAMP:20260423T204421Z
DTSTART;TZID=Europe/Berlin:20201024T130000
DTEND;TZID=Europe/Berlin:20201024T144500
SUMMARY:K - 2. Klasse B 2020/21: Töplitsch - Bad Bleiberg
END:VEVENT
BEGIN:VEVENT
UID:20260423T204421UTC-8461mnUkxv@85.215.121.98
DTSTAMP:20260423T204421Z
DTSTART;TZID=Europe/Berlin:20201031T140000
DTEND;TZID=Europe/Berlin:20201031T154500
SUMMARY:K - 2. Klasse B 2020/21: Arriach - Töplitsch
END:VEVENT
BEGIN:VEVENT
UID:20260423T204421UTC-8466SzEWVu@85.215.121.98
DTSTAMP:20260423T204421Z
DTSTART;TZID=Europe/Berlin:20210320T150000
DTEND;TZID=Europe/Berlin:20210320T164500
SUMMARY:K - 2. Klasse B 2020/21: Ferndorf - Töplitsch
END:VEVENT
BEGIN:VEVENT
UID:20260423T204421UTC-8473LhAee3@85.215.121.98
DTSTAMP:20260423T204421Z
DTSTART;TZID=Europe/Berlin:20210328T230000
DTEND;TZID=Europe/Berlin:20210329T004500
SUMMARY:K - 2. Klasse B 2020/21: Töplitsch - Arnoldstein
END:VEVENT
BEGIN:VEVENT
UID:20260423T204421UTC-8479igBKCw@85.215.121.98
DTSTAMP:20260423T204421Z
DTSTART;TZID=Europe/Berlin:20210403T160000
DTEND;TZID=Europe/Berlin:20210403T174500
SUMMARY:K - 2. Klasse B 2020/21: Kleinkirchheim - Töplitsch
END:VEVENT
BEGIN:VEVENT
UID:20260423T204421UTC-8485GrPCUm@85.215.121.98
DTSTAMP:20260423T204421Z
DTSTART;TZID=Europe/Berlin:20210411T230000
DTEND;TZID=Europe/Berlin:20210412T004500
SUMMARY:K - 2. Klasse B 2020/21: Töplitsch - SG SV St. Jakob/Ros/DSG Ledeni
 tzen 1b
END:VEVENT
BEGIN:VEVENT
UID:20260423T204421UTC-8490IMXStV@85.215.121.98
DTSTAMP:20260423T204421Z
DTSTART;TZID=Europe/Berlin:20210416T230000
DTEND;TZID=Europe/Berlin:20210417T004500
SUMMARY:K - 2. Klasse B 2020/21: Töplitsch - Treffen
END:VEVENT
BEGIN:VEVENT
UID:20260423T204421UTC-8496h06fbx@85.215.121.98
DTSTAMP:20260423T204421Z
DTSTART;TZID=Europe/Berlin:20210418T150000
DTEND;TZID=Europe/Berlin:20210418T164500
SUMMARY:K - 2. Klasse B 2020/21: Bodensdorf - Töplitsch
END:VEVENT
BEGIN:VEVENT
UID:20260423T204421UTC-85025xOoRU@85.215.121.98
DTSTAMP:20260423T204421Z
DTSTART;TZID=Europe/Berlin:20210425T230000
DTEND;TZID=Europe/Berlin:20210426T004500
SUMMARY:K - 2. Klasse B 2020/21: Töplitsch - Draschitz
END:VEVENT
BEGIN:VEVENT
UID:20260423T204421UTC-8508hPUWuR@85.215.121.98
DTSTAMP:20260423T204421Z
DTSTART;TZID=Europe/Berlin:20210502T230000
DTEND;TZID=Europe/Berlin:20210503T004500
SUMMARY:K - 2. Klasse B 2020/21: Admira Villach 1b - Töplitsch
END:VEVENT
BEGIN:VEVENT
UID:20260423T204421UTC-8513dKbo9O@85.215.121.98
DTSTAMP:20260423T204421Z
DTSTART;TZID=Europe/Berlin:20210509T230000
DTEND;TZID=Europe/Berlin:20210510T004500
SUMMARY:K - 2. Klasse B 2020/21: Töplitsch - Rosegg
END:VEVENT
BEGIN:VEVENT
UID:20260423T204421UTC-85200m2LAA@85.215.121.98
DTSTAMP:20260423T204421Z
DTSTART;TZID=Europe/Berlin:20210513T230000
DTEND;TZID=Europe/Berlin:20210514T004500
SUMMARY:K - 2. Klasse B 2020/21: Töplitsch - Afritz
END:VEVENT
BEGIN:VEVENT
UID:20260423T204421UTC-8525HPRUmX@85.215.121.98
DTSTAMP:20260423T204421Z
DTSTART;TZID=Europe/Berlin:20210516T230000
DTEND;TZID=Europe/Berlin:20210517T004500
SUMMARY:K - 2. Klasse B 2020/21: Weißenstein - Töplitsch
END:VEVENT
BEGIN:VEVENT
UID:20260423T204421UTC-8531KmNXKu@85.215.121.98
DTSTAMP:20260423T204421Z
DTSTART;TZID=Europe/Berlin:20210523T230000
DTEND;TZID=Europe/Berlin:20210524T004500
SUMMARY:K - 2. Klasse B 2020/21: Töplitsch - Landskron 1b
END:VEVENT
BEGIN:VEVENT
UID:20260423T204421UTC-85377Je0zm@85.215.121.98
DTSTAMP:20260423T204421Z
DTSTART;TZID=Europe/Berlin:20210529T170000
DTEND;TZID=Europe/Berlin:20210529T184500
SUMMARY:K - 2. Klasse B 2020/21: Bad Bleiberg - Töplitsch
END:VEVENT
BEGIN:VEVENT
UID:20260423T204421UTC-8542xu7VfW@85.215.121.98
DTSTAMP:20260423T204421Z
DTSTART;TZID=Europe/Berlin:20210606T230000
DTEND;TZID=Europe/Berlin:20210607T004500
SUMMARY:K - 2. Klasse B 2020/21: Töplitsch - Arriach
END:VEVENT
BEGIN:VEVENT
UID:20260423T204421UTC-8548rGbTZu@85.215.121.98
DTSTAMP:20260423T204421Z
DTSTART;TZID=Europe/Berlin:20210612T180000
DTEND;TZID=Europe/Berlin:20210612T194500
SUMMARY:K - 2. Klasse B 2020/21: Obermillstatt - Töplitsch
END:VEVENT
BEGIN:VEVENT
UID:20260423T204421UTC-8554nuFEFM@85.215.121.98
DTSTAMP:20260423T204421Z
DTSTART;TZID=Europe/Berlin:20210626T160000
DTEND;TZID=Europe/Berlin:20210626T174500
SUMMARY:K - 2. Klasse B 2020/21: Töplitsch - Obermillstatt
END:VEVENT
END:VCALENDAR
