BEGIN:VCALENDAR
VERSION:2.0
PRODID:-////NONSGML kigkonsult.se iCalcreator 2.18//
X-WR-TIMEZONE:Europe/Berlin
BEGIN:VTIMEZONE
TZID:Europe/Berlin
X-LIC-LOCATION:Europe/Berlin
BEGIN:STANDARD
DTSTART:20171029T030000
TZOFFSETFROM:+0200
TZOFFSETTO:+0100
RDATE:20181028T030000
TZNAME:CET
END:STANDARD
BEGIN:DAYLIGHT
DTSTART:20180325T020000
TZOFFSETFROM:+0100
TZOFFSETTO:+0200
RDATE:20190331T020000
TZNAME:CEST
END:DAYLIGHT
END:VTIMEZONE
BEGIN:VEVENT
UID:20260423T194656UTC-61005T2vdK@85.215.121.98
DTSTAMP:20260423T194656Z
DTSTART;TZID=Europe/Berlin:20170729T180000
DTEND;TZID=Europe/Berlin:20170729T194500
SUMMARY:K - 2. Klasse D 2017/18: Gurk - Maria Rain
END:VEVENT
BEGIN:VEVENT
UID:20260423T194656UTC-6106JAWs4V@85.215.121.98
DTSTAMP:20260423T194656Z
DTSTART;TZID=Europe/Berlin:20170806T103000
DTEND;TZID=Europe/Berlin:20170806T121500
SUMMARY:K - 2. Klasse D 2017/18: St. Veit - Gurk
END:VEVENT
BEGIN:VEVENT
UID:20260423T194656UTC-6110sS5JMU@85.215.121.98
DTSTAMP:20260423T194656Z
DTSTART;TZID=Europe/Berlin:20170812T180000
DTEND;TZID=Europe/Berlin:20170812T194500
SUMMARY:K - 2. Klasse D 2017/18: Gurk - Keutschach
END:VEVENT
BEGIN:VEVENT
UID:20260423T194656UTC-6115vDZdA9@85.215.121.98
DTSTAMP:20260423T194656Z
DTSTART;TZID=Europe/Berlin:20170815T150000
DTEND;TZID=Europe/Berlin:20170815T164500
SUMMARY:K - 2. Klasse D 2017/18: Friesach - Gurk
END:VEVENT
BEGIN:VEVENT
UID:20260423T194656UTC-6119PBt0SZ@85.215.121.98
DTSTAMP:20260423T194656Z
DTSTART;TZID=Europe/Berlin:20170826T160000
DTEND;TZID=Europe/Berlin:20170826T174500
SUMMARY:K - 2. Klasse D 2017/18: Straßburg - Gurk
END:VEVENT
BEGIN:VEVENT
UID:20260423T194656UTC-6125REx4Hp@85.215.121.98
DTSTAMP:20260423T194656Z
DTSTART;TZID=Europe/Berlin:20170901T170000
DTEND;TZID=Europe/Berlin:20170901T184500
SUMMARY:K - 2. Klasse D 2017/18: Gurk - SG ASKÖ Köttmannsdorf/ASKÖ Ludmanns
 dorf Juniors 1b
END:VEVENT
BEGIN:VEVENT
UID:20260423T194656UTC-61299cdj9v@85.215.121.98
DTSTAMP:20260423T194656Z
DTSTART;TZID=Europe/Berlin:20170903T150000
DTEND;TZID=Europe/Berlin:20170903T164500
SUMMARY:K - 2. Klasse D 2017/18: Gurk - KAC 1909 Juniors
END:VEVENT
BEGIN:VEVENT
UID:20260423T194656UTC-6134fTVcDT@85.215.121.98
DTSTAMP:20260423T194656Z
DTSTART;TZID=Europe/Berlin:20170910T153000
DTEND;TZID=Europe/Berlin:20170910T171500
SUMMARY:K - 2. Klasse D 2017/18: Moosburg - Gurk
END:VEVENT
BEGIN:VEVENT
UID:20260423T194656UTC-6139VfevE9@85.215.121.98
DTSTAMP:20260423T194656Z
DTSTART;TZID=Europe/Berlin:20170916T163000
DTEND;TZID=Europe/Berlin:20170916T181500
SUMMARY:K - 2. Klasse D 2017/18: Gurk - Sörg
END:VEVENT
BEGIN:VEVENT
UID:20260423T194656UTC-61440m9388@85.215.121.98
DTSTAMP:20260423T194656Z
DTSTART;TZID=Europe/Berlin:20170923T150000
DTEND;TZID=Europe/Berlin:20170923T164500
SUMMARY:K - 2. Klasse D 2017/18: Kappel - Gurk
END:VEVENT
BEGIN:VEVENT
UID:20260423T194656UTC-6149wwzojK@85.215.121.98
DTSTAMP:20260423T194656Z
DTSTART;TZID=Europe/Berlin:20170930T150000
DTEND;TZID=Europe/Berlin:20170930T164500
SUMMARY:K - 2. Klasse D 2017/18: Gurk - Weitensfeld
END:VEVENT
BEGIN:VEVENT
UID:20260423T194656UTC-6154vTMpMn@85.215.121.98
DTSTAMP:20260423T194656Z
DTSTART;TZID=Europe/Berlin:20171007T160000
DTEND;TZID=Europe/Berlin:20171007T174500
SUMMARY:K - 2. Klasse D 2017/18: Kraig 1b - Gurk
END:VEVENT
BEGIN:VEVENT
UID:20260423T194656UTC-6159x4oviL@85.215.121.98
DTSTAMP:20260423T194656Z
DTSTART;TZID=Europe/Berlin:20171014T150000
DTEND;TZID=Europe/Berlin:20171014T164500
SUMMARY:K - 2. Klasse D 2017/18: Gurk - Viktring
END:VEVENT
BEGIN:VEVENT
UID:20260423T194656UTC-6163FEwl1t@85.215.121.98
DTSTAMP:20260423T194656Z
DTSTART;TZID=Europe/Berlin:20171021T150000
DTEND;TZID=Europe/Berlin:20171021T164500
SUMMARY:K - 2. Klasse D 2017/18: Gurk - Guttaring
END:VEVENT
BEGIN:VEVENT
UID:20260423T194656UTC-6168gvtE0g@85.215.121.98
DTSTAMP:20260423T194656Z
DTSTART;TZID=Europe/Berlin:20171029T130000
DTEND;TZID=Europe/Berlin:20171029T144500
SUMMARY:K - 2. Klasse D 2017/18: SC Ebental 1b - Gurk
END:VEVENT
BEGIN:VEVENT
UID:20260423T194656UTC-61732SKiws@85.215.121.98
DTSTAMP:20260423T194656Z
DTSTART;TZID=Europe/Berlin:20171104T143000
DTEND;TZID=Europe/Berlin:20171104T161500
SUMMARY:K - 2. Klasse D 2017/18: Maria Rain - Gurk
END:VEVENT
BEGIN:VEVENT
UID:20260423T194656UTC-6178hzkJmu@85.215.121.98
DTSTAMP:20260423T194656Z
DTSTART;TZID=Europe/Berlin:20180324T150000
DTEND;TZID=Europe/Berlin:20180324T164500
SUMMARY:K - 2. Klasse D 2017/18: Gurk - St. Veit
END:VEVENT
BEGIN:VEVENT
UID:20260423T194656UTC-6183VUvagf@85.215.121.98
DTSTAMP:20260423T194656Z
DTSTART;TZID=Europe/Berlin:20180407T160000
DTEND;TZID=Europe/Berlin:20180407T174500
SUMMARY:K - 2. Klasse D 2017/18: Gurk - Friesach
END:VEVENT
BEGIN:VEVENT
UID:20260423T194656UTC-6192zCAizm@85.215.121.98
DTSTAMP:20260423T194656Z
DTSTART;TZID=Europe/Berlin:20180415T163000
DTEND;TZID=Europe/Berlin:20180415T181500
SUMMARY:K - 2. Klasse D 2017/18: SG ASKÖ Köttmannsdorf/ASKÖ Ludmannsdorf Ju
 niors 1b - Gurk
END:VEVENT
BEGIN:VEVENT
UID:20260423T194656UTC-6198uSu9Fo@85.215.121.98
DTSTAMP:20260423T194656Z
DTSTART;TZID=Europe/Berlin:20180421T160000
DTEND;TZID=Europe/Berlin:20180421T174500
SUMMARY:K - 2. Klasse D 2017/18: Gurk - Straßburg
END:VEVENT
BEGIN:VEVENT
UID:20260423T194656UTC-6203NuhzLG@85.215.121.98
DTSTAMP:20260423T194656Z
DTSTART;TZID=Europe/Berlin:20180428T170000
DTEND;TZID=Europe/Berlin:20180428T184500
SUMMARY:K - 2. Klasse D 2017/18: KAC 1909 Juniors - Gurk
END:VEVENT
BEGIN:VEVENT
UID:20260423T194656UTC-6209OegrmO@85.215.121.98
DTSTAMP:20260423T194656Z
DTSTART;TZID=Europe/Berlin:20180501T110000
DTEND;TZID=Europe/Berlin:20180501T124500
SUMMARY:K - 2. Klasse D 2017/18: Keutschach - Gurk
END:VEVENT
BEGIN:VEVENT
UID:20260423T194656UTC-6215Z3RTXO@85.215.121.98
DTSTAMP:20260423T194656Z
DTSTART;TZID=Europe/Berlin:20180505T160000
DTEND;TZID=Europe/Berlin:20180505T174500
SUMMARY:K - 2. Klasse D 2017/18: Gurk - Moosburg
END:VEVENT
BEGIN:VEVENT
UID:20260423T194656UTC-6222T5sWxN@85.215.121.98
DTSTAMP:20260423T194656Z
DTSTART;TZID=Europe/Berlin:20180510T160000
DTEND;TZID=Europe/Berlin:20180510T174500
SUMMARY:K - 2. Klasse D 2017/18: Sörg - Gurk
END:VEVENT
BEGIN:VEVENT
UID:20260423T194656UTC-62285SD8wn@85.215.121.98
DTSTAMP:20260423T194656Z
DTSTART;TZID=Europe/Berlin:20180512T170000
DTEND;TZID=Europe/Berlin:20180512T184500
SUMMARY:K - 2. Klasse D 2017/18: Gurk - Kappel
END:VEVENT
BEGIN:VEVENT
UID:20260423T194656UTC-6233re2JLL@85.215.121.98
DTSTAMP:20260423T194656Z
DTSTART;TZID=Europe/Berlin:20180518T180000
DTEND;TZID=Europe/Berlin:20180518T194500
SUMMARY:K - 2. Klasse D 2017/18: Weitensfeld - Gurk
END:VEVENT
BEGIN:VEVENT
UID:20260423T194656UTC-6238rvaN07@85.215.121.98
DTSTAMP:20260423T194656Z
DTSTART;TZID=Europe/Berlin:20180526T170000
DTEND;TZID=Europe/Berlin:20180526T184500
SUMMARY:K - 2. Klasse D 2017/18: Gurk - Kraig 1b
END:VEVENT
BEGIN:VEVENT
UID:20260423T194656UTC-6243WJ6F2A@85.215.121.98
DTSTAMP:20260423T194656Z
DTSTART;TZID=Europe/Berlin:20180531T170000
DTEND;TZID=Europe/Berlin:20180531T184500
SUMMARY:K - 2. Klasse D 2017/18: Viktring - Gurk
END:VEVENT
BEGIN:VEVENT
UID:20260423T194656UTC-6249RxTSeR@85.215.121.98
DTSTAMP:20260423T194656Z
DTSTART;TZID=Europe/Berlin:20180602T160000
DTEND;TZID=Europe/Berlin:20180602T174500
SUMMARY:K - 2. Klasse D 2017/18: Guttaring - Gurk
END:VEVENT
BEGIN:VEVENT
UID:20260423T194656UTC-6254N8VzhM@85.215.121.98
DTSTAMP:20260423T194656Z
DTSTART;TZID=Europe/Berlin:20180610T230000
DTEND;TZID=Europe/Berlin:20180611T004500
SUMMARY:K - 2. Klasse D 2017/18: Gurk - SC Ebental 1b
END:VEVENT
END:VCALENDAR
