BEGIN:VCALENDAR
VERSION:2.0
PRODID:-////NONSGML kigkonsult.se iCalcreator 2.18//
X-WR-TIMEZONE:Europe/Amsterdam
BEGIN:VTIMEZONE
TZID:Europe/Amsterdam
X-LIC-LOCATION:Europe/Amsterdam
BEGIN:STANDARD
DTSTART:20161030T030000
TZOFFSETFROM:+0200
TZOFFSETTO:+0100
RDATE:20171029T030000
TZNAME:CET
END:STANDARD
BEGIN:DAYLIGHT
DTSTART:20170326T020000
TZOFFSETFROM:+0100
TZOFFSETTO:+0200
RDATE:20180325T020000
TZNAME:CEST
END:DAYLIGHT
END:VTIMEZONE
BEGIN:VEVENT
UID:20260419T134920UTC-1363tKmbTM@85.215.121.98
DTSTAMP:20260419T134920Z
DTSTART;TZID=Europe/Amsterdam:20160730T180000
DTEND;TZID=Europe/Amsterdam:20160730T194000
SUMMARY:K - 2. Klasse D 2016/17: Gurk - Moosburg
END:VEVENT
BEGIN:VEVENT
UID:20260419T134920UTC-1484PFu7BG@85.215.121.98
DTSTAMP:20260419T134920Z
DTSTART;TZID=Europe/Amsterdam:20160806T173000
DTEND;TZID=Europe/Amsterdam:20160806T191000
SUMMARY:K - 2. Klasse D 2016/17: Kraig 1b - Gurk
END:VEVENT
BEGIN:VEVENT
UID:20260419T134920UTC-1489iDwlCa@85.215.121.98
DTSTAMP:20260419T134920Z
DTSTART;TZID=Europe/Amsterdam:20160813T180000
DTEND;TZID=Europe/Amsterdam:20160813T194000
SUMMARY:K - 2. Klasse D 2016/17: Gurk - Weitensfeld
END:VEVENT
BEGIN:VEVENT
UID:20260419T134920UTC-1494bNxRp6@85.215.121.98
DTSTAMP:20260419T134920Z
DTSTART;TZID=Europe/Amsterdam:20160820T163000
DTEND;TZID=Europe/Amsterdam:20160820T181000
SUMMARY:K - 2. Klasse D 2016/17: Sörg - Gurk
END:VEVENT
BEGIN:VEVENT
UID:20260419T134920UTC-1512JnJBut@85.215.121.98
DTSTAMP:20260419T134920Z
DTSTART;TZID=Europe/Amsterdam:20160827T163000
DTEND;TZID=Europe/Amsterdam:20160827T181000
SUMMARY:K - 2. Klasse D 2016/17: Gurk - Köttmannsdorf 1b
END:VEVENT
BEGIN:VEVENT
UID:20260419T134920UTC-1518t4GWbE@85.215.121.98
DTSTAMP:20260419T134920Z
DTSTART;TZID=Europe/Amsterdam:20160903T163000
DTEND;TZID=Europe/Amsterdam:20160903T181000
SUMMARY:K - 2. Klasse D 2016/17: Straßburg - Gurk
END:VEVENT
BEGIN:VEVENT
UID:20260419T134920UTC-1525jMZ4fB@85.215.121.98
DTSTAMP:20260419T134920Z
DTSTART;TZID=Europe/Amsterdam:20160910T160000
DTEND;TZID=Europe/Amsterdam:20160910T174000
SUMMARY:K - 2. Klasse D 2016/17: Gurk - Maria Rain
END:VEVENT
BEGIN:VEVENT
UID:20260419T134920UTC-1531xrSDHH@85.215.121.98
DTSTAMP:20260419T134920Z
DTSTART;TZID=Europe/Amsterdam:20160917T160000
DTEND;TZID=Europe/Amsterdam:20160917T174000
SUMMARY:K - 2. Klasse D 2016/17: Himmelberg - Gurk
END:VEVENT
BEGIN:VEVENT
UID:20260419T134920UTC-1537A91vuH@85.215.121.98
DTSTAMP:20260419T134920Z
DTSTART;TZID=Europe/Amsterdam:20160924T160000
DTEND;TZID=Europe/Amsterdam:20160924T174000
SUMMARY:K - 2. Klasse D 2016/17: Gurk - Kappel
END:VEVENT
BEGIN:VEVENT
UID:20260419T134920UTC-15424eEpvg@85.215.121.98
DTSTAMP:20260419T134920Z
DTSTART;TZID=Europe/Amsterdam:20161001T160000
DTEND;TZID=Europe/Amsterdam:20161001T174000
SUMMARY:K - 2. Klasse D 2016/17: Launsdorf - Gurk
END:VEVENT
BEGIN:VEVENT
UID:20260419T134920UTC-154814zl0t@85.215.121.98
DTSTAMP:20260419T134920Z
DTSTART;TZID=Europe/Amsterdam:20161008T150000
DTEND;TZID=Europe/Amsterdam:20161008T164000
SUMMARY:K - 2. Klasse D 2016/17: Gurk - Keutschach
END:VEVENT
BEGIN:VEVENT
UID:20260419T134920UTC-1557kDlu1e@85.215.121.98
DTSTAMP:20260419T134920Z
DTSTART;TZID=Europe/Amsterdam:20161015T150000
DTEND;TZID=Europe/Amsterdam:20161015T164000
SUMMARY:K - 2. Klasse D 2016/17: Guttaring - Gurk
END:VEVENT
BEGIN:VEVENT
UID:20260419T134920UTC-1562wn40ow@85.215.121.98
DTSTAMP:20260419T134920Z
DTSTART;TZID=Europe/Amsterdam:20161022T150000
DTEND;TZID=Europe/Amsterdam:20161022T164000
SUMMARY:K - 2. Klasse D 2016/17: Gurk - St. Urban
END:VEVENT
BEGIN:VEVENT
UID:20260419T134920UTC-1568VhOBiU@85.215.121.98
DTSTAMP:20260419T134920Z
DTSTART;TZID=Europe/Amsterdam:20161026T150000
DTEND;TZID=Europe/Amsterdam:20161026T164000
SUMMARY:K - 2. Klasse D 2016/17: Gurk - KAC 1909 Juniors
END:VEVENT
BEGIN:VEVENT
UID:20260419T134920UTC-1573tuSJIE@85.215.121.98
DTSTAMP:20260419T134920Z
DTSTART;TZID=Europe/Amsterdam:20161030T140000
DTEND;TZID=Europe/Amsterdam:20161030T154000
SUMMARY:K - 2. Klasse D 2016/17: SG SV Feldkirchen/SV Oberglan 1b - Gurk
END:VEVENT
BEGIN:VEVENT
UID:20260419T134920UTC-1579oTCmvG@85.215.121.98
DTSTAMP:20260419T134920Z
DTSTART;TZID=Europe/Amsterdam:20161105T150000
DTEND;TZID=Europe/Amsterdam:20161105T164000
SUMMARY:K - 2. Klasse D 2016/17: Moosburg - Gurk
END:VEVENT
BEGIN:VEVENT
UID:20260419T134920UTC-1586lB7hu0@85.215.121.98
DTSTAMP:20260419T134920Z
DTSTART;TZID=Europe/Amsterdam:20170325T140000
DTEND;TZID=Europe/Amsterdam:20170325T154000
SUMMARY:K - 2. Klasse D 2016/17: Gurk - Kraig 1b
END:VEVENT
BEGIN:VEVENT
UID:20260419T134920UTC-1591KiEJsJ@85.215.121.98
DTSTAMP:20260419T134920Z
DTSTART;TZID=Europe/Amsterdam:20170401T140000
DTEND;TZID=Europe/Amsterdam:20170401T154000
SUMMARY:K - 2. Klasse D 2016/17: Weitensfeld - Gurk
END:VEVENT
BEGIN:VEVENT
UID:20260419T134920UTC-1596ctaGcw@85.215.121.98
DTSTAMP:20260419T134920Z
DTSTART;TZID=Europe/Amsterdam:20170408T150000
DTEND;TZID=Europe/Amsterdam:20170408T164000
SUMMARY:K - 2. Klasse D 2016/17: Gurk - Sörg
END:VEVENT
BEGIN:VEVENT
UID:20260419T134920UTC-1602F2vWfA@85.215.121.98
DTSTAMP:20260419T134920Z
DTSTART;TZID=Europe/Amsterdam:20170416T150000
DTEND;TZID=Europe/Amsterdam:20170416T164000
SUMMARY:K - 2. Klasse D 2016/17: Köttmannsdorf 1b - Gurk
END:VEVENT
BEGIN:VEVENT
UID:20260419T134920UTC-1608sXbLFJ@85.215.121.98
DTSTAMP:20260419T134920Z
DTSTART;TZID=Europe/Amsterdam:20170422T160000
DTEND;TZID=Europe/Amsterdam:20170422T174000
SUMMARY:K - 2. Klasse D 2016/17: Gurk - Straßburg
END:VEVENT
BEGIN:VEVENT
UID:20260419T134920UTC-1613fPsoWZ@85.215.121.98
DTSTAMP:20260419T134920Z
DTSTART;TZID=Europe/Amsterdam:20170429T150000
DTEND;TZID=Europe/Amsterdam:20170429T164000
SUMMARY:K - 2. Klasse D 2016/17: Maria Rain - Gurk
END:VEVENT
BEGIN:VEVENT
UID:20260419T134920UTC-1619V1gbTd@85.215.121.98
DTSTAMP:20260419T134920Z
DTSTART;TZID=Europe/Amsterdam:20170501T163000
DTEND;TZID=Europe/Amsterdam:20170501T181000
SUMMARY:K - 2. Klasse D 2016/17: Gurk - Himmelberg
END:VEVENT
BEGIN:VEVENT
UID:20260419T134920UTC-1625O7pmtz@85.215.121.98
DTSTAMP:20260419T134920Z
DTSTART;TZID=Europe/Amsterdam:20170506T170000
DTEND;TZID=Europe/Amsterdam:20170506T184000
SUMMARY:K - 2. Klasse D 2016/17: Kappel - Gurk
END:VEVENT
BEGIN:VEVENT
UID:20260419T134920UTC-1630kO2EUr@85.215.121.98
DTSTAMP:20260419T134920Z
DTSTART;TZID=Europe/Amsterdam:20170513T170000
DTEND;TZID=Europe/Amsterdam:20170513T184000
SUMMARY:K - 2. Klasse D 2016/17: Gurk - Launsdorf
END:VEVENT
BEGIN:VEVENT
UID:20260419T134920UTC-1636uoNzVd@85.215.121.98
DTSTAMP:20260419T134920Z
DTSTART;TZID=Europe/Amsterdam:20170520T170000
DTEND;TZID=Europe/Amsterdam:20170520T184000
SUMMARY:K - 2. Klasse D 2016/17: Keutschach - Gurk
END:VEVENT
BEGIN:VEVENT
UID:20260419T134920UTC-1643tcAmUI@85.215.121.98
DTSTAMP:20260419T134920Z
DTSTART;TZID=Europe/Amsterdam:20170525T173000
DTEND;TZID=Europe/Amsterdam:20170525T191000
SUMMARY:K - 2. Klasse D 2016/17: Gurk - Guttaring
END:VEVENT
BEGIN:VEVENT
UID:20260419T134920UTC-1649gMsOul@85.215.121.98
DTSTAMP:20260419T134920Z
DTSTART;TZID=Europe/Amsterdam:20170527T170000
DTEND;TZID=Europe/Amsterdam:20170527T184000
SUMMARY:K - 2. Klasse D 2016/17: St. Urban - Gurk
END:VEVENT
BEGIN:VEVENT
UID:20260419T134920UTC-1655WphpfT@85.215.121.98
DTSTAMP:20260419T134920Z
DTSTART;TZID=Europe/Amsterdam:20170531T191500
DTEND;TZID=Europe/Amsterdam:20170531T205500
SUMMARY:K - 2. Klasse D 2016/17: KAC 1909 Juniors - Gurk
END:VEVENT
BEGIN:VEVENT
UID:20260419T134920UTC-1660xPAXC4@85.215.121.98
DTSTAMP:20260419T134920Z
DTSTART;TZID=Europe/Amsterdam:20170611T230000
DTEND;TZID=Europe/Amsterdam:20170612T004000
SUMMARY:K - 2. Klasse D 2016/17: Gurk - SG SV Feldkirchen/SV Oberglan 1b
END:VEVENT
END:VCALENDAR
