BEGIN:VCALENDAR
VERSION:2.0
PRODID:-////NONSGML kigkonsult.se iCalcreator 2.18//
X-WR-TIMEZONE:Europe/Amsterdam
BEGIN:VTIMEZONE
TZID:Europe/Amsterdam
X-LIC-LOCATION:Europe/Amsterdam
BEGIN:STANDARD
DTSTART:20121028T030000
TZOFFSETFROM:+0200
TZOFFSETTO:+0100
RDATE:20131027T030000
TZNAME:CET
END:STANDARD
BEGIN:DAYLIGHT
DTSTART:20130331T020000
TZOFFSETFROM:+0100
TZOFFSETTO:+0200
RDATE:20140330T020000
TZNAME:CEST
END:DAYLIGHT
END:VTIMEZONE
BEGIN:VEVENT
UID:20260423T014647UTC-6543JMnrV4@85.215.121.98
DTSTAMP:20260423T014647Z
DTSTART;TZID=Europe/Amsterdam:20120729T180000
DTEND;TZID=Europe/Amsterdam:20120729T194500
SUMMARY:K - 2. Klasse C 2012/13: Himmelberg - Viktring
END:VEVENT
BEGIN:VEVENT
UID:20260423T014647UTC-6550IWoE3l@85.215.121.98
DTSTAMP:20260423T014647Z
DTSTART;TZID=Europe/Amsterdam:20120804T180000
DTEND;TZID=Europe/Amsterdam:20120804T194500
SUMMARY:K - 2. Klasse C 2012/13: Viktring - Ferlach DSG
END:VEVENT
BEGIN:VEVENT
UID:20260423T014647UTC-65579kHFmJ@85.215.121.98
DTSTAMP:20260423T014647Z
DTSTART;TZID=Europe/Amsterdam:20120811T180000
DTEND;TZID=Europe/Amsterdam:20120811T194500
SUMMARY:K - 2. Klasse C 2012/13: Pörtschach - Viktring
END:VEVENT
BEGIN:VEVENT
UID:20260423T014647UTC-6572W8A952@85.215.121.98
DTSTAMP:20260423T014647Z
DTSTART;TZID=Europe/Amsterdam:20120815T173000
DTEND;TZID=Europe/Amsterdam:20120815T191500
SUMMARY:K - 2. Klasse C 2012/13: Viktring - Donau
END:VEVENT
BEGIN:VEVENT
UID:20260423T014647UTC-65899JtfVc@85.215.121.98
DTSTAMP:20260423T014647Z
DTSTART;TZID=Europe/Amsterdam:20120819T180000
DTEND;TZID=Europe/Amsterdam:20120819T194500
SUMMARY:K - 2. Klasse C 2012/13: Oberglan/Feldkirchen B - Viktring
END:VEVENT
BEGIN:VEVENT
UID:20260423T014647UTC-6599G18eOS@85.215.121.98
DTSTAMP:20260423T014647Z
DTSTART;TZID=Europe/Amsterdam:20120825T170000
DTEND;TZID=Europe/Amsterdam:20120825T184500
SUMMARY:K - 2. Klasse C 2012/13: Viktring - Weitensfeld
END:VEVENT
BEGIN:VEVENT
UID:20260423T014647UTC-6609TvtbPs@85.215.121.98
DTSTAMP:20260423T014647Z
DTSTART;TZID=Europe/Amsterdam:20120901T163000
DTEND;TZID=Europe/Amsterdam:20120901T181500
SUMMARY:K - 2. Klasse C 2012/13: Keutschach - Viktring
END:VEVENT
BEGIN:VEVENT
UID:20260423T014647UTC-6615aerV90@85.215.121.98
DTSTAMP:20260423T014647Z
DTSTART;TZID=Europe/Amsterdam:20120908T163000
DTEND;TZID=Europe/Amsterdam:20120908T181500
SUMMARY:K - 2. Klasse C 2012/13: Viktring - Kappel
END:VEVENT
BEGIN:VEVENT
UID:20260423T014647UTC-6621UHHLvl@85.215.121.98
DTSTAMP:20260423T014647Z
DTSTART;TZID=Europe/Amsterdam:20120915T160000
DTEND;TZID=Europe/Amsterdam:20120915T174500
SUMMARY:K - 2. Klasse C 2012/13: St. Urban - Viktring
END:VEVENT
BEGIN:VEVENT
UID:20260423T014647UTC-6627v2G6UP@85.215.121.98
DTSTAMP:20260423T014647Z
DTSTART;TZID=Europe/Amsterdam:20120929T160000
DTEND;TZID=Europe/Amsterdam:20120929T174500
SUMMARY:K - 2. Klasse C 2012/13: Viktring - Krumpendorf
END:VEVENT
BEGIN:VEVENT
UID:20260423T014647UTC-6634Gtk1wo@85.215.121.98
DTSTAMP:20260423T014647Z
DTSTART;TZID=Europe/Amsterdam:20121007T160000
DTEND;TZID=Europe/Amsterdam:20121007T174500
SUMMARY:K - 2. Klasse C 2012/13: Techelsberg - Viktring
END:VEVENT
BEGIN:VEVENT
UID:20260423T014647UTC-6641dN9ZWE@85.215.121.98
DTSTAMP:20260423T014647Z
DTSTART;TZID=Europe/Amsterdam:20121013T150000
DTEND;TZID=Europe/Amsterdam:20121013T164500
SUMMARY:K - 2. Klasse C 2012/13: Viktring - Gurk
END:VEVENT
BEGIN:VEVENT
UID:20260423T014647UTC-6648HtUi4G@85.215.121.98
DTSTAMP:20260423T014647Z
DTSTART;TZID=Europe/Amsterdam:20121020T150000
DTEND;TZID=Europe/Amsterdam:20121020T164500
SUMMARY:K - 2. Klasse C 2012/13: SV Oberes Metnitztal - Viktring
END:VEVENT
BEGIN:VEVENT
UID:20260423T014647UTC-6654nHu5zu@85.215.121.98
DTSTAMP:20260423T014647Z
DTSTART;TZID=Europe/Amsterdam:20121027T150000
DTEND;TZID=Europe/Amsterdam:20121027T164500
SUMMARY:K - 2. Klasse C 2012/13: Viktring - Straßburg
END:VEVENT
BEGIN:VEVENT
UID:20260423T014647UTC-66603rB6Ef@85.215.121.98
DTSTAMP:20260423T014647Z
DTSTART;TZID=Europe/Amsterdam:20121103T140000
DTEND;TZID=Europe/Amsterdam:20121103T154500
SUMMARY:K - 2. Klasse C 2012/13: Viktring - Himmelberg
END:VEVENT
BEGIN:VEVENT
UID:20260423T014647UTC-66665MMTHK@85.215.121.98
DTSTAMP:20260423T014647Z
DTSTART;TZID=Europe/Amsterdam:20130406T160000
DTEND;TZID=Europe/Amsterdam:20130406T174500
SUMMARY:K - 2. Klasse C 2012/13: Donau - Viktring
END:VEVENT
BEGIN:VEVENT
UID:20260423T014647UTC-66725vTCKs@85.215.121.98
DTSTAMP:20260423T014647Z
DTSTART;TZID=Europe/Amsterdam:20130413T160000
DTEND;TZID=Europe/Amsterdam:20130413T174500
SUMMARY:K - 2. Klasse C 2012/13: Viktring - Oberglan/Feldkirchen B
END:VEVENT
BEGIN:VEVENT
UID:20260423T014647UTC-66776TmlU4@85.215.121.98
DTSTAMP:20260423T014647Z
DTSTART;TZID=Europe/Amsterdam:20130420T150000
DTEND;TZID=Europe/Amsterdam:20130420T164500
SUMMARY:K - 2. Klasse C 2012/13: Weitensfeld - Viktring
END:VEVENT
BEGIN:VEVENT
UID:20260423T014647UTC-6684BRuVRI@85.215.121.98
DTSTAMP:20260423T014647Z
DTSTART;TZID=Europe/Amsterdam:20130424T180000
DTEND;TZID=Europe/Amsterdam:20130424T194500
SUMMARY:K - 2. Klasse C 2012/13: Ferlach DSG - Viktring
END:VEVENT
BEGIN:VEVENT
UID:20260423T014647UTC-6690CLJZ3B@85.215.121.98
DTSTAMP:20260423T014647Z
DTSTART;TZID=Europe/Amsterdam:20130427T163000
DTEND;TZID=Europe/Amsterdam:20130427T181500
SUMMARY:K - 2. Klasse C 2012/13: Viktring - Keutschach
END:VEVENT
BEGIN:VEVENT
UID:20260423T014647UTC-6696SlKgNV@85.215.121.98
DTSTAMP:20260423T014647Z
DTSTART;TZID=Europe/Amsterdam:20130501T163000
DTEND;TZID=Europe/Amsterdam:20130501T181500
SUMMARY:K - 2. Klasse C 2012/13: Kappel - Viktring
END:VEVENT
BEGIN:VEVENT
UID:20260423T014647UTC-6703zVzvjv@85.215.121.98
DTSTAMP:20260423T014647Z
DTSTART;TZID=Europe/Amsterdam:20130504T170000
DTEND;TZID=Europe/Amsterdam:20130504T184500
SUMMARY:K - 2. Klasse C 2012/13: Viktring - St. Urban
END:VEVENT
BEGIN:VEVENT
UID:20260423T014647UTC-6712vUswV2@85.215.121.98
DTSTAMP:20260423T014647Z
DTSTART;TZID=Europe/Amsterdam:20130509T160000
DTEND;TZID=Europe/Amsterdam:20130509T174500
SUMMARY:K - 2. Klasse C 2012/13: Viktring - Pörtschach
END:VEVENT
BEGIN:VEVENT
UID:20260423T014647UTC-6717Szzsov@85.215.121.98
DTSTAMP:20260423T014647Z
DTSTART;TZID=Europe/Amsterdam:20130519T113000
DTEND;TZID=Europe/Amsterdam:20130519T131500
SUMMARY:K - 2. Klasse C 2012/13: Krumpendorf - Viktring
END:VEVENT
BEGIN:VEVENT
UID:20260423T014647UTC-6724vIBPSV@85.215.121.98
DTSTAMP:20260423T014647Z
DTSTART;TZID=Europe/Amsterdam:20130525T173000
DTEND;TZID=Europe/Amsterdam:20130525T191500
SUMMARY:K - 2. Klasse C 2012/13: Viktring - Techelsberg
END:VEVENT
BEGIN:VEVENT
UID:20260423T014647UTC-6732rPEBha@85.215.121.98
DTSTAMP:20260423T014647Z
DTSTART;TZID=Europe/Amsterdam:20130530T170000
DTEND;TZID=Europe/Amsterdam:20130530T184500
SUMMARY:K - 2. Klasse C 2012/13: Gurk - Viktring
END:VEVENT
BEGIN:VEVENT
UID:20260423T014647UTC-6738HPNvCm@85.215.121.98
DTSTAMP:20260423T014647Z
DTSTART;TZID=Europe/Amsterdam:20130601T173000
DTEND;TZID=Europe/Amsterdam:20130601T191500
SUMMARY:K - 2. Klasse C 2012/13: Viktring - SV Oberes Metnitztal
END:VEVENT
BEGIN:VEVENT
UID:20260423T014647UTC-6744gUeUze@85.215.121.98
DTSTAMP:20260423T014647Z
DTSTART;TZID=Europe/Amsterdam:20130608T180000
DTEND;TZID=Europe/Amsterdam:20130608T194500
SUMMARY:K - 2. Klasse C 2012/13: Straßburg - Viktring
END:VEVENT
END:VCALENDAR
