BEGIN:VCALENDAR
VERSION:2.0
PRODID:-////NONSGML kigkonsult.se iCalcreator 2.18//
X-WR-TIMEZONE:Europe/Amsterdam
BEGIN:VTIMEZONE
TZID:Europe/Amsterdam
X-LIC-LOCATION:Europe/Amsterdam
BEGIN:STANDARD
DTSTART:20121028T030000
TZOFFSETFROM:+0200
TZOFFSETTO:+0100
RDATE:20131027T030000
TZNAME:CET
END:STANDARD
BEGIN:DAYLIGHT
DTSTART:20130331T020000
TZOFFSETFROM:+0100
TZOFFSETTO:+0200
RDATE:20140330T020000
TZNAME:CEST
END:DAYLIGHT
END:VTIMEZONE
BEGIN:VEVENT
UID:20260422T051828UTC-0993L8uopz@85.215.121.98
DTSTAMP:20260422T051828Z
DTSTART;TZID=Europe/Amsterdam:20120729T180000
DTEND;TZID=Europe/Amsterdam:20120729T194500
SUMMARY:K - 2. Klasse C 2012/13: Oberglan/Feldkirchen B - Weitensfeld
END:VEVENT
BEGIN:VEVENT
UID:20260422T051828UTC-0999m3VgVW@85.215.121.98
DTSTAMP:20260422T051828Z
DTSTART;TZID=Europe/Amsterdam:20120811T160000
DTEND;TZID=Europe/Amsterdam:20120811T174500
SUMMARY:K - 2. Klasse C 2012/13: Weitensfeld - Keutschach
END:VEVENT
BEGIN:VEVENT
UID:20260422T051828UTC-1005m7BACv@85.215.121.98
DTSTAMP:20260422T051828Z
DTSTART;TZID=Europe/Amsterdam:20120815T170000
DTEND;TZID=Europe/Amsterdam:20120815T184500
SUMMARY:K - 2. Klasse C 2012/13: Kappel - Weitensfeld
END:VEVENT
BEGIN:VEVENT
UID:20260422T051828UTC-1012RDx4d6@85.215.121.98
DTSTAMP:20260422T051828Z
DTSTART;TZID=Europe/Amsterdam:20120819T103000
DTEND;TZID=Europe/Amsterdam:20120819T121500
SUMMARY:K - 2. Klasse C 2012/13: Weitensfeld - St. Urban
END:VEVENT
BEGIN:VEVENT
UID:20260422T051828UTC-1018R3rIsR@85.215.121.98
DTSTAMP:20260422T051828Z
DTSTART;TZID=Europe/Amsterdam:20120825T170000
DTEND;TZID=Europe/Amsterdam:20120825T184500
SUMMARY:K - 2. Klasse C 2012/13: Viktring - Weitensfeld
END:VEVENT
BEGIN:VEVENT
UID:20260422T051828UTC-1025UfUftc@85.215.121.98
DTSTAMP:20260422T051828Z
DTSTART;TZID=Europe/Amsterdam:20120901T170000
DTEND;TZID=Europe/Amsterdam:20120901T184500
SUMMARY:K - 2. Klasse C 2012/13: Weitensfeld - Krumpendorf
END:VEVENT
BEGIN:VEVENT
UID:20260422T051828UTC-1030cnaznK@85.215.121.98
DTSTAMP:20260422T051828Z
DTSTART;TZID=Europe/Amsterdam:20120909T170000
DTEND;TZID=Europe/Amsterdam:20120909T184500
SUMMARY:K - 2. Klasse C 2012/13: Techelsberg - Weitensfeld
END:VEVENT
BEGIN:VEVENT
UID:20260422T051828UTC-1038x295ue@85.215.121.98
DTSTAMP:20260422T051828Z
DTSTART;TZID=Europe/Amsterdam:20120916T103000
DTEND;TZID=Europe/Amsterdam:20120916T121500
SUMMARY:K - 2. Klasse C 2012/13: Weitensfeld - Gurk
END:VEVENT
BEGIN:VEVENT
UID:20260422T051828UTC-1047Z1SlEC@85.215.121.98
DTSTAMP:20260422T051828Z
DTSTART;TZID=Europe/Amsterdam:20120923T160000
DTEND;TZID=Europe/Amsterdam:20120923T174500
SUMMARY:K - 2. Klasse C 2012/13: SV Oberes Metnitztal - Weitensfeld
END:VEVENT
BEGIN:VEVENT
UID:20260422T051828UTC-1053JjdiFF@85.215.121.98
DTSTAMP:20260422T051828Z
DTSTART;TZID=Europe/Amsterdam:20120929T150000
DTEND;TZID=Europe/Amsterdam:20120929T164500
SUMMARY:K - 2. Klasse C 2012/13: Weitensfeld - Straßburg
END:VEVENT
BEGIN:VEVENT
UID:20260422T051828UTC-105902vdk1@85.215.121.98
DTSTAMP:20260422T051828Z
DTSTART;TZID=Europe/Amsterdam:20121006T160000
DTEND;TZID=Europe/Amsterdam:20121006T174500
SUMMARY:K - 2. Klasse C 2012/13: Himmelberg - Weitensfeld
END:VEVENT
BEGIN:VEVENT
UID:20260422T051828UTC-1065UlvvuG@85.215.121.98
DTSTAMP:20260422T051828Z
DTSTART;TZID=Europe/Amsterdam:20121013T150000
DTEND;TZID=Europe/Amsterdam:20121013T164500
SUMMARY:K - 2. Klasse C 2012/13: Weitensfeld - Ferlach DSG
END:VEVENT
BEGIN:VEVENT
UID:20260422T051828UTC-1073AkuuvE@85.215.121.98
DTSTAMP:20260422T051828Z
DTSTART;TZID=Europe/Amsterdam:20121020T150000
DTEND;TZID=Europe/Amsterdam:20121020T164500
SUMMARY:K - 2. Klasse C 2012/13: Pörtschach - Weitensfeld
END:VEVENT
BEGIN:VEVENT
UID:20260422T051828UTC-1079H1vOSx@85.215.121.98
DTSTAMP:20260422T051828Z
DTSTART;TZID=Europe/Amsterdam:20121026T130000
DTEND;TZID=Europe/Amsterdam:20121026T144500
SUMMARY:K - 2. Klasse C 2012/13: Weitensfeld - Donau
END:VEVENT
BEGIN:VEVENT
UID:20260422T051828UTC-1085dU7Nwu@85.215.121.98
DTSTAMP:20260422T051828Z
DTSTART;TZID=Europe/Amsterdam:20121103T150000
DTEND;TZID=Europe/Amsterdam:20121103T164500
SUMMARY:K - 2. Klasse C 2012/13: Weitensfeld - Oberglan/Feldkirchen B
END:VEVENT
BEGIN:VEVENT
UID:20260422T051828UTC-109165HxEv@85.215.121.98
DTSTAMP:20260422T051828Z
DTSTART;TZID=Europe/Amsterdam:20130330T130000
DTEND;TZID=Europe/Amsterdam:20130330T144500
SUMMARY:K - 2. Klasse C 2012/13: Keutschach - Weitensfeld
END:VEVENT
BEGIN:VEVENT
UID:20260422T051828UTC-1097EDiPWe@85.215.121.98
DTSTAMP:20260422T051828Z
DTSTART;TZID=Europe/Amsterdam:20130406T150000
DTEND;TZID=Europe/Amsterdam:20130406T164500
SUMMARY:K - 2. Klasse C 2012/13: Weitensfeld - Kappel
END:VEVENT
BEGIN:VEVENT
UID:20260422T051828UTC-1104gBHKU3@85.215.121.98
DTSTAMP:20260422T051828Z
DTSTART;TZID=Europe/Amsterdam:20130413T160000
DTEND;TZID=Europe/Amsterdam:20130413T174500
SUMMARY:K - 2. Klasse C 2012/13: St. Urban - Weitensfeld
END:VEVENT
BEGIN:VEVENT
UID:20260422T051828UTC-11100NmFM0@85.215.121.98
DTSTAMP:20260422T051828Z
DTSTART;TZID=Europe/Amsterdam:20130420T150000
DTEND;TZID=Europe/Amsterdam:20130420T164500
SUMMARY:K - 2. Klasse C 2012/13: Weitensfeld - Viktring
END:VEVENT
BEGIN:VEVENT
UID:20260422T051828UTC-1115rH5tLE@85.215.121.98
DTSTAMP:20260422T051828Z
DTSTART;TZID=Europe/Amsterdam:20130427T160000
DTEND;TZID=Europe/Amsterdam:20130427T174500
SUMMARY:K - 2. Klasse C 2012/13: Krumpendorf - Weitensfeld
END:VEVENT
BEGIN:VEVENT
UID:20260422T051828UTC-1122wP3K4O@85.215.121.98
DTSTAMP:20260422T051828Z
DTSTART;TZID=Europe/Amsterdam:20130501T170000
DTEND;TZID=Europe/Amsterdam:20130501T184500
SUMMARY:K - 2. Klasse C 2012/13: Weitensfeld - Techelsberg
END:VEVENT
BEGIN:VEVENT
UID:20260422T051828UTC-1133Wv9FHb@85.215.121.98
DTSTAMP:20260422T051828Z
DTSTART;TZID=Europe/Amsterdam:20130504T163000
DTEND;TZID=Europe/Amsterdam:20130504T181500
SUMMARY:K - 2. Klasse C 2012/13: Gurk - Weitensfeld
END:VEVENT
BEGIN:VEVENT
UID:20260422T051828UTC-1138742ZVj@85.215.121.98
DTSTAMP:20260422T051828Z
DTSTART;TZID=Europe/Amsterdam:20130511T150000
DTEND;TZID=Europe/Amsterdam:20130511T164500
SUMMARY:K - 2. Klasse C 2012/13: Weitensfeld - SV Oberes Metnitztal
END:VEVENT
BEGIN:VEVENT
UID:20260422T051828UTC-1143fFW5Wj@85.215.121.98
DTSTAMP:20260422T051828Z
DTSTART;TZID=Europe/Amsterdam:20130518T173000
DTEND;TZID=Europe/Amsterdam:20130518T191500
SUMMARY:K - 2. Klasse C 2012/13: Straßburg - Weitensfeld
END:VEVENT
BEGIN:VEVENT
UID:20260422T051828UTC-1149pU3H46@85.215.121.98
DTSTAMP:20260422T051828Z
DTSTART;TZID=Europe/Amsterdam:20130526T160000
DTEND;TZID=Europe/Amsterdam:20130526T174500
SUMMARY:K - 2. Klasse C 2012/13: Weitensfeld - Himmelberg
END:VEVENT
BEGIN:VEVENT
UID:20260422T051828UTC-1155AdJvUl@85.215.121.98
DTSTAMP:20260422T051828Z
DTSTART;TZID=Europe/Amsterdam:20130530T180000
DTEND;TZID=Europe/Amsterdam:20130530T194500
SUMMARY:K - 2. Klasse C 2012/13: Ferlach DSG - Weitensfeld
END:VEVENT
BEGIN:VEVENT
UID:20260422T051828UTC-1161m0SEng@85.215.121.98
DTSTAMP:20260422T051828Z
DTSTART;TZID=Europe/Amsterdam:20130602T110000
DTEND;TZID=Europe/Amsterdam:20130602T124500
SUMMARY:K - 2. Klasse C 2012/13: Weitensfeld - Pörtschach
END:VEVENT
BEGIN:VEVENT
UID:20260422T051828UTC-1166pz5bxf@85.215.121.98
DTSTAMP:20260422T051828Z
DTSTART;TZID=Europe/Amsterdam:20130608T160000
DTEND;TZID=Europe/Amsterdam:20130608T174500
SUMMARY:K - 2. Klasse C 2012/13: Donau - Weitensfeld
END:VEVENT
END:VCALENDAR
