BEGIN:VCALENDAR
VERSION:2.0
PRODID:-////NONSGML kigkonsult.se iCalcreator 2.18//
X-WR-TIMEZONE:Europe/Amsterdam
BEGIN:VTIMEZONE
TZID:Europe/Amsterdam
X-LIC-LOCATION:Europe/Amsterdam
BEGIN:STANDARD
DTSTART:20121028T030000
TZOFFSETFROM:+0200
TZOFFSETTO:+0100
RDATE:20131027T030000
TZNAME:CET
END:STANDARD
BEGIN:DAYLIGHT
DTSTART:20130331T020000
TZOFFSETFROM:+0100
TZOFFSETTO:+0200
RDATE:20140330T020000
TZNAME:CEST
END:DAYLIGHT
END:VTIMEZONE
BEGIN:VEVENT
UID:20260424T173816UTC-0687lT8nIr@85.215.121.98
DTSTAMP:20260424T173816Z
DTSTART;TZID=Europe/Amsterdam:20120727T190000
DTEND;TZID=Europe/Amsterdam:20120727T204500
SUMMARY:K - 2. Klasse B 2012/13: Drautal - Faakersee
END:VEVENT
BEGIN:VEVENT
UID:20260424T173816UTC-07820gzKt6@85.215.121.98
DTSTAMP:20260424T173816Z
DTSTART;TZID=Europe/Amsterdam:20120805T180000
DTEND;TZID=Europe/Amsterdam:20120805T194500
SUMMARY:K - 2. Klasse B 2012/13: Faakersee - Stockenboi
END:VEVENT
BEGIN:VEVENT
UID:20260424T173816UTC-0787icONJV@85.215.121.98
DTSTAMP:20260424T173816Z
DTSTART;TZID=Europe/Amsterdam:20120812T104500
DTEND;TZID=Europe/Amsterdam:20120812T123000
SUMMARY:K - 2. Klasse B 2012/13: Maria Gail - Faakersee
END:VEVENT
BEGIN:VEVENT
UID:20260424T173816UTC-0795wAE0CM@85.215.121.98
DTSTAMP:20260424T173816Z
DTSTART;TZID=Europe/Amsterdam:20120815T160000
DTEND;TZID=Europe/Amsterdam:20120815T174500
SUMMARY:K - 2. Klasse B 2012/13: Bad Bleiberg - Faakersee
END:VEVENT
BEGIN:VEVENT
UID:20260424T173816UTC-0800ei9vnj@85.215.121.98
DTSTAMP:20260424T173816Z
DTSTART;TZID=Europe/Amsterdam:20120819T173000
DTEND;TZID=Europe/Amsterdam:20120819T191500
SUMMARY:K - 2. Klasse B 2012/13: Faakersee - Afritz
END:VEVENT
BEGIN:VEVENT
UID:20260424T173816UTC-0806gTnWlT@85.215.121.98
DTSTAMP:20260424T173816Z
DTSTART;TZID=Europe/Amsterdam:20120825T170000
DTEND;TZID=Europe/Amsterdam:20120825T184500
SUMMARY:K - 2. Klasse B 2012/13: Baldramsdorf - Faakersee
END:VEVENT
BEGIN:VEVENT
UID:20260424T173816UTC-0811gWrhRV@85.215.121.98
DTSTAMP:20260424T173816Z
DTSTART;TZID=Europe/Amsterdam:20120902T163000
DTEND;TZID=Europe/Amsterdam:20120902T181500
SUMMARY:K - 2. Klasse B 2012/13: Faakersee - Rennweg
END:VEVENT
BEGIN:VEVENT
UID:20260424T173816UTC-0817nEuU1I@85.215.121.98
DTSTAMP:20260424T173816Z
DTSTART;TZID=Europe/Amsterdam:20120909T103000
DTEND;TZID=Europe/Amsterdam:20120909T121500
SUMMARY:K - 2. Klasse B 2012/13: Landskron - Faakersee
END:VEVENT
BEGIN:VEVENT
UID:20260424T173816UTC-082385Wd7v@85.215.121.98
DTSTAMP:20260424T173816Z
DTSTART;TZID=Europe/Amsterdam:20120916T160000
DTEND;TZID=Europe/Amsterdam:20120916T174500
SUMMARY:K - 2. Klasse B 2012/13: Faakersee - Obermillstatt
END:VEVENT
BEGIN:VEVENT
UID:20260424T173816UTC-0829pnFM8r@85.215.121.98
DTSTAMP:20260424T173816Z
DTSTART;TZID=Europe/Amsterdam:20120922T160000
DTEND;TZID=Europe/Amsterdam:20120922T174500
SUMMARY:K - 2. Klasse B 2012/13: Arriach - Faakersee
END:VEVENT
BEGIN:VEVENT
UID:20260424T173816UTC-08348xVpDd@85.215.121.98
DTSTAMP:20260424T173816Z
DTSTART;TZID=Europe/Amsterdam:20120929T150000
DTEND;TZID=Europe/Amsterdam:20120929T164500
SUMMARY:K - 2. Klasse B 2012/13: Faakersee - Fresach
END:VEVENT
BEGIN:VEVENT
UID:20260424T173816UTC-0839f0IZGm@85.215.121.98
DTSTAMP:20260424T173816Z
DTSTART;TZID=Europe/Amsterdam:20121006T153000
DTEND;TZID=Europe/Amsterdam:20121006T171500
SUMMARY:K - 2. Klasse B 2012/13: Töplitsch - Faakersee
END:VEVENT
BEGIN:VEVENT
UID:20260424T173816UTC-0844NtAzSi@85.215.121.98
DTSTAMP:20260424T173816Z
DTSTART;TZID=Europe/Amsterdam:20121014T150000
DTEND;TZID=Europe/Amsterdam:20121014T164500
SUMMARY:K - 2. Klasse B 2012/13: Faakersee - St. Egyden
END:VEVENT
BEGIN:VEVENT
UID:20260424T173816UTC-0850JNC4mW@85.215.121.98
DTSTAMP:20260424T173816Z
DTSTART;TZID=Europe/Amsterdam:20121020T150000
DTEND;TZID=Europe/Amsterdam:20121020T164500
SUMMARY:K - 2. Klasse B 2012/13: Malta - Faakersee
END:VEVENT
BEGIN:VEVENT
UID:20260424T173816UTC-0856he219u@85.215.121.98
DTSTAMP:20260424T173816Z
DTSTART;TZID=Europe/Amsterdam:20121028T150000
DTEND;TZID=Europe/Amsterdam:20121028T164500
SUMMARY:K - 2. Klasse B 2012/13: Faakersee - SG Ferndorf/Spittal
END:VEVENT
BEGIN:VEVENT
UID:20260424T173816UTC-0861N2xigJ@85.215.121.98
DTSTAMP:20260424T173816Z
DTSTART;TZID=Europe/Amsterdam:20121104T143000
DTEND;TZID=Europe/Amsterdam:20121104T161500
SUMMARY:K - 2. Klasse B 2012/13: Faakersee - Drautal
END:VEVENT
BEGIN:VEVENT
UID:20260424T173816UTC-0867Nh4UWS@85.215.121.98
DTSTAMP:20260424T173816Z
DTSTART;TZID=Europe/Amsterdam:20130413T150000
DTEND;TZID=Europe/Amsterdam:20130413T164500
SUMMARY:K - 2. Klasse B 2012/13: Afritz - Faakersee
END:VEVENT
BEGIN:VEVENT
UID:20260424T173816UTC-0872mEff7p@85.215.121.98
DTSTAMP:20260424T173816Z
DTSTART;TZID=Europe/Amsterdam:20130421T160000
DTEND;TZID=Europe/Amsterdam:20130421T174500
SUMMARY:K - 2. Klasse B 2012/13: Faakersee - Baldramsdorf
END:VEVENT
BEGIN:VEVENT
UID:20260424T173816UTC-08781SImWi@85.215.121.98
DTSTAMP:20260424T173816Z
DTSTART;TZID=Europe/Amsterdam:20130424T181500
DTEND;TZID=Europe/Amsterdam:20130424T200000
SUMMARY:K - 2. Klasse B 2012/13: Stockenboi - Faakersee
END:VEVENT
BEGIN:VEVENT
UID:20260424T173816UTC-0883kbJ6ZR@85.215.121.98
DTSTAMP:20260424T173816Z
DTSTART;TZID=Europe/Amsterdam:20130428T170000
DTEND;TZID=Europe/Amsterdam:20130428T184500
SUMMARY:K - 2. Klasse B 2012/13: Rennweg - Faakersee
END:VEVENT
BEGIN:VEVENT
UID:20260424T173816UTC-0888PFVsWA@85.215.121.98
DTSTAMP:20260424T173816Z
DTSTART;TZID=Europe/Amsterdam:20130501T170000
DTEND;TZID=Europe/Amsterdam:20130501T184500
SUMMARY:K - 2. Klasse B 2012/13: Faakersee - Landskron
END:VEVENT
BEGIN:VEVENT
UID:20260424T173816UTC-0893kWjx2D@85.215.121.98
DTSTAMP:20260424T173816Z
DTSTART;TZID=Europe/Amsterdam:20130504T160000
DTEND;TZID=Europe/Amsterdam:20130504T174500
SUMMARY:K - 2. Klasse B 2012/13: Obermillstatt - Faakersee
END:VEVENT
BEGIN:VEVENT
UID:20260424T173816UTC-0900BFdfCF@85.215.121.98
DTSTAMP:20260424T173816Z
DTSTART;TZID=Europe/Amsterdam:20130509T170000
DTEND;TZID=Europe/Amsterdam:20130509T184500
SUMMARY:K - 2. Klasse B 2012/13: Faakersee - Maria Gail
END:VEVENT
BEGIN:VEVENT
UID:20260424T173816UTC-0905uV84vx@85.215.121.98
DTSTAMP:20260424T173816Z
DTSTART;TZID=Europe/Amsterdam:20130512T160000
DTEND;TZID=Europe/Amsterdam:20130512T174500
SUMMARY:K - 2. Klasse B 2012/13: Faakersee - Arriach
END:VEVENT
BEGIN:VEVENT
UID:20260424T173816UTC-0910ts4OiN@85.215.121.98
DTSTAMP:20260424T173816Z
DTSTART;TZID=Europe/Amsterdam:20130518T160000
DTEND;TZID=Europe/Amsterdam:20130518T174500
SUMMARY:K - 2. Klasse B 2012/13: Fresach - Faakersee
END:VEVENT
BEGIN:VEVENT
UID:20260424T173816UTC-0916uBzRIc@85.215.121.98
DTSTAMP:20260424T173816Z
DTSTART;TZID=Europe/Amsterdam:20130526T170000
DTEND;TZID=Europe/Amsterdam:20130526T184500
SUMMARY:K - 2. Klasse B 2012/13: Faakersee - Töplitsch
END:VEVENT
BEGIN:VEVENT
UID:20260424T173816UTC-0921vMBCVU@85.215.121.98
DTSTAMP:20260424T173816Z
DTSTART;TZID=Europe/Amsterdam:20130530T183000
DTEND;TZID=Europe/Amsterdam:20130530T201500
SUMMARY:K - 2. Klasse B 2012/13: St. Egyden - Faakersee
END:VEVENT
BEGIN:VEVENT
UID:20260424T173816UTC-0926h1DpSH@85.215.121.98
DTSTAMP:20260424T173816Z
DTSTART;TZID=Europe/Amsterdam:20130601T170000
DTEND;TZID=Europe/Amsterdam:20130601T184500
SUMMARY:K - 2. Klasse B 2012/13: Faakersee - Malta
END:VEVENT
BEGIN:VEVENT
UID:20260424T173816UTC-0932R67uWc@85.215.121.98
DTSTAMP:20260424T173816Z
DTSTART;TZID=Europe/Amsterdam:20130603T180000
DTEND;TZID=Europe/Amsterdam:20130603T194500
SUMMARY:K - 2. Klasse B 2012/13: Faakersee - Bad Bleiberg
END:VEVENT
BEGIN:VEVENT
UID:20260424T173816UTC-0937xTe7UG@85.215.121.98
DTSTAMP:20260424T173816Z
DTSTART;TZID=Europe/Amsterdam:20130609T160000
DTEND;TZID=Europe/Amsterdam:20130609T174500
SUMMARY:K - 2. Klasse B 2012/13: SG Ferndorf/Spittal - Faakersee
END:VEVENT
END:VCALENDAR
