BEGIN:VCALENDAR
VERSION:2.0
PRODID:-////NONSGML kigkonsult.se iCalcreator 2.18//
X-WR-TIMEZONE:Europe/Amsterdam
BEGIN:VTIMEZONE
TZID:Europe/Amsterdam
X-LIC-LOCATION:Europe/Amsterdam
BEGIN:STANDARD
DTSTART:20131027T030000
TZOFFSETFROM:+0200
TZOFFSETTO:+0100
RDATE:20141026T030000
TZNAME:CET
END:STANDARD
BEGIN:DAYLIGHT
DTSTART:20140330T020000
TZOFFSETFROM:+0100
TZOFFSETTO:+0200
RDATE:20150329T020000
TZNAME:CEST
END:DAYLIGHT
END:VTIMEZONE
BEGIN:VEVENT
UID:20260426T015000UTC-3996XOXSrg@85.215.121.98
DTSTAMP:20260426T015000Z
DTSTART;TZID=Europe/Amsterdam:20130803T190000
DTEND;TZID=Europe/Amsterdam:20130803T204500
SUMMARY:Regionalliga Mitte 2013/14: SV Lafnitz - FC Pasching
END:VEVENT
BEGIN:VEVENT
UID:20260426T015000UTC-4003aFj8ZN@85.215.121.98
DTSTAMP:20260426T015000Z
DTSTART;TZID=Europe/Amsterdam:20130809T190000
DTEND;TZID=Europe/Amsterdam:20130809T204500
SUMMARY:Regionalliga Mitte 2013/14: FC Pasching - SK Vorwärts Steyr
END:VEVENT
BEGIN:VEVENT
UID:20260426T015000UTC-4010NugGPl@85.215.121.98
DTSTAMP:20260426T015000Z
DTSTART;TZID=Europe/Amsterdam:20130813T190000
DTEND;TZID=Europe/Amsterdam:20130813T204500
SUMMARY:Regionalliga Mitte 2013/14: FC Pasching - Union TTI St. Florian
END:VEVENT
BEGIN:VEVENT
UID:20260426T015000UTC-4020s9Zr6u@85.215.121.98
DTSTAMP:20260426T015000Z
DTSTART;TZID=Europe/Amsterdam:20130817T183000
DTEND;TZID=Europe/Amsterdam:20130817T201500
SUMMARY:Regionalliga Mitte 2013/14: KSV Amateure - FC Pasching
END:VEVENT
BEGIN:VEVENT
UID:20260426T015000UTC-4027j10ufc@85.215.121.98
DTSTAMP:20260426T015000Z
DTSTART;TZID=Europe/Amsterdam:20130901T150000
DTEND;TZID=Europe/Amsterdam:20130901T164500
SUMMARY:Regionalliga Mitte 2013/14: FC Pasching - Vöcklamarkt
END:VEVENT
BEGIN:VEVENT
UID:20260426T015000UTC-4032PuZNHR@85.215.121.98
DTSTAMP:20260426T015000Z
DTSTART;TZID=Europe/Amsterdam:20130907T170000
DTEND;TZID=Europe/Amsterdam:20130907T184500
SUMMARY:Regionalliga Mitte 2013/14: VSV - FC Pasching
END:VEVENT
BEGIN:VEVENT
UID:20260426T015000UTC-4037Dc6BJ2@85.215.121.98
DTSTAMP:20260426T015000Z
DTSTART;TZID=Europe/Amsterdam:20130913T190000
DTEND;TZID=Europe/Amsterdam:20130913T204500
SUMMARY:Regionalliga Mitte 2013/14: FC Pasching - WAC Amat.
END:VEVENT
BEGIN:VEVENT
UID:20260426T015000UTC-4049PN1wjF@85.215.121.98
DTSTAMP:20260426T015000Z
DTSTART;TZID=Europe/Amsterdam:20130917T190000
DTEND;TZID=Europe/Amsterdam:20130917T204500
SUMMARY:Regionalliga Mitte 2013/14: LASK - FC Pasching
END:VEVENT
BEGIN:VEVENT
UID:20260426T015000UTC-4055vd2DiR@85.215.121.98
DTSTAMP:20260426T015000Z
DTSTART;TZID=Europe/Amsterdam:20130920T190000
DTEND;TZID=Europe/Amsterdam:20130920T204500
SUMMARY:Regionalliga Mitte 2013/14: SAK Celovec/Klagenfurt - FC Pasching
END:VEVENT
BEGIN:VEVENT
UID:20260426T015000UTC-40613PJl9O@85.215.121.98
DTSTAMP:20260426T015000Z
DTSTART;TZID=Europe/Amsterdam:20130928T170000
DTEND;TZID=Europe/Amsterdam:20130928T184500
SUMMARY:Regionalliga Mitte 2013/14: FC Pasching - SK Austria Klagenfurt
END:VEVENT
BEGIN:VEVENT
UID:20260426T015000UTC-4066dXFlcW@85.215.121.98
DTSTAMP:20260426T015000Z
DTSTART;TZID=Europe/Amsterdam:20131005T160000
DTEND;TZID=Europe/Amsterdam:20131005T174500
SUMMARY:Regionalliga Mitte 2013/14: SV Wallern - FC Pasching
END:VEVENT
BEGIN:VEVENT
UID:20260426T015000UTC-4072U0TjS2@85.215.121.98
DTSTAMP:20260426T015000Z
DTSTART;TZID=Europe/Amsterdam:20131011T180000
DTEND;TZID=Europe/Amsterdam:20131011T194500
SUMMARY:Regionalliga Mitte 2013/14: Sturm Graz Amateure - FC Pasching
END:VEVENT
BEGIN:VEVENT
UID:20260426T015000UTC-407811H34G@85.215.121.98
DTSTAMP:20260426T015000Z
DTSTART;TZID=Europe/Amsterdam:20131018T190000
DTEND;TZID=Europe/Amsterdam:20131018T204500
SUMMARY:Regionalliga Mitte 2013/14: FC Pasching - FC Blau Weiss Linz
END:VEVENT
BEGIN:VEVENT
UID:20260426T015000UTC-4084VrNR3S@85.215.121.98
DTSTAMP:20260426T015000Z
DTSTART;TZID=Europe/Amsterdam:20131025T190000
DTEND;TZID=Europe/Amsterdam:20131025T204500
SUMMARY:Regionalliga Mitte 2013/14: Kalsdorf - FC Pasching
END:VEVENT
BEGIN:VEVENT
UID:20260426T015000UTC-4089Lr4SN6@85.215.121.98
DTSTAMP:20260426T015000Z
DTSTART;TZID=Europe/Amsterdam:20131102T140000
DTEND;TZID=Europe/Amsterdam:20131102T154500
SUMMARY:Regionalliga Mitte 2013/14: FC Pasching - Allerheiligen
END:VEVENT
BEGIN:VEVENT
UID:20260426T015000UTC-4095AU95hV@85.215.121.98
DTSTAMP:20260426T015000Z
DTSTART;TZID=Europe/Amsterdam:20131108T180000
DTEND;TZID=Europe/Amsterdam:20131108T194500
SUMMARY:Regionalliga Mitte 2013/14: FC Pasching - SV Lafnitz
END:VEVENT
BEGIN:VEVENT
UID:20260426T015000UTC-4101v3ev5i@85.215.121.98
DTSTAMP:20260426T015000Z
DTSTART;TZID=Europe/Amsterdam:20140308T153000
DTEND;TZID=Europe/Amsterdam:20140308T171500
SUMMARY:Regionalliga Mitte 2013/14: SK Vorwärts Steyr - FC Pasching
END:VEVENT
BEGIN:VEVENT
UID:20260426T015000UTC-4108jL3NKI@85.215.121.98
DTSTAMP:20260426T015000Z
DTSTART;TZID=Europe/Amsterdam:20140314T190000
DTEND;TZID=Europe/Amsterdam:20140314T204500
SUMMARY:Regionalliga Mitte 2013/14: FC Pasching - KSV Amateure
END:VEVENT
BEGIN:VEVENT
UID:20260426T015000UTC-4115cvRrZE@85.215.121.98
DTSTAMP:20260426T015000Z
DTSTART;TZID=Europe/Amsterdam:20140321T190000
DTEND;TZID=Europe/Amsterdam:20140321T204500
SUMMARY:Regionalliga Mitte 2013/14: Union TTI St. Florian - FC Pasching
END:VEVENT
BEGIN:VEVENT
UID:20260426T015000UTC-4121OcmXVn@85.215.121.98
DTSTAMP:20260426T015000Z
DTSTART;TZID=Europe/Amsterdam:20140328T190000
DTEND;TZID=Europe/Amsterdam:20140328T204500
SUMMARY:Regionalliga Mitte 2013/14: FC Pasching - LASK
END:VEVENT
BEGIN:VEVENT
UID:20260426T015000UTC-4127ZmVREX@85.215.121.98
DTSTAMP:20260426T015000Z
DTSTART;TZID=Europe/Amsterdam:20140404T190000
DTEND;TZID=Europe/Amsterdam:20140404T204500
SUMMARY:Regionalliga Mitte 2013/14: Vöcklamarkt - FC Pasching
END:VEVENT
BEGIN:VEVENT
UID:20260426T015000UTC-4132ELKCIN@85.215.121.98
DTSTAMP:20260426T015000Z
DTSTART;TZID=Europe/Amsterdam:20140411T190000
DTEND;TZID=Europe/Amsterdam:20140411T204500
SUMMARY:Regionalliga Mitte 2013/14: FC Pasching - VSV
END:VEVENT
BEGIN:VEVENT
UID:20260426T015000UTC-4138jIMkjs@85.215.121.98
DTSTAMP:20260426T015000Z
DTSTART;TZID=Europe/Amsterdam:20140420T170000
DTEND;TZID=Europe/Amsterdam:20140420T184500
SUMMARY:Regionalliga Mitte 2013/14: WAC Amat. - FC Pasching
END:VEVENT
BEGIN:VEVENT
UID:20260426T015000UTC-4143czHFhM@85.215.121.98
DTSTAMP:20260426T015000Z
DTSTART;TZID=Europe/Amsterdam:20140425T190000
DTEND;TZID=Europe/Amsterdam:20140425T204500
SUMMARY:Regionalliga Mitte 2013/14: FC Pasching - SAK Celovec/Klagenfurt
END:VEVENT
BEGIN:VEVENT
UID:20260426T015000UTC-4150efm0mp@85.215.121.98
DTSTAMP:20260426T015000Z
DTSTART;TZID=Europe/Amsterdam:20140430T190000
DTEND;TZID=Europe/Amsterdam:20140430T204500
SUMMARY:Regionalliga Mitte 2013/14: SK Austria Klagenfurt - FC Pasching
END:VEVENT
BEGIN:VEVENT
UID:20260426T015000UTC-4162kdg0OH@85.215.121.98
DTSTAMP:20260426T015000Z
DTSTART;TZID=Europe/Amsterdam:20140509T190000
DTEND;TZID=Europe/Amsterdam:20140509T204500
SUMMARY:Regionalliga Mitte 2013/14: FC Pasching - SV Wallern
END:VEVENT
BEGIN:VEVENT
UID:20260426T015000UTC-4170HFd6FI@85.215.121.98
DTSTAMP:20260426T015000Z
DTSTART;TZID=Europe/Amsterdam:20140513T190000
DTEND;TZID=Europe/Amsterdam:20140513T204500
SUMMARY:Regionalliga Mitte 2013/14: FC Pasching - Sturm Graz Amateure
END:VEVENT
BEGIN:VEVENT
UID:20260426T015000UTC-4177DF6T01@85.215.121.98
DTSTAMP:20260426T015000Z
DTSTART;TZID=Europe/Amsterdam:20140516T190000
DTEND;TZID=Europe/Amsterdam:20140516T204500
SUMMARY:Regionalliga Mitte 2013/14: FC Blau Weiss Linz - FC Pasching
END:VEVENT
BEGIN:VEVENT
UID:20260426T015000UTC-4184Frnv5M@85.215.121.98
DTSTAMP:20260426T015000Z
DTSTART;TZID=Europe/Amsterdam:20140523T190000
DTEND;TZID=Europe/Amsterdam:20140523T204500
SUMMARY:Regionalliga Mitte 2013/14: FC Pasching - Kalsdorf
END:VEVENT
BEGIN:VEVENT
UID:20260426T015000UTC-41936ofSOF@85.215.121.98
DTSTAMP:20260426T015000Z
DTSTART;TZID=Europe/Amsterdam:20140530T180000
DTEND;TZID=Europe/Amsterdam:20140530T194500
SUMMARY:Regionalliga Mitte 2013/14: Allerheiligen - FC Pasching
END:VEVENT
END:VCALENDAR
