BEGIN:VCALENDAR
VERSION:2.0
PRODID:-////NONSGML kigkonsult.se iCalcreator 2.18//
X-WR-TIMEZONE:Europe/Berlin
BEGIN:VTIMEZONE
TZID:Europe/Berlin
X-LIC-LOCATION:Europe/Berlin
BEGIN:STANDARD
DTSTART:20201025T030000
TZOFFSETFROM:+0200
TZOFFSETTO:+0100
RDATE:20211031T030000
TZNAME:CET
END:STANDARD
BEGIN:DAYLIGHT
DTSTART:20210328T020000
TZOFFSETFROM:+0100
TZOFFSETTO:+0200
RDATE:20220327T020000
TZNAME:CEST
END:DAYLIGHT
END:VTIMEZONE
BEGIN:VEVENT
UID:20260421T035745UTC-0941kgpsv8@85.215.121.98
DTSTAMP:20260421T035745Z
DTSTART;TZID=Europe/Berlin:20200801T180000
DTEND;TZID=Europe/Berlin:20200801T194500
SUMMARY:K - 2. Klasse B 2020/21: Obermillstatt - Weißenstein
END:VEVENT
BEGIN:VEVENT
UID:20260421T035745UTC-0948wphcUm@85.215.121.98
DTSTAMP:20260421T035745Z
DTSTART;TZID=Europe/Berlin:20200808T180000
DTEND;TZID=Europe/Berlin:20200808T194500
SUMMARY:K - 2. Klasse B 2020/21: Weißenstein - Treffen
END:VEVENT
BEGIN:VEVENT
UID:20260421T035745UTC-09533UW8lr@85.215.121.98
DTSTAMP:20260421T035745Z
DTSTART;TZID=Europe/Berlin:20200815T170000
DTEND;TZID=Europe/Berlin:20200815T184500
SUMMARY:K - 2. Klasse B 2020/21: Ferndorf - Weißenstein
END:VEVENT
BEGIN:VEVENT
UID:20260421T035745UTC-0959tTgAz9@85.215.121.98
DTSTAMP:20260421T035745Z
DTSTART;TZID=Europe/Berlin:20200822T160000
DTEND;TZID=Europe/Berlin:20200822T174500
SUMMARY:K - 2. Klasse B 2020/21: Weißenstein - Arnoldstein
END:VEVENT
BEGIN:VEVENT
UID:20260421T035745UTC-0965UdUmgI@85.215.121.98
DTSTAMP:20260421T035745Z
DTSTART;TZID=Europe/Berlin:20200829T170000
DTEND;TZID=Europe/Berlin:20200829T184500
SUMMARY:K - 2. Klasse B 2020/21: Kleinkirchheim - Weißenstein
END:VEVENT
BEGIN:VEVENT
UID:20260421T035745UTC-0972PtwI4l@85.215.121.98
DTSTAMP:20260421T035745Z
DTSTART;TZID=Europe/Berlin:20200905T170000
DTEND;TZID=Europe/Berlin:20200905T184500
SUMMARY:K - 2. Klasse B 2020/21: Weißenstein - SG SV St. Jakob/Ros/DSG Lede
 nitzen 1b
END:VEVENT
BEGIN:VEVENT
UID:20260421T035745UTC-0978VL3K6v@85.215.121.98
DTSTAMP:20260421T035745Z
DTSTART;TZID=Europe/Berlin:20200912T160000
DTEND;TZID=Europe/Berlin:20200912T174500
SUMMARY:K - 2. Klasse B 2020/21: Bodensdorf - Weißenstein
END:VEVENT
BEGIN:VEVENT
UID:20260421T035745UTC-09846nXOBo@85.215.121.98
DTSTAMP:20260421T035745Z
DTSTART;TZID=Europe/Berlin:20200919T143000
DTEND;TZID=Europe/Berlin:20200919T161500
SUMMARY:K - 2. Klasse B 2020/21: Weißenstein - Draschitz
END:VEVENT
BEGIN:VEVENT
UID:20260421T035745UTC-0991KZoT29@85.215.121.98
DTSTAMP:20260421T035745Z
DTSTART;TZID=Europe/Berlin:20200926T160000
DTEND;TZID=Europe/Berlin:20200926T174500
SUMMARY:K - 2. Klasse B 2020/21: Admira Villach 1b - Weißenstein
END:VEVENT
BEGIN:VEVENT
UID:20260421T035745UTC-0996zHhB3X@85.215.121.98
DTSTAMP:20260421T035745Z
DTSTART;TZID=Europe/Berlin:20201003T153000
DTEND;TZID=Europe/Berlin:20201003T171500
SUMMARY:K - 2. Klasse B 2020/21: Weißenstein - Rosegg
END:VEVENT
BEGIN:VEVENT
UID:20260421T035745UTC-1002hGpIVX@85.215.121.98
DTSTAMP:20260421T035745Z
DTSTART;TZID=Europe/Berlin:20201010T150000
DTEND;TZID=Europe/Berlin:20201010T164500
SUMMARY:K - 2. Klasse B 2020/21: Töplitsch - Weißenstein
END:VEVENT
BEGIN:VEVENT
UID:20260421T035745UTC-1007vl087C@85.215.121.98
DTSTAMP:20260421T035745Z
DTSTART;TZID=Europe/Berlin:20201017T150000
DTEND;TZID=Europe/Berlin:20201017T164500
SUMMARY:K - 2. Klasse B 2020/21: Afritz - Weißenstein
END:VEVENT
BEGIN:VEVENT
UID:20260421T035745UTC-10139L4HMg@85.215.121.98
DTSTAMP:20260421T035745Z
DTSTART;TZID=Europe/Berlin:20201024T150000
DTEND;TZID=Europe/Berlin:20201024T164500
SUMMARY:K - 2. Klasse B 2020/21: Weißenstein - Landskron 1b
END:VEVENT
BEGIN:VEVENT
UID:20260421T035745UTC-1019U0KZG5@85.215.121.98
DTSTAMP:20260421T035745Z
DTSTART;TZID=Europe/Berlin:20201031T143000
DTEND;TZID=Europe/Berlin:20201031T161500
SUMMARY:K - 2. Klasse B 2020/21: Bad Bleiberg - Weißenstein
END:VEVENT
BEGIN:VEVENT
UID:20260421T035745UTC-10250vunaV@85.215.121.98
DTSTAMP:20260421T035745Z
DTSTART;TZID=Europe/Berlin:20210320T150000
DTEND;TZID=Europe/Berlin:20210320T164500
SUMMARY:K - 2. Klasse B 2020/21: Treffen - Weißenstein
END:VEVENT
BEGIN:VEVENT
UID:20260421T035745UTC-1032pDD8d4@85.215.121.98
DTSTAMP:20260421T035745Z
DTSTART;TZID=Europe/Berlin:20210328T230000
DTEND;TZID=Europe/Berlin:20210329T004500
SUMMARY:K - 2. Klasse B 2020/21: Weißenstein - Ferndorf
END:VEVENT
BEGIN:VEVENT
UID:20260421T035745UTC-10377xn9MF@85.215.121.98
DTSTAMP:20260421T035745Z
DTSTART;TZID=Europe/Berlin:20210403T150000
DTEND;TZID=Europe/Berlin:20210403T164500
SUMMARY:K - 2. Klasse B 2020/21: Arnoldstein - Weißenstein
END:VEVENT
BEGIN:VEVENT
UID:20260421T035745UTC-1044beVjB2@85.215.121.98
DTSTAMP:20260421T035745Z
DTSTART;TZID=Europe/Berlin:20210411T230000
DTEND;TZID=Europe/Berlin:20210412T004500
SUMMARY:K - 2. Klasse B 2020/21: Weißenstein - Kleinkirchheim
END:VEVENT
BEGIN:VEVENT
UID:20260421T035745UTC-1051EW6dng@85.215.121.98
DTSTAMP:20260421T035745Z
DTSTART;TZID=Europe/Berlin:20210416T230000
DTEND;TZID=Europe/Berlin:20210417T004500
SUMMARY:K - 2. Klasse B 2020/21: Weißenstein - Obermillstatt
END:VEVENT
BEGIN:VEVENT
UID:20260421T035745UTC-1056vpRHs2@85.215.121.98
DTSTAMP:20260421T035745Z
DTSTART;TZID=Europe/Berlin:20210418T230000
DTEND;TZID=Europe/Berlin:20210419T004500
SUMMARY:K - 2. Klasse B 2020/21: SG SV St. Jakob/Ros/DSG Ledenitzen 1b - We
 ißenstein
END:VEVENT
BEGIN:VEVENT
UID:20260421T035745UTC-1062OTu6jW@85.215.121.98
DTSTAMP:20260421T035745Z
DTSTART;TZID=Europe/Berlin:20210425T230000
DTEND;TZID=Europe/Berlin:20210426T004500
SUMMARY:K - 2. Klasse B 2020/21: Weißenstein - Bodensdorf
END:VEVENT
BEGIN:VEVENT
UID:20260421T035745UTC-10674shgJV@85.215.121.98
DTSTAMP:20260421T035745Z
DTSTART;TZID=Europe/Berlin:20210502T230000
DTEND;TZID=Europe/Berlin:20210503T004500
SUMMARY:K - 2. Klasse B 2020/21: Draschitz - Weißenstein
END:VEVENT
BEGIN:VEVENT
UID:20260421T035745UTC-1073Zu9lPg@85.215.121.98
DTSTAMP:20260421T035745Z
DTSTART;TZID=Europe/Berlin:20210509T230000
DTEND;TZID=Europe/Berlin:20210510T004500
SUMMARY:K - 2. Klasse B 2020/21: Weißenstein - Admira Villach 1b
END:VEVENT
BEGIN:VEVENT
UID:20260421T035745UTC-1079JJ3R8B@85.215.121.98
DTSTAMP:20260421T035745Z
DTSTART;TZID=Europe/Berlin:20210512T180000
DTEND;TZID=Europe/Berlin:20210512T194500
SUMMARY:K - 2. Klasse B 2020/21: Rosegg - Weißenstein
END:VEVENT
BEGIN:VEVENT
UID:20260421T035745UTC-10857fGZrZ@85.215.121.98
DTSTAMP:20260421T035745Z
DTSTART;TZID=Europe/Berlin:20210516T230000
DTEND;TZID=Europe/Berlin:20210517T004500
SUMMARY:K - 2. Klasse B 2020/21: Weißenstein - Töplitsch
END:VEVENT
BEGIN:VEVENT
UID:20260421T035745UTC-1090auLBPt@85.215.121.98
DTSTAMP:20260421T035745Z
DTSTART;TZID=Europe/Berlin:20210523T230000
DTEND;TZID=Europe/Berlin:20210524T004500
SUMMARY:K - 2. Klasse B 2020/21: Weißenstein - Afritz
END:VEVENT
BEGIN:VEVENT
UID:20260421T035745UTC-1095f2oLcc@85.215.121.98
DTSTAMP:20260421T035745Z
DTSTART;TZID=Europe/Berlin:20210530T230000
DTEND;TZID=Europe/Berlin:20210531T004500
SUMMARY:K - 2. Klasse B 2020/21: Landskron 1b - Weißenstein
END:VEVENT
BEGIN:VEVENT
UID:20260421T035745UTC-1102ebEtaX@85.215.121.98
DTSTAMP:20260421T035745Z
DTSTART;TZID=Europe/Berlin:20210606T230000
DTEND;TZID=Europe/Berlin:20210607T004500
SUMMARY:K - 2. Klasse B 2020/21: Weißenstein - Bad Bleiberg
END:VEVENT
BEGIN:VEVENT
UID:20260421T035745UTC-1107rP7Io3@85.215.121.98
DTSTAMP:20260421T035745Z
DTSTART;TZID=Europe/Berlin:20210613T150000
DTEND;TZID=Europe/Berlin:20210613T164500
SUMMARY:K - 2. Klasse B 2020/21: Arriach - Weißenstein
END:VEVENT
BEGIN:VEVENT
UID:20260421T035745UTC-1113zNEdh3@85.215.121.98
DTSTAMP:20260421T035745Z
DTSTART;TZID=Europe/Berlin:20210626T180000
DTEND;TZID=Europe/Berlin:20210626T194500
SUMMARY:K - 2. Klasse B 2020/21: Weißenstein - Arriach
END:VEVENT
END:VCALENDAR
