BEGIN:VCALENDAR
VERSION:2.0
PRODID:-////NONSGML kigkonsult.se iCalcreator 2.18//
X-WR-TIMEZONE:Europe/Berlin
BEGIN:VTIMEZONE
TZID:Europe/Berlin
X-LIC-LOCATION:Europe/Berlin
BEGIN:STANDARD
DTSTART:20201025T030000
TZOFFSETFROM:+0200
TZOFFSETTO:+0100
TZNAME:CET
END:STANDARD
BEGIN:DAYLIGHT
DTSTART:20210328T020000
TZOFFSETFROM:+0100
TZOFFSETTO:+0200
TZNAME:CEST
END:DAYLIGHT
END:VTIMEZONE
BEGIN:VEVENT
UID:20260420T154813UTC-0214mJ6KFz@85.215.121.98
DTSTAMP:20260420T154813Z
DTSTART;TZID=Europe/Berlin:20200830T111500
DTEND;TZID=Europe/Berlin:20200830T130000
SUMMARY:ÖFB Cup 2020/21: FK Austria Wien - Retz
END:VEVENT
END:VCALENDAR
