BEGIN:VCALENDAR
VERSION:2.0
PRODID:-////NONSGML kigkonsult.se iCalcreator 2.18//
X-WR-TIMEZONE:Europe/Amsterdam
BEGIN:VTIMEZONE
TZID:Europe/Amsterdam
X-LIC-LOCATION:Europe/Amsterdam
BEGIN:STANDARD
DTSTART:20161030T030000
TZOFFSETFROM:+0200
TZOFFSETTO:+0100
RDATE:20171029T030000
TZNAME:CET
END:STANDARD
BEGIN:DAYLIGHT
DTSTART:20170326T020000
TZOFFSETFROM:+0100
TZOFFSETTO:+0200
RDATE:20180325T020000
TZNAME:CEST
END:DAYLIGHT
END:VTIMEZONE
BEGIN:VEVENT
UID:20260423T202147UTC-8495UnKhvV@85.215.121.98
DTSTAMP:20260423T202147Z
DTSTART;TZID=Europe/Amsterdam:20160729T183000
DTEND;TZID=Europe/Amsterdam:20160729T201000
SUMMARY:K - 2. Klasse D 2016/17: Guttaring - Kraig 1b
END:VEVENT
BEGIN:VEVENT
UID:20260423T202147UTC-8503sN0hC7@85.215.121.98
DTSTAMP:20260423T202147Z
DTSTART;TZID=Europe/Amsterdam:20160806T170000
DTEND;TZID=Europe/Amsterdam:20160806T184000
SUMMARY:K - 2. Klasse D 2016/17: Weitensfeld - Guttaring
END:VEVENT
BEGIN:VEVENT
UID:20260423T202147UTC-8509PNNo83@85.215.121.98
DTSTAMP:20260423T202147Z
DTSTART;TZID=Europe/Amsterdam:20160813T170000
DTEND;TZID=Europe/Amsterdam:20160813T184000
SUMMARY:K - 2. Klasse D 2016/17: Guttaring - Sörg
END:VEVENT
BEGIN:VEVENT
UID:20260423T202147UTC-8515JhaLNu@85.215.121.98
DTSTAMP:20260423T202147Z
DTSTART;TZID=Europe/Amsterdam:20160821T173000
DTEND;TZID=Europe/Amsterdam:20160821T191000
SUMMARY:K - 2. Klasse D 2016/17: Köttmannsdorf 1b - Guttaring
END:VEVENT
BEGIN:VEVENT
UID:20260423T202147UTC-8544ooMF8I@85.215.121.98
DTSTAMP:20260423T202147Z
DTSTART;TZID=Europe/Amsterdam:20160828T163000
DTEND;TZID=Europe/Amsterdam:20160828T181000
SUMMARY:K - 2. Klasse D 2016/17: Guttaring - Straßburg
END:VEVENT
BEGIN:VEVENT
UID:20260423T202147UTC-8551sw8o0T@85.215.121.98
DTSTAMP:20260423T202147Z
DTSTART;TZID=Europe/Amsterdam:20160903T170000
DTEND;TZID=Europe/Amsterdam:20160903T184000
SUMMARY:K - 2. Klasse D 2016/17: Maria Rain - Guttaring
END:VEVENT
BEGIN:VEVENT
UID:20260423T202147UTC-8557gAV6tp@85.215.121.98
DTSTAMP:20260423T202147Z
DTSTART;TZID=Europe/Amsterdam:20160911T150000
DTEND;TZID=Europe/Amsterdam:20160911T164000
SUMMARY:K - 2. Klasse D 2016/17: Guttaring - Himmelberg
END:VEVENT
BEGIN:VEVENT
UID:20260423T202147UTC-8563EV2V9U@85.215.121.98
DTSTAMP:20260423T202147Z
DTSTART;TZID=Europe/Amsterdam:20160917T160000
DTEND;TZID=Europe/Amsterdam:20160917T174000
SUMMARY:K - 2. Klasse D 2016/17: Kappel - Guttaring
END:VEVENT
BEGIN:VEVENT
UID:20260423T202147UTC-8568urcbRZ@85.215.121.98
DTSTAMP:20260423T202147Z
DTSTART;TZID=Europe/Amsterdam:20160924T160000
DTEND;TZID=Europe/Amsterdam:20160924T174000
SUMMARY:K - 2. Klasse D 2016/17: Guttaring - Launsdorf
END:VEVENT
BEGIN:VEVENT
UID:20260423T202147UTC-8574RM1X0b@85.215.121.98
DTSTAMP:20260423T202147Z
DTSTART;TZID=Europe/Amsterdam:20161002T160000
DTEND;TZID=Europe/Amsterdam:20161002T174000
SUMMARY:K - 2. Klasse D 2016/17: Keutschach - Guttaring
END:VEVENT
BEGIN:VEVENT
UID:20260423T202147UTC-8580lZB87x@85.215.121.98
DTSTAMP:20260423T202147Z
DTSTART;TZID=Europe/Amsterdam:20161008T143000
DTEND;TZID=Europe/Amsterdam:20161008T161000
SUMMARY:K - 2. Klasse D 2016/17: Guttaring - St. Urban
END:VEVENT
BEGIN:VEVENT
UID:20260423T202147UTC-8590hvof1L@85.215.121.98
DTSTAMP:20260423T202147Z
DTSTART;TZID=Europe/Amsterdam:20161015T150000
DTEND;TZID=Europe/Amsterdam:20161015T164000
SUMMARY:K - 2. Klasse D 2016/17: Guttaring - Gurk
END:VEVENT
BEGIN:VEVENT
UID:20260423T202147UTC-8624sWNURm@85.215.121.98
DTSTAMP:20260423T202147Z
DTSTART;TZID=Europe/Amsterdam:20161022T161500
DTEND;TZID=Europe/Amsterdam:20161022T175500
SUMMARY:K - 2. Klasse D 2016/17: KAC 1909 Juniors - Guttaring
END:VEVENT
BEGIN:VEVENT
UID:20260423T202147UTC-8630dhDuK6@85.215.121.98
DTSTAMP:20260423T202147Z
DTSTART;TZID=Europe/Amsterdam:20161026T140000
DTEND;TZID=Europe/Amsterdam:20161026T154000
SUMMARY:K - 2. Klasse D 2016/17: Guttaring - SG SV Feldkirchen/SV Oberglan 
 1b
END:VEVENT
BEGIN:VEVENT
UID:20260423T202147UTC-8636RzIEgm@85.215.121.98
DTSTAMP:20260423T202147Z
DTSTART;TZID=Europe/Amsterdam:20161030T150000
DTEND;TZID=Europe/Amsterdam:20161030T164000
SUMMARY:K - 2. Klasse D 2016/17: Moosburg - Guttaring
END:VEVENT
BEGIN:VEVENT
UID:20260423T202147UTC-8643cGW77E@85.215.121.98
DTSTAMP:20260423T202147Z
DTSTART;TZID=Europe/Amsterdam:20161105T150000
DTEND;TZID=Europe/Amsterdam:20161105T164000
SUMMARY:K - 2. Klasse D 2016/17: Kraig 1b - Guttaring
END:VEVENT
BEGIN:VEVENT
UID:20260423T202147UTC-8650xoR1sK@85.215.121.98
DTSTAMP:20260423T202147Z
DTSTART;TZID=Europe/Amsterdam:20170325T150000
DTEND;TZID=Europe/Amsterdam:20170325T164000
SUMMARY:K - 2. Klasse D 2016/17: Guttaring - Weitensfeld
END:VEVENT
BEGIN:VEVENT
UID:20260423T202147UTC-8655AbaV6K@85.215.121.98
DTSTAMP:20260423T202147Z
DTSTART;TZID=Europe/Amsterdam:20170401T153000
DTEND;TZID=Europe/Amsterdam:20170401T171000
SUMMARY:K - 2. Klasse D 2016/17: Sörg - Guttaring
END:VEVENT
BEGIN:VEVENT
UID:20260423T202147UTC-8661XvzSxd@85.215.121.98
DTSTAMP:20260423T202147Z
DTSTART;TZID=Europe/Amsterdam:20170408T150000
DTEND;TZID=Europe/Amsterdam:20170408T164000
SUMMARY:K - 2. Klasse D 2016/17: Guttaring - Köttmannsdorf 1b
END:VEVENT
BEGIN:VEVENT
UID:20260423T202147UTC-8670RO9UfF@85.215.121.98
DTSTAMP:20260423T202147Z
DTSTART;TZID=Europe/Amsterdam:20170415T160000
DTEND;TZID=Europe/Amsterdam:20170415T174000
SUMMARY:K - 2. Klasse D 2016/17: Straßburg - Guttaring
END:VEVENT
BEGIN:VEVENT
UID:20260423T202147UTC-8678JJO8EI@85.215.121.98
DTSTAMP:20260423T202147Z
DTSTART;TZID=Europe/Amsterdam:20170422T160000
DTEND;TZID=Europe/Amsterdam:20170422T174000
SUMMARY:K - 2. Klasse D 2016/17: Guttaring - Maria Rain
END:VEVENT
BEGIN:VEVENT
UID:20260423T202147UTC-86831zwV45@85.215.121.98
DTSTAMP:20260423T202147Z
DTSTART;TZID=Europe/Amsterdam:20170429T160000
DTEND;TZID=Europe/Amsterdam:20170429T174000
SUMMARY:K - 2. Klasse D 2016/17: Himmelberg - Guttaring
END:VEVENT
BEGIN:VEVENT
UID:20260423T202147UTC-8689SLMeAi@85.215.121.98
DTSTAMP:20260423T202147Z
DTSTART;TZID=Europe/Amsterdam:20170501T170000
DTEND;TZID=Europe/Amsterdam:20170501T184000
SUMMARY:K - 2. Klasse D 2016/17: Guttaring - Kappel
END:VEVENT
BEGIN:VEVENT
UID:20260423T202147UTC-8694MMuW48@85.215.121.98
DTSTAMP:20260423T202147Z
DTSTART;TZID=Europe/Amsterdam:20170507T170000
DTEND;TZID=Europe/Amsterdam:20170507T184000
SUMMARY:K - 2. Klasse D 2016/17: Launsdorf - Guttaring
END:VEVENT
BEGIN:VEVENT
UID:20260423T202147UTC-8700xT1Xvx@85.215.121.98
DTSTAMP:20260423T202147Z
DTSTART;TZID=Europe/Amsterdam:20170513T170000
DTEND;TZID=Europe/Amsterdam:20170513T184000
SUMMARY:K - 2. Klasse D 2016/17: Guttaring - Keutschach
END:VEVENT
BEGIN:VEVENT
UID:20260423T202147UTC-870661KG6J@85.215.121.98
DTSTAMP:20260423T202147Z
DTSTART;TZID=Europe/Amsterdam:20170520T140000
DTEND;TZID=Europe/Amsterdam:20170520T154000
SUMMARY:K - 2. Klasse D 2016/17: St. Urban - Guttaring
END:VEVENT
BEGIN:VEVENT
UID:20260423T202147UTC-8714lCCU7p@85.215.121.98
DTSTAMP:20260423T202147Z
DTSTART;TZID=Europe/Amsterdam:20170525T173000
DTEND;TZID=Europe/Amsterdam:20170525T191000
SUMMARY:K - 2. Klasse D 2016/17: Gurk - Guttaring
END:VEVENT
BEGIN:VEVENT
UID:20260423T202147UTC-8720KVGVwW@85.215.121.98
DTSTAMP:20260423T202147Z
DTSTART;TZID=Europe/Amsterdam:20170527T170000
DTEND;TZID=Europe/Amsterdam:20170527T184000
SUMMARY:K - 2. Klasse D 2016/17: Guttaring - KAC 1909 Juniors
END:VEVENT
BEGIN:VEVENT
UID:20260423T202147UTC-8754HkSOUj@85.215.121.98
DTSTAMP:20260423T202147Z
DTSTART;TZID=Europe/Amsterdam:20170604T230000
DTEND;TZID=Europe/Amsterdam:20170605T004000
SUMMARY:K - 2. Klasse D 2016/17: SG SV Feldkirchen/SV Oberglan 1b - Guttari
 ng
END:VEVENT
BEGIN:VEVENT
UID:20260423T202147UTC-8763Ljn5iB@85.215.121.98
DTSTAMP:20260423T202147Z
DTSTART;TZID=Europe/Amsterdam:20170610T170000
DTEND;TZID=Europe/Amsterdam:20170610T184000
SUMMARY:K - 2. Klasse D 2016/17: Guttaring - Moosburg
END:VEVENT
END:VCALENDAR
