BEGIN:VCALENDAR
VERSION:2.0
PRODID:-////NONSGML kigkonsult.se iCalcreator 2.18//
X-WR-TIMEZONE:Europe/Amsterdam
BEGIN:VTIMEZONE
TZID:Europe/Amsterdam
X-LIC-LOCATION:Europe/Amsterdam
BEGIN:STANDARD
DTSTART:20061029T030000
TZOFFSETFROM:+0200
TZOFFSETTO:+0100
RDATE:20071028T030000
TZNAME:CET
END:STANDARD
BEGIN:DAYLIGHT
DTSTART:20070325T020000
TZOFFSETFROM:+0100
TZOFFSETTO:+0200
RDATE:20080330T020000
TZNAME:CEST
END:DAYLIGHT
END:VTIMEZONE
BEGIN:VEVENT
UID:20260420T172841UTC-7842jzwvUO@85.215.121.98
DTSTAMP:20260420T172841Z
DTSTART;TZID=Europe/Amsterdam:20060729T173000
DTEND;TZID=Europe/Amsterdam:20060729T191500
SUMMARY:K - 2. Klasse C 2006/07: HSV - Techelsberg
END:VEVENT
BEGIN:VEVENT
UID:20260420T172841UTC-7964jCWVtV@85.215.121.98
DTSTAMP:20260420T172841Z
DTSTART;TZID=Europe/Amsterdam:20060805T173000
DTEND;TZID=Europe/Amsterdam:20060805T191500
SUMMARY:K - 2. Klasse C 2006/07: Kappel - HSV
END:VEVENT
BEGIN:VEVENT
UID:20260420T172841UTC-7970e4w7Nu@85.215.121.98
DTSTAMP:20260420T172841Z
DTSTART;TZID=Europe/Amsterdam:20060812T170000
DTEND;TZID=Europe/Amsterdam:20060812T184500
SUMMARY:K - 2. Klasse C 2006/07: HSV - Feistritz/Ros.
END:VEVENT
BEGIN:VEVENT
UID:20260420T172841UTC-7976LTpj7a@85.215.121.98
DTSTAMP:20260420T172841Z
DTSTART;TZID=Europe/Amsterdam:20060819T173000
DTEND;TZID=Europe/Amsterdam:20060819T191500
SUMMARY:K - 2. Klasse C 2006/07: Viktring - HSV
END:VEVENT
BEGIN:VEVENT
UID:20260420T172841UTC-7983vG4XNU@85.215.121.98
DTSTAMP:20260420T172841Z
DTSTART;TZID=Europe/Amsterdam:20060826T163000
DTEND;TZID=Europe/Amsterdam:20060826T181500
SUMMARY:K - 2. Klasse C 2006/07: Hüttenberg - HSV
END:VEVENT
BEGIN:VEVENT
UID:20260420T172841UTC-7989SXUI4n@85.215.121.98
DTSTAMP:20260420T172841Z
DTSTART;TZID=Europe/Amsterdam:20060903T170000
DTEND;TZID=Europe/Amsterdam:20060903T184500
SUMMARY:K - 2. Klasse C 2006/07: Keutschach - HSV
END:VEVENT
BEGIN:VEVENT
UID:20260420T172841UTC-7995UT6Zzv@85.215.121.98
DTSTAMP:20260420T172841Z
DTSTART;TZID=Europe/Amsterdam:20060910T104500
DTEND;TZID=Europe/Amsterdam:20060910T123000
SUMMARY:K - 2. Klasse C 2006/07: HSV - Micheldorf
END:VEVENT
BEGIN:VEVENT
UID:20260420T172841UTC-8001Rg11S9@85.215.121.98
DTSTAMP:20260420T172841Z
DTSTART;TZID=Europe/Amsterdam:20060917T104500
DTEND;TZID=Europe/Amsterdam:20060917T123000
SUMMARY:K - 2. Klasse C 2006/07: HSV - Pörtschach
END:VEVENT
BEGIN:VEVENT
UID:20260420T172841UTC-8007dw06jS@85.215.121.98
DTSTAMP:20260420T172841Z
DTSTART;TZID=Europe/Amsterdam:20060923T160000
DTEND;TZID=Europe/Amsterdam:20060923T174500
SUMMARY:K - 2. Klasse C 2006/07: SC Ebental 1b - HSV
END:VEVENT
BEGIN:VEVENT
UID:20260420T172841UTC-8012NP7wpd@85.215.121.98
DTSTAMP:20260420T172841Z
DTSTART;TZID=Europe/Amsterdam:20060930T154500
DTEND;TZID=Europe/Amsterdam:20060930T173000
SUMMARY:K - 2. Klasse C 2006/07: HSV - St. Urban
END:VEVENT
BEGIN:VEVENT
UID:20260420T172841UTC-8018swvDTf@85.215.121.98
DTSTAMP:20260420T172841Z
DTSTART;TZID=Europe/Amsterdam:20061007T153000
DTEND;TZID=Europe/Amsterdam:20061007T171500
SUMMARY:K - 2. Klasse C 2006/07: Sörg - HSV
END:VEVENT
BEGIN:VEVENT
UID:20260420T172841UTC-80245dSM8G@85.215.121.98
DTSTAMP:20260420T172841Z
DTSTART;TZID=Europe/Amsterdam:20061014T153000
DTEND;TZID=Europe/Amsterdam:20061014T171500
SUMMARY:K - 2. Klasse C 2006/07: HSV - Oberglan
END:VEVENT
BEGIN:VEVENT
UID:20260420T172841UTC-8029MCkhtX@85.215.121.98
DTSTAMP:20260420T172841Z
DTSTART;TZID=Europe/Amsterdam:20061021T150000
DTEND;TZID=Europe/Amsterdam:20061021T164500
SUMMARY:K - 2. Klasse C 2006/07: Himmelberg - HSV
END:VEVENT
BEGIN:VEVENT
UID:20260420T172841UTC-80348Uupbn@85.215.121.98
DTSTAMP:20260420T172841Z
DTSTART;TZID=Europe/Amsterdam:20061026T150000
DTEND;TZID=Europe/Amsterdam:20061026T164500
SUMMARY:K - 2. Klasse C 2006/07: HSV - Krumpendorf
END:VEVENT
BEGIN:VEVENT
UID:20260420T172841UTC-8040U4tU6U@85.215.121.98
DTSTAMP:20260420T172841Z
DTSTART;TZID=Europe/Amsterdam:20061029T103000
DTEND;TZID=Europe/Amsterdam:20061029T121500
SUMMARY:K - 2. Klasse C 2006/07: ASK Klagenfurt - HSV
END:VEVENT
BEGIN:VEVENT
UID:20260420T172841UTC-80477arWaS@85.215.121.98
DTSTAMP:20260420T172841Z
DTSTART;TZID=Europe/Amsterdam:20061105T143000
DTEND;TZID=Europe/Amsterdam:20061105T161500
SUMMARY:K - 2. Klasse C 2006/07: Techelsberg - HSV
END:VEVENT
BEGIN:VEVENT
UID:20260420T172841UTC-8056UXkUVr@85.215.121.98
DTSTAMP:20260420T172841Z
DTSTART;TZID=Europe/Amsterdam:20061111T144500
DTEND;TZID=Europe/Amsterdam:20061111T163000
SUMMARY:K - 2. Klasse C 2006/07: HSV - Kappel
END:VEVENT
BEGIN:VEVENT
UID:20260420T172841UTC-8062X3Kbwn@85.215.121.98
DTSTAMP:20260420T172841Z
DTSTART;TZID=Europe/Amsterdam:20070331T160000
DTEND;TZID=Europe/Amsterdam:20070331T174500
SUMMARY:K - 2. Klasse C 2006/07: Feistritz/Ros. - HSV
END:VEVENT
BEGIN:VEVENT
UID:20260420T172841UTC-8068IB3udz@85.215.121.98
DTSTAMP:20260420T172841Z
DTSTART;TZID=Europe/Amsterdam:20070407T153000
DTEND;TZID=Europe/Amsterdam:20070407T171500
SUMMARY:K - 2. Klasse C 2006/07: HSV - Viktring
END:VEVENT
BEGIN:VEVENT
UID:20260420T172841UTC-8074ktHuL6@85.215.121.98
DTSTAMP:20260420T172841Z
DTSTART;TZID=Europe/Amsterdam:20070414T160000
DTEND;TZID=Europe/Amsterdam:20070414T174500
SUMMARY:K - 2. Klasse C 2006/07: HSV - Hüttenberg
END:VEVENT
BEGIN:VEVENT
UID:20260420T172841UTC-8079FvHIaT@85.215.121.98
DTSTAMP:20260420T172841Z
DTSTART;TZID=Europe/Amsterdam:20070421T163000
DTEND;TZID=Europe/Amsterdam:20070421T181500
SUMMARY:K - 2. Klasse C 2006/07: HSV - Keutschach
END:VEVENT
BEGIN:VEVENT
UID:20260420T172841UTC-80840tFAtw@85.215.121.98
DTSTAMP:20260420T172841Z
DTSTART;TZID=Europe/Amsterdam:20070429T153000
DTEND;TZID=Europe/Amsterdam:20070429T171500
SUMMARY:K - 2. Klasse C 2006/07: Micheldorf - HSV
END:VEVENT
BEGIN:VEVENT
UID:20260420T172841UTC-80919AF2jg@85.215.121.98
DTSTAMP:20260420T172841Z
DTSTART;TZID=Europe/Amsterdam:20070505T170000
DTEND;TZID=Europe/Amsterdam:20070505T184500
SUMMARY:K - 2. Klasse C 2006/07: Pörtschach - HSV
END:VEVENT
BEGIN:VEVENT
UID:20260420T172841UTC-8097e7xANW@85.215.121.98
DTSTAMP:20260420T172841Z
DTSTART;TZID=Europe/Amsterdam:20070512T170000
DTEND;TZID=Europe/Amsterdam:20070512T184500
SUMMARY:K - 2. Klasse C 2006/07: HSV - SC Ebental 1b
END:VEVENT
BEGIN:VEVENT
UID:20260420T172841UTC-8103VtTF4p@85.215.121.98
DTSTAMP:20260420T172841Z
DTSTART;TZID=Europe/Amsterdam:20070517T170000
DTEND;TZID=Europe/Amsterdam:20070517T184500
SUMMARY:K - 2. Klasse C 2006/07: St. Urban - HSV
END:VEVENT
BEGIN:VEVENT
UID:20260420T172841UTC-8108UxCK4e@85.215.121.98
DTSTAMP:20260420T172841Z
DTSTART;TZID=Europe/Amsterdam:20070519T160000
DTEND;TZID=Europe/Amsterdam:20070519T174500
SUMMARY:K - 2. Klasse C 2006/07: HSV - Sörg
END:VEVENT
BEGIN:VEVENT
UID:20260420T172841UTC-8114VVgoMo@85.215.121.98
DTSTAMP:20260420T172841Z
DTSTART;TZID=Europe/Amsterdam:20070526T170000
DTEND;TZID=Europe/Amsterdam:20070526T184500
SUMMARY:K - 2. Klasse C 2006/07: Oberglan - HSV
END:VEVENT
BEGIN:VEVENT
UID:20260420T172841UTC-8119GKUxeC@85.215.121.98
DTSTAMP:20260420T172841Z
DTSTART;TZID=Europe/Amsterdam:20070602T173000
DTEND;TZID=Europe/Amsterdam:20070602T191500
SUMMARY:K - 2. Klasse C 2006/07: HSV - Himmelberg
END:VEVENT
BEGIN:VEVENT
UID:20260420T172841UTC-8125g3p0NR@85.215.121.98
DTSTAMP:20260420T172841Z
DTSTART;TZID=Europe/Amsterdam:20070609T180000
DTEND;TZID=Europe/Amsterdam:20070609T194500
SUMMARY:K - 2. Klasse C 2006/07: Krumpendorf - HSV
END:VEVENT
BEGIN:VEVENT
UID:20260420T172841UTC-8131TVL3Ot@85.215.121.98
DTSTAMP:20260420T172841Z
DTSTART;TZID=Europe/Amsterdam:20070616T180000
DTEND;TZID=Europe/Amsterdam:20070616T194500
SUMMARY:K - 2. Klasse C 2006/07: HSV - ASK Klagenfurt
END:VEVENT
END:VCALENDAR
