BEGIN:VCALENDAR
VERSION:2.0
PRODID:-////NONSGML kigkonsult.se iCalcreator 2.18//
X-WR-TIMEZONE:Europe/Berlin
BEGIN:VTIMEZONE
TZID:Europe/Berlin
X-LIC-LOCATION:Europe/Berlin
BEGIN:STANDARD
DTSTART:20201025T030000
TZOFFSETFROM:+0200
TZOFFSETTO:+0100
RDATE:20211031T030000
TZNAME:CET
END:STANDARD
BEGIN:DAYLIGHT
DTSTART:20210328T020000
TZOFFSETFROM:+0100
TZOFFSETTO:+0200
RDATE:20220327T020000
TZNAME:CEST
END:DAYLIGHT
END:VTIMEZONE
BEGIN:VEVENT
UID:20260423T141522UTC-9445UaRWvd@85.215.121.98
DTSTAMP:20260423T141522Z
DTSTART;TZID=Europe/Berlin:20200802T140000
DTEND;TZID=Europe/Berlin:20200802T154500
SUMMARY:K - 2. Klasse C 2020/21: SG KSK-Wörthersee/ATUS Pörtschach - Gurk
END:VEVENT
BEGIN:VEVENT
UID:20260423T141522UTC-9509LmsIaM@85.215.121.98
DTSTAMP:20260423T141522Z
DTSTART;TZID=Europe/Berlin:20200808T170000
DTEND;TZID=Europe/Berlin:20200808T184500
SUMMARY:K - 2. Klasse C 2020/21: Gurk - Wietersdorf
END:VEVENT
BEGIN:VEVENT
UID:20260423T141522UTC-9519hNmDAa@85.215.121.98
DTSTAMP:20260423T141522Z
DTSTART;TZID=Europe/Berlin:20200815T180000
DTEND;TZID=Europe/Berlin:20200815T194500
SUMMARY:K - 2. Klasse C 2020/21: Kraig 1b - Gurk
END:VEVENT
BEGIN:VEVENT
UID:20260423T141522UTC-9524mCVdMs@85.215.121.98
DTSTAMP:20260423T141522Z
DTSTART;TZID=Europe/Berlin:20200829T170000
DTEND;TZID=Europe/Berlin:20200829T184500
SUMMARY:K - 2. Klasse C 2020/21: Viktring - Gurk
END:VEVENT
BEGIN:VEVENT
UID:20260423T141522UTC-9532R0T06r@85.215.121.98
DTSTAMP:20260423T141522Z
DTSTART;TZID=Europe/Berlin:20200905T160000
DTEND;TZID=Europe/Berlin:20200905T174500
SUMMARY:K - 2. Klasse C 2020/21: Gurk - Straßburg
END:VEVENT
BEGIN:VEVENT
UID:20260423T141522UTC-9582eglBPB@85.215.121.98
DTSTAMP:20260423T141522Z
DTSTART;TZID=Europe/Berlin:20200913T160000
DTEND;TZID=Europe/Berlin:20200913T174500
SUMMARY:K - 2. Klasse C 2020/21: Techelsberg - Gurk
END:VEVENT
BEGIN:VEVENT
UID:20260423T141522UTC-9590HIrN5N@85.215.121.98
DTSTAMP:20260423T141522Z
DTSTART;TZID=Europe/Berlin:20200919T160000
DTEND;TZID=Europe/Berlin:20200919T174500
SUMMARY:K - 2. Klasse C 2020/21: Gurk - Moosburg
END:VEVENT
BEGIN:VEVENT
UID:20260423T141522UTC-9599KHv7jc@85.215.121.98
DTSTAMP:20260423T141522Z
DTSTART;TZID=Europe/Berlin:20200926T140000
DTEND;TZID=Europe/Berlin:20200926T154500
SUMMARY:K - 2. Klasse C 2020/21: Feistritz/Ros. - Gurk
END:VEVENT
BEGIN:VEVENT
UID:20260423T141522UTC-9608VPUiVn@85.215.121.98
DTSTAMP:20260423T141522Z
DTSTART;TZID=Europe/Berlin:20201003T150000
DTEND;TZID=Europe/Berlin:20201003T164500
SUMMARY:K - 2. Klasse C 2020/21: Gurk - NextGen St. Veit
END:VEVENT
BEGIN:VEVENT
UID:20260423T141522UTC-9634GUv1X1@85.215.121.98
DTSTAMP:20260423T141522Z
DTSTART;TZID=Europe/Berlin:20201010T150000
DTEND;TZID=Europe/Berlin:20201010T164500
SUMMARY:K - 2. Klasse C 2020/21: Weitensfeld - Gurk
END:VEVENT
BEGIN:VEVENT
UID:20260423T141522UTC-9641rcu5fa@85.215.121.98
DTSTAMP:20260423T141522Z
DTSTART;TZID=Europe/Berlin:20201017T150000
DTEND;TZID=Europe/Berlin:20201017T164500
SUMMARY:K - 2. Klasse C 2020/21: Gurk - Sörg
END:VEVENT
BEGIN:VEVENT
UID:20260423T141522UTC-9675FpaWAA@85.215.121.98
DTSTAMP:20260423T141522Z
DTSTART;TZID=Europe/Berlin:20201024T140000
DTEND;TZID=Europe/Berlin:20201024T154500
SUMMARY:K - 2. Klasse C 2020/21: St. Urban - Gurk
END:VEVENT
BEGIN:VEVENT
UID:20260423T141522UTC-96843z4ILO@85.215.121.98
DTSTAMP:20260423T141522Z
DTSTART;TZID=Europe/Berlin:20201031T150000
DTEND;TZID=Europe/Berlin:20201031T164500
SUMMARY:K - 2. Klasse C 2020/21: Maria Rain - Gurk
END:VEVENT
BEGIN:VEVENT
UID:20260423T141522UTC-96952eonoU@85.215.121.98
DTSTAMP:20260423T141522Z
DTSTART;TZID=Europe/Berlin:20210321T230000
DTEND;TZID=Europe/Berlin:20210322T004500
SUMMARY:K - 2. Klasse C 2020/21: Wietersdorf - Gurk
END:VEVENT
BEGIN:VEVENT
UID:20260423T141522UTC-9705onviST@85.215.121.98
DTSTAMP:20260423T141522Z
DTSTART;TZID=Europe/Berlin:20210327T140000
DTEND;TZID=Europe/Berlin:20210327T154500
SUMMARY:K - 2. Klasse C 2020/21: Gurk - Kraig 1b
END:VEVENT
BEGIN:VEVENT
UID:20260423T141522UTC-97258Me7Bh@85.215.121.98
DTSTAMP:20260423T141522Z
DTSTART;TZID=Europe/Berlin:20210410T150000
DTEND;TZID=Europe/Berlin:20210410T164500
SUMMARY:K - 2. Klasse C 2020/21: Gurk - Viktring
END:VEVENT
BEGIN:VEVENT
UID:20260423T141522UTC-9734oZpiV0@85.215.121.98
DTSTAMP:20260423T141522Z
DTSTART;TZID=Europe/Berlin:20210417T150000
DTEND;TZID=Europe/Berlin:20210417T164500
SUMMARY:K - 2. Klasse C 2020/21: Gurk - SG KSK-Wörthersee/ATUS Pörtschach
END:VEVENT
BEGIN:VEVENT
UID:20260423T141522UTC-9747iZEIxa@85.215.121.98
DTSTAMP:20260423T141522Z
DTSTART;TZID=Europe/Berlin:20210418T160000
DTEND;TZID=Europe/Berlin:20210418T174500
SUMMARY:K - 2. Klasse C 2020/21: Straßburg - Gurk
END:VEVENT
BEGIN:VEVENT
UID:20260423T141522UTC-9770O4HrUT@85.215.121.98
DTSTAMP:20260423T141522Z
DTSTART;TZID=Europe/Berlin:20210424T150000
DTEND;TZID=Europe/Berlin:20210424T164500
SUMMARY:K - 2. Klasse C 2020/21: Gurk - Techelsberg
END:VEVENT
BEGIN:VEVENT
UID:20260423T141522UTC-9781KR7XB5@85.215.121.98
DTSTAMP:20260423T141522Z
DTSTART;TZID=Europe/Berlin:20210502T170000
DTEND;TZID=Europe/Berlin:20210502T184500
SUMMARY:K - 2. Klasse C 2020/21: Moosburg - Gurk
END:VEVENT
BEGIN:VEVENT
UID:20260423T141522UTC-980827mWMD@85.215.121.98
DTSTAMP:20260423T141522Z
DTSTART;TZID=Europe/Berlin:20210508T150000
DTEND;TZID=Europe/Berlin:20210508T164500
SUMMARY:K - 2. Klasse C 2020/21: Gurk - Feistritz/Ros.
END:VEVENT
BEGIN:VEVENT
UID:20260423T141522UTC-9818Esk3TN@85.215.121.98
DTSTAMP:20260423T141522Z
DTSTART;TZID=Europe/Berlin:20210513T230000
DTEND;TZID=Europe/Berlin:20210514T004500
SUMMARY:K - 2. Klasse C 2020/21: NextGen St. Veit - Gurk
END:VEVENT
BEGIN:VEVENT
UID:20260423T141522UTC-9828SE77c7@85.215.121.98
DTSTAMP:20260423T141522Z
DTSTART;TZID=Europe/Berlin:20210515T150000
DTEND;TZID=Europe/Berlin:20210515T164500
SUMMARY:K - 2. Klasse C 2020/21: Gurk - Weitensfeld
END:VEVENT
BEGIN:VEVENT
UID:20260423T141522UTC-9836XDz7n0@85.215.121.98
DTSTAMP:20260423T141522Z
DTSTART;TZID=Europe/Berlin:20210523T230000
DTEND;TZID=Europe/Berlin:20210524T004500
SUMMARY:K - 2. Klasse C 2020/21: Sörg - Gurk
END:VEVENT
BEGIN:VEVENT
UID:20260423T141522UTC-9860F7U3BC@85.215.121.98
DTSTAMP:20260423T141522Z
DTSTART;TZID=Europe/Berlin:20210529T160000
DTEND;TZID=Europe/Berlin:20210529T174500
SUMMARY:K - 2. Klasse C 2020/21: Gurk - St. Urban
END:VEVENT
BEGIN:VEVENT
UID:20260423T141522UTC-9869haTsV7@85.215.121.98
DTSTAMP:20260423T141522Z
DTSTART;TZID=Europe/Berlin:20210605T160000
DTEND;TZID=Europe/Berlin:20210605T174500
SUMMARY:K - 2. Klasse C 2020/21: Gurk - Maria Rain
END:VEVENT
BEGIN:VEVENT
UID:20260423T141522UTC-9875BXMME0@85.215.121.98
DTSTAMP:20260423T141522Z
DTSTART;TZID=Europe/Berlin:20210612T170000
DTEND;TZID=Europe/Berlin:20210612T184500
SUMMARY:K - 2. Klasse C 2020/21: Himmelberg - Gurk
END:VEVENT
BEGIN:VEVENT
UID:20260423T141522UTC-9884lRUv70@85.215.121.98
DTSTAMP:20260423T141522Z
DTSTART;TZID=Europe/Berlin:20210626T160000
DTEND;TZID=Europe/Berlin:20210626T174500
SUMMARY:K - 2. Klasse C 2020/21: Gurk - Himmelberg
END:VEVENT
END:VCALENDAR
