BEGIN:VCALENDAR
VERSION:2.0
PRODID:-////NONSGML kigkonsult.se iCalcreator 2.18//
X-WR-TIMEZONE:Europe/Amsterdam
BEGIN:VTIMEZONE
TZID:Europe/Amsterdam
X-LIC-LOCATION:Europe/Amsterdam
BEGIN:STANDARD
DTSTART:20061029T030000
TZOFFSETFROM:+0200
TZOFFSETTO:+0100
RDATE:20071028T030000
TZNAME:CET
END:STANDARD
BEGIN:DAYLIGHT
DTSTART:20070325T020000
TZOFFSETFROM:+0100
TZOFFSETTO:+0200
RDATE:20080330T020000
TZNAME:CEST
END:DAYLIGHT
END:VTIMEZONE
BEGIN:VEVENT
UID:20260424T120127UTC-2802hND6uV@85.215.121.98
DTSTAMP:20260424T120127Z
DTSTART;TZID=Europe/Amsterdam:20060729T180000
DTEND;TZID=Europe/Amsterdam:20060729T194500
SUMMARY:K - 1. Klasse D 2006/07: Lavamünd - Bad St. Leonhard
END:VEVENT
BEGIN:VEVENT
UID:20260424T120127UTC-2808cmkUTM@85.215.121.98
DTSTAMP:20260424T120127Z
DTSTART;TZID=Europe/Amsterdam:20060805T180000
DTEND;TZID=Europe/Amsterdam:20060805T194500
SUMMARY:K - 1. Klasse D 2006/07: St. Margareten/Ros. - Lavamünd
END:VEVENT
BEGIN:VEVENT
UID:20260424T120127UTC-28140NPsGm@85.215.121.98
DTSTAMP:20260424T120127Z
DTSTART;TZID=Europe/Amsterdam:20060819T180000
DTEND;TZID=Europe/Amsterdam:20060819T194500
SUMMARY:K - 1. Klasse D 2006/07: St. Margarethen/Lav. - Lavamünd
END:VEVENT
BEGIN:VEVENT
UID:20260424T120127UTC-2820UUwRI7@85.215.121.98
DTSTAMP:20260424T120127Z
DTSTART;TZID=Europe/Amsterdam:20060826T173000
DTEND;TZID=Europe/Amsterdam:20060826T191500
SUMMARY:K - 1. Klasse D 2006/07: Lavamünd - St. Paul
END:VEVENT
BEGIN:VEVENT
UID:20260424T120127UTC-2826kbu6wM@85.215.121.98
DTSTAMP:20260424T120127Z
DTSTART;TZID=Europe/Amsterdam:20060902T170000
DTEND;TZID=Europe/Amsterdam:20060902T184500
SUMMARY:K - 1. Klasse D 2006/07: Mittlern - Lavamünd
END:VEVENT
BEGIN:VEVENT
UID:20260424T120127UTC-2833jDMxJS@85.215.121.98
DTSTAMP:20260424T120127Z
DTSTART;TZID=Europe/Amsterdam:20060908T170000
DTEND;TZID=Europe/Amsterdam:20060908T184500
SUMMARY:K - 1. Klasse D 2006/07: Lavamünd - Globasnitz
END:VEVENT
BEGIN:VEVENT
UID:20260424T120127UTC-2839NUt2NI@85.215.121.98
DTSTAMP:20260424T120127Z
DTSTART;TZID=Europe/Amsterdam:20060910T160000
DTEND;TZID=Europe/Amsterdam:20060910T174500
SUMMARY:K - 1. Klasse D 2006/07: Lavamünd - Donau
END:VEVENT
BEGIN:VEVENT
UID:20260424T120127UTC-2845PAzV9m@85.215.121.98
DTSTAMP:20260424T120127Z
DTSTART;TZID=Europe/Amsterdam:20060916T163000
DTEND;TZID=Europe/Amsterdam:20060916T181500
SUMMARY:K - 1. Klasse D 2006/07: Frantschach - Lavamünd
END:VEVENT
BEGIN:VEVENT
UID:20260424T120127UTC-2851mC1O9V@85.215.121.98
DTSTAMP:20260424T120127Z
DTSTART;TZID=Europe/Amsterdam:20060923T160000
DTEND;TZID=Europe/Amsterdam:20060923T174500
SUMMARY:K - 1. Klasse D 2006/07: Lavamünd - Kühnsdorf
END:VEVENT
BEGIN:VEVENT
UID:20260424T120127UTC-2856BJN0Fi@85.215.121.98
DTSTAMP:20260424T120127Z
DTSTART;TZID=Europe/Amsterdam:20061001T160000
DTEND;TZID=Europe/Amsterdam:20061001T174500
SUMMARY:K - 1. Klasse D 2006/07: Ferlach DSG - Lavamünd
END:VEVENT
BEGIN:VEVENT
UID:20260424T120127UTC-28643vmVHn@85.215.121.98
DTSTAMP:20260424T120127Z
DTSTART;TZID=Europe/Amsterdam:20061007T160000
DTEND;TZID=Europe/Amsterdam:20061007T174500
SUMMARY:K - 1. Klasse D 2006/07: Lavamünd - Annabichler SV
END:VEVENT
BEGIN:VEVENT
UID:20260424T120127UTC-28737VFZnr@85.215.121.98
DTSTAMP:20260424T120127Z
DTSTART;TZID=Europe/Amsterdam:20061014T160000
DTEND;TZID=Europe/Amsterdam:20061014T174500
SUMMARY:K - 1. Klasse D 2006/07: Lavamünd - Maria Rojach
END:VEVENT
BEGIN:VEVENT
UID:20260424T120127UTC-2879dwEOvj@85.215.121.98
DTSTAMP:20260424T120127Z
DTSTART;TZID=Europe/Amsterdam:20061022T153000
DTEND;TZID=Europe/Amsterdam:20061022T171500
SUMMARY:K - 1. Klasse D 2006/07: Rückersdorf - Lavamünd
END:VEVENT
BEGIN:VEVENT
UID:20260424T120127UTC-2886IRHt3v@85.215.121.98
DTSTAMP:20260424T120127Z
DTSTART;TZID=Europe/Amsterdam:20061028T150000
DTEND;TZID=Europe/Amsterdam:20061028T164500
SUMMARY:K - 1. Klasse D 2006/07: Bad St. Leonhard - Lavamünd
END:VEVENT
BEGIN:VEVENT
UID:20260424T120127UTC-2891ugmsGu@85.215.121.98
DTSTAMP:20260424T120127Z
DTSTART;TZID=Europe/Amsterdam:20061104T150000
DTEND;TZID=Europe/Amsterdam:20061104T164500
SUMMARY:K - 1. Klasse D 2006/07: Lavamünd - St. Margareten/Ros.
END:VEVENT
BEGIN:VEVENT
UID:20260424T120127UTC-2899AbvN0h@85.215.121.98
DTSTAMP:20260424T120127Z
DTSTART;TZID=Europe/Amsterdam:20070401T160000
DTEND;TZID=Europe/Amsterdam:20070401T174500
SUMMARY:K - 1. Klasse D 2006/07: Globasnitz - Lavamünd
END:VEVENT
BEGIN:VEVENT
UID:20260424T120127UTC-29052h0vLn@85.215.121.98
DTSTAMP:20260424T120127Z
DTSTART;TZID=Europe/Amsterdam:20070407T160000
DTEND;TZID=Europe/Amsterdam:20070407T174500
SUMMARY:K - 1. Klasse D 2006/07: Lavamünd - St. Margarethen/Lav.
END:VEVENT
BEGIN:VEVENT
UID:20260424T120127UTC-2911pmhdla@85.215.121.98
DTSTAMP:20260424T120127Z
DTSTART;TZID=Europe/Amsterdam:20070414T160000
DTEND;TZID=Europe/Amsterdam:20070414T174500
SUMMARY:K - 1. Klasse D 2006/07: St. Paul - Lavamünd
END:VEVENT
BEGIN:VEVENT
UID:20260424T120127UTC-2919Cnv4Bu@85.215.121.98
DTSTAMP:20260424T120127Z
DTSTART;TZID=Europe/Amsterdam:20070421T163000
DTEND;TZID=Europe/Amsterdam:20070421T181500
SUMMARY:K - 1. Klasse D 2006/07: Lavamünd - Mittlern
END:VEVENT
BEGIN:VEVENT
UID:20260424T120127UTC-2924IuDCa2@85.215.121.98
DTSTAMP:20260424T120127Z
DTSTART;TZID=Europe/Amsterdam:20070429T103000
DTEND;TZID=Europe/Amsterdam:20070429T121500
SUMMARY:K - 1. Klasse D 2006/07: Donau - Lavamünd
END:VEVENT
BEGIN:VEVENT
UID:20260424T120127UTC-2931T2W6jz@85.215.121.98
DTSTAMP:20260424T120127Z
DTSTART;TZID=Europe/Amsterdam:20070505T170000
DTEND;TZID=Europe/Amsterdam:20070505T184500
SUMMARY:K - 1. Klasse D 2006/07: Lavamünd - Frantschach
END:VEVENT
BEGIN:VEVENT
UID:20260424T120127UTC-29373K6vAR@85.215.121.98
DTSTAMP:20260424T120127Z
DTSTART;TZID=Europe/Amsterdam:20070512T163000
DTEND;TZID=Europe/Amsterdam:20070512T181500
SUMMARY:K - 1. Klasse D 2006/07: Kühnsdorf - Lavamünd
END:VEVENT
BEGIN:VEVENT
UID:20260424T120127UTC-29437TdmeO@85.215.121.98
DTSTAMP:20260424T120127Z
DTSTART;TZID=Europe/Amsterdam:20070517T170000
DTEND;TZID=Europe/Amsterdam:20070517T184500
SUMMARY:K - 1. Klasse D 2006/07: Lavamünd - Ferlach DSG
END:VEVENT
BEGIN:VEVENT
UID:20260424T120127UTC-2949jZtxuP@85.215.121.98
DTSTAMP:20260424T120127Z
DTSTART;TZID=Europe/Amsterdam:20070520T170000
DTEND;TZID=Europe/Amsterdam:20070520T184500
SUMMARY:K - 1. Klasse D 2006/07: Annabichler SV - Lavamünd
END:VEVENT
BEGIN:VEVENT
UID:20260424T120127UTC-29546Jmi3g@85.215.121.98
DTSTAMP:20260424T120127Z
DTSTART;TZID=Europe/Amsterdam:20070603T163000
DTEND;TZID=Europe/Amsterdam:20070603T181500
SUMMARY:K - 1. Klasse D 2006/07: Maria Rojach - Lavamünd
END:VEVENT
BEGIN:VEVENT
UID:20260424T120127UTC-2960SSvVTT@85.215.121.98
DTSTAMP:20260424T120127Z
DTSTART;TZID=Europe/Amsterdam:20070609T173000
DTEND;TZID=Europe/Amsterdam:20070609T191500
SUMMARY:K - 1. Klasse D 2006/07: Lavamünd - Rückersdorf
END:VEVENT
END:VCALENDAR
