BEGIN:VCALENDAR
VERSION:2.0
PRODID:-////NONSGML kigkonsult.se iCalcreator 2.18//
X-WR-TIMEZONE:Europe/Amsterdam
BEGIN:VTIMEZONE
TZID:Europe/Amsterdam
X-LIC-LOCATION:Europe/Amsterdam
BEGIN:STANDARD
DTSTART:20061029T030000
TZOFFSETFROM:+0200
TZOFFSETTO:+0100
RDATE:20071028T030000
TZNAME:CET
END:STANDARD
BEGIN:DAYLIGHT
DTSTART:20070325T020000
TZOFFSETFROM:+0100
TZOFFSETTO:+0200
RDATE:20080330T020000
TZNAME:CEST
END:DAYLIGHT
END:VTIMEZONE
BEGIN:VEVENT
UID:20260421T204616UTC-2475VLn6um@85.215.121.98
DTSTAMP:20260421T204616Z
DTSTART;TZID=Europe/Amsterdam:20060730T180000
DTEND;TZID=Europe/Amsterdam:20060730T194500
SUMMARY:K - 1. Klasse D 2006/07: Mittlern - Annabichler SV
END:VEVENT
BEGIN:VEVENT
UID:20260421T204616UTC-2482RlG1Vg@85.215.121.98
DTSTAMP:20260421T204616Z
DTSTART;TZID=Europe/Amsterdam:20060806T173000
DTEND;TZID=Europe/Amsterdam:20060806T191500
SUMMARY:K - 1. Klasse D 2006/07: Mittlern - Donau
END:VEVENT
BEGIN:VEVENT
UID:20260421T204616UTC-2488zkiBS6@85.215.121.98
DTSTAMP:20260421T204616Z
DTSTART;TZID=Europe/Amsterdam:20060812T173000
DTEND;TZID=Europe/Amsterdam:20060812T191500
SUMMARY:K - 1. Klasse D 2006/07: Frantschach - Mittlern
END:VEVENT
BEGIN:VEVENT
UID:20260421T204616UTC-2494v2os0P@85.215.121.98
DTSTAMP:20260421T204616Z
DTSTART;TZID=Europe/Amsterdam:20060820T173000
DTEND;TZID=Europe/Amsterdam:20060820T191500
SUMMARY:K - 1. Klasse D 2006/07: Mittlern - Kühnsdorf
END:VEVENT
BEGIN:VEVENT
UID:20260421T204616UTC-2502OEwAUx@85.215.121.98
DTSTAMP:20260421T204616Z
DTSTART;TZID=Europe/Amsterdam:20060826T170000
DTEND;TZID=Europe/Amsterdam:20060826T184500
SUMMARY:K - 1. Klasse D 2006/07: Ferlach DSG - Mittlern
END:VEVENT
BEGIN:VEVENT
UID:20260421T204616UTC-2507wVm91c@85.215.121.98
DTSTAMP:20260421T204616Z
DTSTART;TZID=Europe/Amsterdam:20060902T170000
DTEND;TZID=Europe/Amsterdam:20060902T184500
SUMMARY:K - 1. Klasse D 2006/07: Mittlern - Lavamünd
END:VEVENT
BEGIN:VEVENT
UID:20260421T204616UTC-2515ugtvSp@85.215.121.98
DTSTAMP:20260421T204616Z
DTSTART;TZID=Europe/Amsterdam:20060909T170000
DTEND;TZID=Europe/Amsterdam:20060909T184500
SUMMARY:K - 1. Klasse D 2006/07: Maria Rojach - Mittlern
END:VEVENT
BEGIN:VEVENT
UID:20260421T204616UTC-25235nAvfe@85.215.121.98
DTSTAMP:20260421T204616Z
DTSTART;TZID=Europe/Amsterdam:20060917T160000
DTEND;TZID=Europe/Amsterdam:20060917T174500
SUMMARY:K - 1. Klasse D 2006/07: Mittlern - Rückersdorf
END:VEVENT
BEGIN:VEVENT
UID:20260421T204616UTC-2528GznBCh@85.215.121.98
DTSTAMP:20260421T204616Z
DTSTART;TZID=Europe/Amsterdam:20060923T163000
DTEND;TZID=Europe/Amsterdam:20060923T181500
SUMMARY:K - 1. Klasse D 2006/07: Bad St. Leonhard - Mittlern
END:VEVENT
BEGIN:VEVENT
UID:20260421T204616UTC-2536dZx1jt@85.215.121.98
DTSTAMP:20260421T204616Z
DTSTART;TZID=Europe/Amsterdam:20061001T150000
DTEND;TZID=Europe/Amsterdam:20061001T164500
SUMMARY:K - 1. Klasse D 2006/07: Mittlern - St. Margareten/Ros.
END:VEVENT
BEGIN:VEVENT
UID:20260421T204616UTC-2541waf1dD@85.215.121.98
DTSTAMP:20260421T204616Z
DTSTART;TZID=Europe/Amsterdam:20061008T160000
DTEND;TZID=Europe/Amsterdam:20061008T174500
SUMMARY:K - 1. Klasse D 2006/07: Globasnitz - Mittlern
END:VEVENT
BEGIN:VEVENT
UID:20260421T204616UTC-2548RzvB4p@85.215.121.98
DTSTAMP:20260421T204616Z
DTSTART;TZID=Europe/Amsterdam:20061015T150000
DTEND;TZID=Europe/Amsterdam:20061015T164500
SUMMARY:K - 1. Klasse D 2006/07: Mittlern - St. Margarethen/Lav.
END:VEVENT
BEGIN:VEVENT
UID:20260421T204616UTC-2554uBgk3u@85.215.121.98
DTSTAMP:20260421T204616Z
DTSTART;TZID=Europe/Amsterdam:20061022T150000
DTEND;TZID=Europe/Amsterdam:20061022T164500
SUMMARY:K - 1. Klasse D 2006/07: St. Paul - Mittlern
END:VEVENT
BEGIN:VEVENT
UID:20260421T204616UTC-2562J4Dvc8@85.215.121.98
DTSTAMP:20260421T204616Z
DTSTART;TZID=Europe/Amsterdam:20061029T103000
DTEND;TZID=Europe/Amsterdam:20061029T121500
SUMMARY:K - 1. Klasse D 2006/07: Annabichler SV - Mittlern
END:VEVENT
BEGIN:VEVENT
UID:20260421T204616UTC-2568oiWjlC@85.215.121.98
DTSTAMP:20260421T204616Z
DTSTART;TZID=Europe/Amsterdam:20061105T103000
DTEND;TZID=Europe/Amsterdam:20061105T121500
SUMMARY:K - 1. Klasse D 2006/07: Donau - Mittlern
END:VEVENT
BEGIN:VEVENT
UID:20260421T204616UTC-2574Cjh44e@85.215.121.98
DTSTAMP:20260421T204616Z
DTSTART;TZID=Europe/Amsterdam:20070401T160000
DTEND;TZID=Europe/Amsterdam:20070401T174500
SUMMARY:K - 1. Klasse D 2006/07: Mittlern - Frantschach
END:VEVENT
BEGIN:VEVENT
UID:20260421T204616UTC-257965MFet@85.215.121.98
DTSTAMP:20260421T204616Z
DTSTART;TZID=Europe/Amsterdam:20070407T160000
DTEND;TZID=Europe/Amsterdam:20070407T174500
SUMMARY:K - 1. Klasse D 2006/07: Kühnsdorf - Mittlern
END:VEVENT
BEGIN:VEVENT
UID:20260421T204616UTC-2585GvcdcP@85.215.121.98
DTSTAMP:20260421T204616Z
DTSTART;TZID=Europe/Amsterdam:20070415T170000
DTEND;TZID=Europe/Amsterdam:20070415T184500
SUMMARY:K - 1. Klasse D 2006/07: Mittlern - Ferlach DSG
END:VEVENT
BEGIN:VEVENT
UID:20260421T204616UTC-2592kBz1zO@85.215.121.98
DTSTAMP:20260421T204616Z
DTSTART;TZID=Europe/Amsterdam:20070421T163000
DTEND;TZID=Europe/Amsterdam:20070421T181500
SUMMARY:K - 1. Klasse D 2006/07: Lavamünd - Mittlern
END:VEVENT
BEGIN:VEVENT
UID:20260421T204616UTC-2598BZVHKT@85.215.121.98
DTSTAMP:20260421T204616Z
DTSTART;TZID=Europe/Amsterdam:20070429T170000
DTEND;TZID=Europe/Amsterdam:20070429T184500
SUMMARY:K - 1. Klasse D 2006/07: Mittlern - Maria Rojach
END:VEVENT
BEGIN:VEVENT
UID:20260421T204616UTC-2605gsPUCG@85.215.121.98
DTSTAMP:20260421T204616Z
DTSTART;TZID=Europe/Amsterdam:20070506T143000
DTEND;TZID=Europe/Amsterdam:20070506T161500
SUMMARY:K - 1. Klasse D 2006/07: Rückersdorf - Mittlern
END:VEVENT
BEGIN:VEVENT
UID:20260421T204616UTC-2611avVUIV@85.215.121.98
DTSTAMP:20260421T204616Z
DTSTART;TZID=Europe/Amsterdam:20070513T170000
DTEND;TZID=Europe/Amsterdam:20070513T184500
SUMMARY:K - 1. Klasse D 2006/07: Mittlern - Bad St. Leonhard
END:VEVENT
BEGIN:VEVENT
UID:20260421T204616UTC-2618d7VjJR@85.215.121.98
DTSTAMP:20260421T204616Z
DTSTART;TZID=Europe/Amsterdam:20070517T173000
DTEND;TZID=Europe/Amsterdam:20070517T191500
SUMMARY:K - 1. Klasse D 2006/07: St. Margareten/Ros. - Mittlern
END:VEVENT
BEGIN:VEVENT
UID:20260421T204616UTC-2623o1wf0Z@85.215.121.98
DTSTAMP:20260421T204616Z
DTSTART;TZID=Europe/Amsterdam:20070520T170000
DTEND;TZID=Europe/Amsterdam:20070520T184500
SUMMARY:K - 1. Klasse D 2006/07: Mittlern - Globasnitz
END:VEVENT
BEGIN:VEVENT
UID:20260421T204616UTC-2629RTeixk@85.215.121.98
DTSTAMP:20260421T204616Z
DTSTART;TZID=Europe/Amsterdam:20070602T170000
DTEND;TZID=Europe/Amsterdam:20070602T184500
SUMMARY:K - 1. Klasse D 2006/07: St. Margarethen/Lav. - Mittlern
END:VEVENT
BEGIN:VEVENT
UID:20260421T204616UTC-2635SXEEjJ@85.215.121.98
DTSTAMP:20260421T204616Z
DTSTART;TZID=Europe/Amsterdam:20070610T170000
DTEND;TZID=Europe/Amsterdam:20070610T184500
SUMMARY:K - 1. Klasse D 2006/07: Mittlern - St. Paul
END:VEVENT
END:VCALENDAR
