BEGIN:VCALENDAR
VERSION:2.0
PRODID:-////NONSGML kigkonsult.se iCalcreator 2.18//
X-WR-TIMEZONE:Europe/Berlin
BEGIN:VTIMEZONE
TZID:Europe/Berlin
X-LIC-LOCATION:Europe/Berlin
BEGIN:STANDARD
DTSTART:20201025T030000
TZOFFSETFROM:+0200
TZOFFSETTO:+0100
TZNAME:CET
END:STANDARD
BEGIN:DAYLIGHT
DTSTART:20210328T020000
TZOFFSETFROM:+0100
TZOFFSETTO:+0200
TZNAME:CEST
END:DAYLIGHT
END:VTIMEZONE
BEGIN:VEVENT
UID:20260422T024904UTC-2484cA9hw7@85.215.121.98
DTSTAMP:20260422T024904Z
DTSTART;TZID=Europe/Berlin:20200828T190000
DTEND;TZID=Europe/Berlin:20200828T204500
SUMMARY:ÖFB Cup 2020/21: Treibach - SV Horn
END:VEVENT
BEGIN:VEVENT
UID:20260422T024904UTC-249067PonL@85.215.121.98
DTSTAMP:20260422T024904Z
DTSTART;TZID=Europe/Berlin:20201016T193000
DTEND;TZID=Europe/Berlin:20201016T211500
SUMMARY:ÖFB Cup 2020/21: SV Horn - ASK Elektra
END:VEVENT
END:VCALENDAR
