BEGIN:VCALENDAR
VERSION:2.0
PRODID:-////NONSGML kigkonsult.se iCalcreator 2.18//
X-WR-TIMEZONE:Europe/Berlin
BEGIN:VTIMEZONE
TZID:Europe/Berlin
X-LIC-LOCATION:Europe/Berlin
BEGIN:STANDARD
DTSTART:20201025T030000
TZOFFSETFROM:+0200
TZOFFSETTO:+0100
TZNAME:CET
END:STANDARD
BEGIN:DAYLIGHT
DTSTART:20210328T020000
TZOFFSETFROM:+0100
TZOFFSETTO:+0200
TZNAME:CEST
END:DAYLIGHT
END:VTIMEZONE
BEGIN:VEVENT
UID:20260426T024154UTC-7369dPrerd@85.215.121.98
DTSTAMP:20260426T024154Z
DTSTART;TZID=Europe/Berlin:20200829T180000
DTEND;TZID=Europe/Berlin:20200829T194500
SUMMARY:ÖFB Cup 2020/21: WSG  Tirol - St. Anna/A.
END:VEVENT
BEGIN:VEVENT
UID:20260426T024154UTC-7506TGHl8W@85.215.121.98
DTSTAMP:20260426T024154Z
DTSTART;TZID=Europe/Berlin:20201016T183000
DTEND;TZID=Europe/Berlin:20201016T201500
SUMMARY:ÖFB Cup 2020/21: WSG  Tirol - Floridsdorfer AC
END:VEVENT
END:VCALENDAR
