BEGIN:VCALENDAR
VERSION:2.0
PRODID:-////NONSGML kigkonsult.se iCalcreator 2.18//
X-WR-TIMEZONE:Europe/Berlin
BEGIN:VTIMEZONE
TZID:Europe/Berlin
X-LIC-LOCATION:Europe/Berlin
BEGIN:STANDARD
DTSTART:20201025T030000
TZOFFSETFROM:+0200
TZOFFSETTO:+0100
RDATE:20211031T030000
TZNAME:CET
END:STANDARD
BEGIN:DAYLIGHT
DTSTART:20210328T020000
TZOFFSETFROM:+0100
TZOFFSETTO:+0200
RDATE:20220327T020000
TZNAME:CEST
END:DAYLIGHT
END:VTIMEZONE
BEGIN:VEVENT
UID:20260423T022605UTC-7030Zdo86U@85.215.121.98
DTSTAMP:20260423T022605Z
DTSTART;TZID=Europe/Berlin:20200801T180000
DTEND;TZID=Europe/Berlin:20200801T194500
SUMMARY:K - 2. Klasse B 2020/21: Bad Bleiberg - Afritz
END:VEVENT
BEGIN:VEVENT
UID:20260423T022605UTC-70401zCDdC@85.215.121.98
DTSTAMP:20260423T022605Z
DTSTART;TZID=Europe/Berlin:20200808T180000
DTEND;TZID=Europe/Berlin:20200808T194500
SUMMARY:K - 2. Klasse B 2020/21: Afritz - Bodensdorf
END:VEVENT
BEGIN:VEVENT
UID:20260423T022605UTC-704996koGz@85.215.121.98
DTSTAMP:20260423T022605Z
DTSTART;TZID=Europe/Berlin:20200815T170000
DTEND;TZID=Europe/Berlin:20200815T184500
SUMMARY:K - 2. Klasse B 2020/21: Arriach - Afritz
END:VEVENT
BEGIN:VEVENT
UID:20260423T022605UTC-7055CBvhaK@85.215.121.98
DTSTAMP:20260423T022605Z
DTSTART;TZID=Europe/Berlin:20200822T170000
DTEND;TZID=Europe/Berlin:20200822T184500
SUMMARY:K - 2. Klasse B 2020/21: Afritz - Draschitz
END:VEVENT
BEGIN:VEVENT
UID:20260423T022605UTC-7063agc66X@85.215.121.98
DTSTAMP:20260423T022605Z
DTSTART;TZID=Europe/Berlin:20200829T170000
DTEND;TZID=Europe/Berlin:20200829T184500
SUMMARY:K - 2. Klasse B 2020/21: Obermillstatt - Afritz
END:VEVENT
BEGIN:VEVENT
UID:20260423T022605UTC-7070OFjePa@85.215.121.98
DTSTAMP:20260423T022605Z
DTSTART;TZID=Europe/Berlin:20200905T170000
DTEND;TZID=Europe/Berlin:20200905T184500
SUMMARY:K - 2. Klasse B 2020/21: Afritz - Admira Villach 1b
END:VEVENT
BEGIN:VEVENT
UID:20260423T022605UTC-7077LpbrRC@85.215.121.98
DTSTAMP:20260423T022605Z
DTSTART;TZID=Europe/Berlin:20200913T103000
DTEND;TZID=Europe/Berlin:20200913T121500
SUMMARY:K - 2. Klasse B 2020/21: Treffen - Afritz
END:VEVENT
BEGIN:VEVENT
UID:20260423T022605UTC-70832jvbzc@85.215.121.98
DTSTAMP:20260423T022605Z
DTSTART;TZID=Europe/Berlin:20200919T160000
DTEND;TZID=Europe/Berlin:20200919T174500
SUMMARY:K - 2. Klasse B 2020/21: Afritz - Rosegg
END:VEVENT
BEGIN:VEVENT
UID:20260423T022605UTC-7089OwkohU@85.215.121.98
DTSTAMP:20260423T022605Z
DTSTART;TZID=Europe/Berlin:20200926T160000
DTEND;TZID=Europe/Berlin:20200926T174500
SUMMARY:K - 2. Klasse B 2020/21: Ferndorf - Afritz
END:VEVENT
BEGIN:VEVENT
UID:20260423T022605UTC-7096H4bmHo@85.215.121.98
DTSTAMP:20260423T022605Z
DTSTART;TZID=Europe/Berlin:20201003T150000
DTEND;TZID=Europe/Berlin:20201003T164500
SUMMARY:K - 2. Klasse B 2020/21: Afritz - Töplitsch
END:VEVENT
BEGIN:VEVENT
UID:20260423T022605UTC-7103J4Gu7Z@85.215.121.98
DTSTAMP:20260423T022605Z
DTSTART;TZID=Europe/Berlin:20201017T150000
DTEND;TZID=Europe/Berlin:20201017T164500
SUMMARY:K - 2. Klasse B 2020/21: Afritz - Weißenstein
END:VEVENT
BEGIN:VEVENT
UID:20260423T022605UTC-7110kXVO19@85.215.121.98
DTSTAMP:20260423T022605Z
DTSTART;TZID=Europe/Berlin:20201024T160000
DTEND;TZID=Europe/Berlin:20201024T174500
SUMMARY:K - 2. Klasse B 2020/21: Kleinkirchheim - Afritz
END:VEVENT
BEGIN:VEVENT
UID:20260423T022605UTC-7116Btn5Ri@85.215.121.98
DTSTAMP:20260423T022605Z
DTSTART;TZID=Europe/Berlin:20201026T103000
DTEND;TZID=Europe/Berlin:20201026T121500
SUMMARY:K - 2. Klasse B 2020/21: Arnoldstein - Afritz
END:VEVENT
BEGIN:VEVENT
UID:20260423T022605UTC-7123S6ShiU@85.215.121.98
DTSTAMP:20260423T022605Z
DTSTART;TZID=Europe/Berlin:20201031T140000
DTEND;TZID=Europe/Berlin:20201031T154500
SUMMARY:K - 2. Klasse B 2020/21: Afritz - Landskron 1b
END:VEVENT
BEGIN:VEVENT
UID:20260423T022605UTC-7128oWXH4U@85.215.121.98
DTSTAMP:20260423T022605Z
DTSTART;TZID=Europe/Berlin:20210320T143000
DTEND;TZID=Europe/Berlin:20210320T161500
SUMMARY:K - 2. Klasse B 2020/21: Bodensdorf - Afritz
END:VEVENT
BEGIN:VEVENT
UID:20260423T022605UTC-7137VfUcG2@85.215.121.98
DTSTAMP:20260423T022605Z
DTSTART;TZID=Europe/Berlin:20210327T140000
DTEND;TZID=Europe/Berlin:20210327T154500
SUMMARY:K - 2. Klasse B 2020/21: Afritz - Arriach
END:VEVENT
BEGIN:VEVENT
UID:20260423T022605UTC-7143CKUHVl@85.215.121.98
DTSTAMP:20260423T022605Z
DTSTART;TZID=Europe/Berlin:20210404T230000
DTEND;TZID=Europe/Berlin:20210405T004500
SUMMARY:K - 2. Klasse B 2020/21: Draschitz - Afritz
END:VEVENT
BEGIN:VEVENT
UID:20260423T022605UTC-7149DhfEEr@85.215.121.98
DTSTAMP:20260423T022605Z
DTSTART;TZID=Europe/Berlin:20210410T150000
DTEND;TZID=Europe/Berlin:20210410T164500
SUMMARY:K - 2. Klasse B 2020/21: Afritz - Obermillstatt
END:VEVENT
BEGIN:VEVENT
UID:20260423T022605UTC-7155lgegvI@85.215.121.98
DTSTAMP:20260423T022605Z
DTSTART;TZID=Europe/Berlin:20210416T173000
DTEND;TZID=Europe/Berlin:20210416T191500
SUMMARY:K - 2. Klasse B 2020/21: Afritz - Bad Bleiberg
END:VEVENT
BEGIN:VEVENT
UID:20260423T022605UTC-7164MZa45r@85.215.121.98
DTSTAMP:20260423T022605Z
DTSTART;TZID=Europe/Berlin:20210418T230000
DTEND;TZID=Europe/Berlin:20210419T004500
SUMMARY:K - 2. Klasse B 2020/21: Admira Villach 1b - Afritz
END:VEVENT
BEGIN:VEVENT
UID:20260423T022605UTC-7172vXWSR6@85.215.121.98
DTSTAMP:20260423T022605Z
DTSTART;TZID=Europe/Berlin:20210424T163000
DTEND;TZID=Europe/Berlin:20210424T181500
SUMMARY:K - 2. Klasse B 2020/21: Afritz - Treffen
END:VEVENT
BEGIN:VEVENT
UID:20260423T022605UTC-7180pgCFR9@85.215.121.98
DTSTAMP:20260423T022605Z
DTSTART;TZID=Europe/Berlin:20210501T170000
DTEND;TZID=Europe/Berlin:20210501T184500
SUMMARY:K - 2. Klasse B 2020/21: Rosegg - Afritz
END:VEVENT
BEGIN:VEVENT
UID:20260423T022605UTC-7186ep9KHr@85.215.121.98
DTSTAMP:20260423T022605Z
DTSTART;TZID=Europe/Berlin:20210508T170000
DTEND;TZID=Europe/Berlin:20210508T184500
SUMMARY:K - 2. Klasse B 2020/21: Afritz - Ferndorf
END:VEVENT
BEGIN:VEVENT
UID:20260423T022605UTC-7191PuvKKv@85.215.121.98
DTSTAMP:20260423T022605Z
DTSTART;TZID=Europe/Berlin:20210513T230000
DTEND;TZID=Europe/Berlin:20210514T004500
SUMMARY:K - 2. Klasse B 2020/21: Töplitsch - Afritz
END:VEVENT
BEGIN:VEVENT
UID:20260423T022605UTC-7196UOg6b1@85.215.121.98
DTSTAMP:20260423T022605Z
DTSTART;TZID=Europe/Berlin:20210515T170000
DTEND;TZID=Europe/Berlin:20210515T184500
SUMMARY:K - 2. Klasse B 2020/21: Afritz - Arnoldstein
END:VEVENT
BEGIN:VEVENT
UID:20260423T022605UTC-7203DKZJUI@85.215.121.98
DTSTAMP:20260423T022605Z
DTSTART;TZID=Europe/Berlin:20210523T230000
DTEND;TZID=Europe/Berlin:20210524T004500
SUMMARY:K - 2. Klasse B 2020/21: Weißenstein - Afritz
END:VEVENT
BEGIN:VEVENT
UID:20260423T022605UTC-7208nnB39F@85.215.121.98
DTSTAMP:20260423T022605Z
DTSTART;TZID=Europe/Berlin:20210529T170000
DTEND;TZID=Europe/Berlin:20210529T184500
SUMMARY:K - 2. Klasse B 2020/21: Afritz - Kleinkirchheim
END:VEVENT
BEGIN:VEVENT
UID:20260423T022605UTC-7214R3K5VW@85.215.121.98
DTSTAMP:20260423T022605Z
DTSTART;TZID=Europe/Berlin:20210606T230000
DTEND;TZID=Europe/Berlin:20210607T004500
SUMMARY:K - 2. Klasse B 2020/21: Landskron 1b - Afritz
END:VEVENT
BEGIN:VEVENT
UID:20260423T022605UTC-7220FWIuwO@85.215.121.98
DTSTAMP:20260423T022605Z
DTSTART;TZID=Europe/Berlin:20210612T180000
DTEND;TZID=Europe/Berlin:20210612T194500
SUMMARY:K - 2. Klasse B 2020/21: Afritz - SG SV St. Jakob/Ros/DSG Ledenitze
 n 1b
END:VEVENT
BEGIN:VEVENT
UID:20260423T022605UTC-72259v327u@85.215.121.98
DTSTAMP:20260423T022605Z
DTSTART;TZID=Europe/Berlin:20210626T180000
DTEND;TZID=Europe/Berlin:20210626T194500
SUMMARY:K - 2. Klasse B 2020/21: SG SV St. Jakob/Ros/DSG Ledenitzen 1b - Af
 ritz
END:VEVENT
END:VCALENDAR
