BEGIN:VCALENDAR
VERSION:2.0
PRODID:-////NONSGML kigkonsult.se iCalcreator 2.18//
X-WR-TIMEZONE:Europe/Berlin
BEGIN:VTIMEZONE
TZID:Europe/Berlin
X-LIC-LOCATION:Europe/Berlin
BEGIN:STANDARD
DTSTART:20191027T030000
TZOFFSETFROM:+0200
TZOFFSETTO:+0100
RDATE:20201025T030000
TZNAME:CET
END:STANDARD
BEGIN:DAYLIGHT
DTSTART:20200329T020000
TZOFFSETFROM:+0100
TZOFFSETTO:+0200
RDATE:20210328T020000
TZNAME:CEST
END:DAYLIGHT
END:VTIMEZONE
BEGIN:VEVENT
UID:20260421T205419UTC-5240sH9JDZ@85.215.121.98
DTSTAMP:20260421T205419Z
DTSTART;TZID=Europe/Berlin:20190728T180000
DTEND;TZID=Europe/Berlin:20190728T194500
SUMMARY:K - 1. Klasse B 2019/20: Faakersee - Feffernitz
END:VEVENT
BEGIN:VEVENT
UID:20260421T205419UTC-5248cXPjus@85.215.121.98
DTSTAMP:20260421T205419Z
DTSTART;TZID=Europe/Berlin:20190803T160000
DTEND;TZID=Europe/Berlin:20190803T174500
SUMMARY:K - 1. Klasse B 2019/20: Gmünd 1b - Feffernitz
END:VEVENT
BEGIN:VEVENT
UID:20260421T205419UTC-5254veUsU8@85.215.121.98
DTSTAMP:20260421T205419Z
DTSTART;TZID=Europe/Berlin:20190811T170000
DTEND;TZID=Europe/Berlin:20190811T184500
SUMMARY:K - 1. Klasse B 2019/20: Feffernitz - SV Wernberg
END:VEVENT
BEGIN:VEVENT
UID:20260421T205419UTC-5260len2wE@85.215.121.98
DTSTAMP:20260421T205419Z
DTSTART;TZID=Europe/Berlin:20190818T170000
DTEND;TZID=Europe/Berlin:20190818T184500
SUMMARY:K - 1. Klasse B 2019/20: Atus Velden - Feffernitz
END:VEVENT
BEGIN:VEVENT
UID:20260421T205419UTC-52661zD4Ou@85.215.121.98
DTSTAMP:20260421T205419Z
DTSTART;TZID=Europe/Berlin:20190825T170000
DTEND;TZID=Europe/Berlin:20190825T184500
SUMMARY:K - 1. Klasse B 2019/20: Feffernitz - SG ASKÖ Schiefling/ASKÖ St. E
 gyden
END:VEVENT
BEGIN:VEVENT
UID:20260421T205419UTC-5274D0VF67@85.215.121.98
DTSTAMP:20260421T205419Z
DTSTART;TZID=Europe/Berlin:20190901T103000
DTEND;TZID=Europe/Berlin:20190901T121500
SUMMARY:K - 1. Klasse B 2019/20: Rothenthurn - Feffernitz
END:VEVENT
BEGIN:VEVENT
UID:20260421T205419UTC-5281XzZewF@85.215.121.98
DTSTAMP:20260421T205419Z
DTSTART;TZID=Europe/Berlin:20190914T163000
DTEND;TZID=Europe/Berlin:20190914T181500
SUMMARY:K - 1. Klasse B 2019/20: Bodensdorf - Feffernitz
END:VEVENT
BEGIN:VEVENT
UID:20260421T205419UTC-52878J4M9f@85.215.121.98
DTSTAMP:20260421T205419Z
DTSTART;TZID=Europe/Berlin:20190920T163000
DTEND;TZID=Europe/Berlin:20190920T181500
SUMMARY:K - 1. Klasse B 2019/20: Feffernitz - VSV
END:VEVENT
BEGIN:VEVENT
UID:20260421T205419UTC-5293Kl4H9A@85.215.121.98
DTSTAMP:20260421T205419Z
DTSTART;TZID=Europe/Berlin:20190922T160000
DTEND;TZID=Europe/Berlin:20190922T174500
SUMMARY:K - 1. Klasse B 2019/20: Feffernitz - Magdalen
END:VEVENT
BEGIN:VEVENT
UID:20260421T205419UTC-5298M3Rdgt@85.215.121.98
DTSTAMP:20260421T205419Z
DTSTART;TZID=Europe/Berlin:20190929T103000
DTEND;TZID=Europe/Berlin:20190929T121500
SUMMARY:K - 1. Klasse B 2019/20: Maria Gail - Feffernitz
END:VEVENT
BEGIN:VEVENT
UID:20260421T205419UTC-5305lV9VWI@85.215.121.98
DTSTAMP:20260421T205419Z
DTSTART;TZID=Europe/Berlin:20191006T153000
DTEND;TZID=Europe/Berlin:20191006T171500
SUMMARY:K - 1. Klasse B 2019/20: Feffernitz - Stockenboi
END:VEVENT
BEGIN:VEVENT
UID:20260421T205419UTC-53137FE8pD@85.215.121.98
DTSTAMP:20260421T205419Z
DTSTART;TZID=Europe/Berlin:20191013T153000
DTEND;TZID=Europe/Berlin:20191013T171500
SUMMARY:K - 1. Klasse B 2019/20: Nötsch - Feffernitz
END:VEVENT
BEGIN:VEVENT
UID:20260421T205419UTC-5332vVwSCn@85.215.121.98
DTSTAMP:20260421T205419Z
DTSTART;TZID=Europe/Berlin:20191020T133000
DTEND;TZID=Europe/Berlin:20191020T151500
SUMMARY:K - 1. Klasse B 2019/20: Feffernitz - Rennweg
END:VEVENT
BEGIN:VEVENT
UID:20260421T205419UTC-53388LfDSd@85.215.121.98
DTSTAMP:20260421T205419Z
DTSTART;TZID=Europe/Berlin:20191026T150000
DTEND;TZID=Europe/Berlin:20191026T164500
SUMMARY:K - 1. Klasse B 2019/20: Feistritz/Ros. - Feffernitz
END:VEVENT
BEGIN:VEVENT
UID:20260421T205419UTC-5344vG5Bis@85.215.121.98
DTSTAMP:20260421T205419Z
DTSTART;TZID=Europe/Berlin:20191103T143000
DTEND;TZID=Europe/Berlin:20191103T161500
SUMMARY:K - 1. Klasse B 2019/20: Feffernitz - Malta
END:VEVENT
BEGIN:VEVENT
UID:20260421T205419UTC-5350RX0eU6@85.215.121.98
DTSTAMP:20260421T205419Z
DTSTART;TZID=Europe/Berlin:20191124T140000
DTEND;TZID=Europe/Berlin:20191124T154500
SUMMARY:K - 1. Klasse B 2019/20: Feffernitz - Faakersee
END:VEVENT
BEGIN:VEVENT
UID:20260421T205419UTC-5358R81e9S@85.215.121.98
DTSTAMP:20260421T205419Z
DTSTART;TZID=Europe/Berlin:20200322T150000
DTEND;TZID=Europe/Berlin:20200322T164500
SUMMARY:K - 1. Klasse B 2019/20: Feffernitz - Gmünd 1b
END:VEVENT
BEGIN:VEVENT
UID:20260421T205419UTC-5364IJkJAl@85.215.121.98
DTSTAMP:20260421T205419Z
DTSTART;TZID=Europe/Berlin:20200328T150000
DTEND;TZID=Europe/Berlin:20200328T164500
SUMMARY:K - 1. Klasse B 2019/20: SV Wernberg - Feffernitz
END:VEVENT
BEGIN:VEVENT
UID:20260421T205419UTC-5369ax5OxE@85.215.121.98
DTSTAMP:20260421T205419Z
DTSTART;TZID=Europe/Berlin:20200405T153000
DTEND;TZID=Europe/Berlin:20200405T171500
SUMMARY:K - 1. Klasse B 2019/20: Feffernitz - Atus Velden
END:VEVENT
BEGIN:VEVENT
UID:20260421T205419UTC-5374jrMFUC@85.215.121.98
DTSTAMP:20260421T205419Z
DTSTART;TZID=Europe/Berlin:20200411T150000
DTEND;TZID=Europe/Berlin:20200411T164500
SUMMARY:K - 1. Klasse B 2019/20: SG ASKÖ Schiefling/ASKÖ St. Egyden - Feffe
 rnitz
END:VEVENT
BEGIN:VEVENT
UID:20260421T205419UTC-5380ghg0fh@85.215.121.98
DTSTAMP:20260421T205419Z
DTSTART;TZID=Europe/Berlin:20200419T134500
DTEND;TZID=Europe/Berlin:20200419T153000
SUMMARY:K - 1. Klasse B 2019/20: Feffernitz - Rothenthurn
END:VEVENT
BEGIN:VEVENT
UID:20260421T205419UTC-53871pL7C2@85.215.121.98
DTSTAMP:20260421T205419Z
DTSTART;TZID=Europe/Berlin:20200425T160000
DTEND;TZID=Europe/Berlin:20200425T174500
SUMMARY:K - 1. Klasse B 2019/20: VSV - Feffernitz
END:VEVENT
BEGIN:VEVENT
UID:20260421T205419UTC-5394HBSthc@85.215.121.98
DTSTAMP:20260421T205419Z
DTSTART;TZID=Europe/Berlin:20200501T143000
DTEND;TZID=Europe/Berlin:20200501T161500
SUMMARY:K - 1. Klasse B 2019/20: Feffernitz - Bodensdorf
END:VEVENT
BEGIN:VEVENT
UID:20260421T205419UTC-5399oXUvSV@85.215.121.98
DTSTAMP:20260421T205419Z
DTSTART;TZID=Europe/Berlin:20200503T163000
DTEND;TZID=Europe/Berlin:20200503T181500
SUMMARY:K - 1. Klasse B 2019/20: Magdalen - Feffernitz
END:VEVENT
BEGIN:VEVENT
UID:20260421T205419UTC-5405j3Norx@85.215.121.98
DTSTAMP:20260421T205419Z
DTSTART;TZID=Europe/Berlin:20200510T170000
DTEND;TZID=Europe/Berlin:20200510T184500
SUMMARY:K - 1. Klasse B 2019/20: Feffernitz - Maria Gail
END:VEVENT
BEGIN:VEVENT
UID:20260421T205419UTC-5411BnzEbe@85.215.121.98
DTSTAMP:20260421T205419Z
DTSTART;TZID=Europe/Berlin:20200516T170000
DTEND;TZID=Europe/Berlin:20200516T184500
SUMMARY:K - 1. Klasse B 2019/20: Stockenboi - Feffernitz
END:VEVENT
BEGIN:VEVENT
UID:20260421T205419UTC-54169kFLbZ@85.215.121.98
DTSTAMP:20260421T205419Z
DTSTART;TZID=Europe/Berlin:20200521T170000
DTEND;TZID=Europe/Berlin:20200521T184500
SUMMARY:K - 1. Klasse B 2019/20: Feffernitz - Nötsch
END:VEVENT
BEGIN:VEVENT
UID:20260421T205419UTC-5423JxJdux@85.215.121.98
DTSTAMP:20260421T205419Z
DTSTART;TZID=Europe/Berlin:20200524T160000
DTEND;TZID=Europe/Berlin:20200524T174500
SUMMARY:K - 1. Klasse B 2019/20: Rennweg - Feffernitz
END:VEVENT
BEGIN:VEVENT
UID:20260421T205419UTC-5428R6cGVW@85.215.121.98
DTSTAMP:20260421T205419Z
DTSTART;TZID=Europe/Berlin:20200531T170000
DTEND;TZID=Europe/Berlin:20200531T184500
SUMMARY:K - 1. Klasse B 2019/20: Feffernitz - Feistritz/Ros.
END:VEVENT
BEGIN:VEVENT
UID:20260421T205419UTC-5434iNoUWo@85.215.121.98
DTSTAMP:20260421T205419Z
DTSTART;TZID=Europe/Berlin:20200606T170000
DTEND;TZID=Europe/Berlin:20200606T184500
SUMMARY:K - 1. Klasse B 2019/20: Malta - Feffernitz
END:VEVENT
END:VCALENDAR
