BEGIN:VCALENDAR
VERSION:2.0
PRODID:-////NONSGML kigkonsult.se iCalcreator 2.18//
X-WR-TIMEZONE:Europe/Berlin
BEGIN:VTIMEZONE
TZID:Europe/Berlin
X-LIC-LOCATION:Europe/Berlin
BEGIN:STANDARD
DTSTART:20201025T030000
TZOFFSETFROM:+0200
TZOFFSETTO:+0100
TZNAME:CET
END:STANDARD
BEGIN:DAYLIGHT
DTSTART:20210328T020000
TZOFFSETFROM:+0100
TZOFFSETTO:+0200
TZNAME:CEST
END:DAYLIGHT
END:VTIMEZONE
BEGIN:VEVENT
UID:20260421T174837UTC-0125vtUEad@85.215.121.98
DTSTAMP:20260421T174837Z
DTSTART;TZID=Europe/Berlin:20200828T190000
DTEND;TZID=Europe/Berlin:20200828T204500
SUMMARY:ÖFB Cup 2020/21: FC Gleisdorf 09 - SV Ried
END:VEVENT
BEGIN:VEVENT
UID:20260421T174837UTC-0250NldpLX@85.215.121.98
DTSTAMP:20260421T174837Z
DTSTART;TZID=Europe/Berlin:20201018T171500
DTEND;TZID=Europe/Berlin:20201018T190000
SUMMARY:ÖFB Cup 2020/21: Wolfsberger AC - SV Ried
END:VEVENT
END:VCALENDAR
