BEGIN:VCALENDAR
VERSION:2.0
PRODID:-////NONSGML kigkonsult.se iCalcreator 2.18//
X-WR-TIMEZONE:Europe/Berlin
BEGIN:VTIMEZONE
TZID:Europe/Berlin
X-LIC-LOCATION:Europe/Berlin
BEGIN:STANDARD
DTSTART:20171029T030000
TZOFFSETFROM:+0200
TZOFFSETTO:+0100
RDATE:20181028T030000
TZNAME:CET
END:STANDARD
BEGIN:DAYLIGHT
DTSTART:20180325T020000
TZOFFSETFROM:+0100
TZOFFSETTO:+0200
RDATE:20190331T020000
TZNAME:CEST
END:DAYLIGHT
END:VTIMEZONE
BEGIN:VEVENT
UID:20260422T142757UTC-1642evK9Zs@85.215.121.98
DTSTAMP:20260422T142757Z
DTSTART;TZID=Europe/Berlin:20170730T160000
DTEND;TZID=Europe/Berlin:20170730T174500
SUMMARY:K - 2. Klasse E 2017/18: Preitenegg - St. Peter/Wallersberg
END:VEVENT
BEGIN:VEVENT
UID:20260422T142757UTC-1649Iut5kA@85.215.121.98
DTSTAMP:20260422T142757Z
DTSTART;TZID=Europe/Berlin:20170806T170000
DTEND;TZID=Europe/Berlin:20170806T184500
SUMMARY:K - 2. Klasse E 2017/18: St. Peter/Wallersberg - St. Andrä/Lav. 1b
END:VEVENT
BEGIN:VEVENT
UID:20260422T142757UTC-1654zLbtiN@85.215.121.98
DTSTAMP:20260422T142757Z
DTSTART;TZID=Europe/Berlin:20170813T110000
DTEND;TZID=Europe/Berlin:20170813T124500
SUMMARY:K - 2. Klasse E 2017/18: Sittersdorf - St. Peter/Wallersberg
END:VEVENT
BEGIN:VEVENT
UID:20260422T142757UTC-1660UTDVfj@85.215.121.98
DTSTAMP:20260422T142757Z
DTSTART;TZID=Europe/Berlin:20170819T183000
DTEND;TZID=Europe/Berlin:20170819T201500
SUMMARY:K - 2. Klasse E 2017/18: St. Peter/Wallersberg - Haimburg
END:VEVENT
BEGIN:VEVENT
UID:20260422T142757UTC-1665vNzxH3@85.215.121.98
DTSTAMP:20260422T142757Z
DTSTART;TZID=Europe/Berlin:20170826T163000
DTEND;TZID=Europe/Berlin:20170826T181500
SUMMARY:K - 2. Klasse E 2017/18: SG VST Völkermarkt/SC Diex 1b - St. Peter/
 Wallersberg
END:VEVENT
BEGIN:VEVENT
UID:20260422T142757UTC-1671bDl3hN@85.215.121.98
DTSTAMP:20260422T142757Z
DTSTART;TZID=Europe/Berlin:20170903T170000
DTEND;TZID=Europe/Berlin:20170903T184500
SUMMARY:K - 2. Klasse E 2017/18: St. Peter/Wallersberg - Maria Rojach
END:VEVENT
BEGIN:VEVENT
UID:20260422T142757UTC-1676tAHrgt@85.215.121.98
DTSTAMP:20260422T142757Z
DTSTART;TZID=Europe/Berlin:20170909T150000
DTEND;TZID=Europe/Berlin:20170909T164500
SUMMARY:K - 2. Klasse E 2017/18: St. Margarethen/Lav. 1b - St. Peter/Waller
 sberg
END:VEVENT
BEGIN:VEVENT
UID:20260422T142757UTC-1681usZjG3@85.215.121.98
DTSTAMP:20260422T142757Z
DTSTART;TZID=Europe/Berlin:20170917T160000
DTEND;TZID=Europe/Berlin:20170917T174500
SUMMARY:K - 2. Klasse E 2017/18: St. Peter/Wallersberg - SV Magdalensberg
END:VEVENT
BEGIN:VEVENT
UID:20260422T142757UTC-1687a1FJhn@85.215.121.98
DTSTAMP:20260422T142757Z
DTSTART;TZID=Europe/Berlin:20170923T160000
DTEND;TZID=Europe/Berlin:20170923T174500
SUMMARY:K - 2. Klasse E 2017/18: Frantschach - St. Peter/Wallersberg
END:VEVENT
BEGIN:VEVENT
UID:20260422T142757UTC-1692TNB9VG@85.215.121.98
DTSTAMP:20260422T142757Z
DTSTART;TZID=Europe/Berlin:20170930T153000
DTEND;TZID=Europe/Berlin:20170930T171500
SUMMARY:K - 2. Klasse E 2017/18: Klopeiner See - St. Peter/Wallersberg
END:VEVENT
BEGIN:VEVENT
UID:20260422T142757UTC-1697ETMIdv@85.215.121.98
DTSTAMP:20260422T142757Z
DTSTART;TZID=Europe/Berlin:20171008T160000
DTEND;TZID=Europe/Berlin:20171008T174500
SUMMARY:K - 2. Klasse E 2017/18: St. Peter/Wallersberg - SG ATSV Wolfsberg/
 SC St. Stefan 1b
END:VEVENT
BEGIN:VEVENT
UID:20260422T142757UTC-1703EEZ3n5@85.215.121.98
DTSTAMP:20260422T142757Z
DTSTART;TZID=Europe/Berlin:20171014T160000
DTEND;TZID=Europe/Berlin:20171014T174500
SUMMARY:K - 2. Klasse E 2017/18: Reichenfels - St. Peter/Wallersberg
END:VEVENT
BEGIN:VEVENT
UID:20260422T142757UTC-1710FKW0jE@85.215.121.98
DTSTAMP:20260422T142757Z
DTSTART;TZID=Europe/Berlin:20171022T160000
DTEND;TZID=Europe/Berlin:20171022T174500
SUMMARY:K - 2. Klasse E 2017/18: St. Peter/Wallersberg - Brückl
END:VEVENT
BEGIN:VEVENT
UID:20260422T142757UTC-1715VbZT44@85.215.121.98
DTSTAMP:20260422T142757Z
DTSTART;TZID=Europe/Berlin:20171029T150000
DTEND;TZID=Europe/Berlin:20171029T164500
SUMMARY:K - 2. Klasse E 2017/18: St. Peter/Wallersberg - Preitenegg
END:VEVENT
BEGIN:VEVENT
UID:20260422T142757UTC-1721DuJrea@85.215.121.98
DTSTAMP:20260422T142757Z
DTSTART;TZID=Europe/Berlin:20180325T150000
DTEND;TZID=Europe/Berlin:20180325T164500
SUMMARY:K - 2. Klasse E 2017/18: St. Andrä/Lav. 1b - St. Peter/Wallersberg
END:VEVENT
BEGIN:VEVENT
UID:20260422T142757UTC-1734eUHCvM@85.215.121.98
DTSTAMP:20260422T142757Z
DTSTART;TZID=Europe/Berlin:20180401T150000
DTEND;TZID=Europe/Berlin:20180401T164500
SUMMARY:K - 2. Klasse E 2017/18: St. Peter/Wallersberg - Sittersdorf
END:VEVENT
BEGIN:VEVENT
UID:20260422T142757UTC-1739vlvL4F@85.215.121.98
DTSTAMP:20260422T142757Z
DTSTART;TZID=Europe/Berlin:20180408T153000
DTEND;TZID=Europe/Berlin:20180408T171500
SUMMARY:K - 2. Klasse E 2017/18: Haimburg - St. Peter/Wallersberg
END:VEVENT
BEGIN:VEVENT
UID:20260422T142757UTC-1744Bt8B7v@85.215.121.98
DTSTAMP:20260422T142757Z
DTSTART;TZID=Europe/Berlin:20180415T150000
DTEND;TZID=Europe/Berlin:20180415T164500
SUMMARY:K - 2. Klasse E 2017/18: St. Peter/Wallersberg - SG VST Völkermarkt
 /SC Diex 1b
END:VEVENT
BEGIN:VEVENT
UID:20260422T142757UTC-17495Gfk08@85.215.121.98
DTSTAMP:20260422T142757Z
DTSTART;TZID=Europe/Berlin:20180422T160000
DTEND;TZID=Europe/Berlin:20180422T174500
SUMMARY:K - 2. Klasse E 2017/18: Maria Rojach - St. Peter/Wallersberg
END:VEVENT
BEGIN:VEVENT
UID:20260422T142757UTC-17598CtkVk@85.215.121.98
DTSTAMP:20260422T142757Z
DTSTART;TZID=Europe/Berlin:20180429T150000
DTEND;TZID=Europe/Berlin:20180429T164500
SUMMARY:K - 2. Klasse E 2017/18: St. Peter/Wallersberg - St. Margarethen/La
 v. 1b
END:VEVENT
BEGIN:VEVENT
UID:20260422T142757UTC-1765ST54GW@85.215.121.98
DTSTAMP:20260422T142757Z
DTSTART;TZID=Europe/Berlin:20180506T103000
DTEND;TZID=Europe/Berlin:20180506T121500
SUMMARY:K - 2. Klasse E 2017/18: SV Magdalensberg - St. Peter/Wallersberg
END:VEVENT
BEGIN:VEVENT
UID:20260422T142757UTC-1772la4suj@85.215.121.98
DTSTAMP:20260422T142757Z
DTSTART;TZID=Europe/Berlin:20180513T160000
DTEND;TZID=Europe/Berlin:20180513T174500
SUMMARY:K - 2. Klasse E 2017/18: St. Peter/Wallersberg - Frantschach
END:VEVENT
BEGIN:VEVENT
UID:20260422T142757UTC-1777BfcLCR@85.215.121.98
DTSTAMP:20260422T142757Z
DTSTART;TZID=Europe/Berlin:20180520T160000
DTEND;TZID=Europe/Berlin:20180520T174500
SUMMARY:K - 2. Klasse E 2017/18: St. Peter/Wallersberg - Klopeiner See
END:VEVENT
BEGIN:VEVENT
UID:20260422T142757UTC-1781V1nZJG@85.215.121.98
DTSTAMP:20260422T142757Z
DTSTART;TZID=Europe/Berlin:20180527T170000
DTEND;TZID=Europe/Berlin:20180527T184500
SUMMARY:K - 2. Klasse E 2017/18: SG ATSV Wolfsberg/SC St. Stefan 1b - St. P
 eter/Wallersberg
END:VEVENT
BEGIN:VEVENT
UID:20260422T142757UTC-1786MNkSAe@85.215.121.98
DTSTAMP:20260422T142757Z
DTSTART;TZID=Europe/Berlin:20180603T170000
DTEND;TZID=Europe/Berlin:20180603T184500
SUMMARY:K - 2. Klasse E 2017/18: St. Peter/Wallersberg - Reichenfels
END:VEVENT
BEGIN:VEVENT
UID:20260422T142757UTC-1793oFl6hv@85.215.121.98
DTSTAMP:20260422T142757Z
DTSTART;TZID=Europe/Berlin:20180610T100000
DTEND;TZID=Europe/Berlin:20180610T114500
SUMMARY:K - 2. Klasse E 2017/18: Brückl - St. Peter/Wallersberg
END:VEVENT
END:VCALENDAR
