BEGIN:VCALENDAR
VERSION:2.0
PRODID:-////NONSGML kigkonsult.se iCalcreator 2.18//
X-WR-TIMEZONE:Europe/Amsterdam
BEGIN:VTIMEZONE
TZID:Europe/Amsterdam
X-LIC-LOCATION:Europe/Amsterdam
BEGIN:STANDARD
DTSTART:20071028T030000
TZOFFSETFROM:+0200
TZOFFSETTO:+0100
RDATE:20081026T030000
TZNAME:CET
END:STANDARD
BEGIN:DAYLIGHT
DTSTART:20080330T020000
TZOFFSETFROM:+0100
TZOFFSETTO:+0200
RDATE:20090329T020000
TZNAME:CEST
END:DAYLIGHT
END:VTIMEZONE
BEGIN:VEVENT
UID:20260421T142010UTC-6915g5MgvB@85.215.121.98
DTSTAMP:20260421T142010Z
DTSTART;TZID=Europe/Amsterdam:20070728T170000
DTEND;TZID=Europe/Amsterdam:20070728T184500
SUMMARY:K - 2. Klasse B 2007/08: Weißenstein - Egg
END:VEVENT
BEGIN:VEVENT
UID:20260421T142010UTC-6939kseIZC@85.215.121.98
DTSTAMP:20260421T142010Z
DTSTART;TZID=Europe/Amsterdam:20070804T180000
DTEND;TZID=Europe/Amsterdam:20070804T194500
SUMMARY:K - 2. Klasse B 2007/08: Egg - Seebach
END:VEVENT
BEGIN:VEVENT
UID:20260421T142010UTC-6947OgrnrV@85.215.121.98
DTSTAMP:20260421T142010Z
DTSTART;TZID=Europe/Amsterdam:20070810T183000
DTEND;TZID=Europe/Amsterdam:20070810T201500
SUMMARY:K - 2. Klasse B 2007/08: SV Ossiach/ASKÖ Bodensdorf-B B - Egg
END:VEVENT
BEGIN:VEVENT
UID:20260421T142010UTC-6954HrzKjR@85.215.121.98
DTSTAMP:20260421T142010Z
DTSTART;TZID=Europe/Amsterdam:20070815T173000
DTEND;TZID=Europe/Amsterdam:20070815T191500
SUMMARY:K - 2. Klasse B 2007/08: Egg - Kleinkirchheim
END:VEVENT
BEGIN:VEVENT
UID:20260421T142010UTC-6964pU4PLo@85.215.121.98
DTSTAMP:20260421T142010Z
DTSTART;TZID=Europe/Amsterdam:20070819T170000
DTEND;TZID=Europe/Amsterdam:20070819T184500
SUMMARY:K - 2. Klasse B 2007/08: Stockenboi - Egg
END:VEVENT
BEGIN:VEVENT
UID:20260421T142010UTC-69696gauSG@85.215.121.98
DTSTAMP:20260421T142010Z
DTSTART;TZID=Europe/Amsterdam:20070826T173000
DTEND;TZID=Europe/Amsterdam:20070826T191500
SUMMARY:K - 2. Klasse B 2007/08: Fresach - Egg
END:VEVENT
BEGIN:VEVENT
UID:20260421T142010UTC-6975stUucD@85.215.121.98
DTSTAMP:20260421T142010Z
DTSTART;TZID=Europe/Amsterdam:20070902T110000
DTEND;TZID=Europe/Amsterdam:20070902T124500
SUMMARY:K - 2. Klasse B 2007/08: Egg - Bad Bleiberg
END:VEVENT
BEGIN:VEVENT
UID:20260421T142010UTC-6980RHA0Ov@85.215.121.98
DTSTAMP:20260421T142010Z
DTSTART;TZID=Europe/Amsterdam:20070908T170000
DTEND;TZID=Europe/Amsterdam:20070908T184500
SUMMARY:K - 2. Klasse B 2007/08: St. Jakob/Ros. - Egg
END:VEVENT
BEGIN:VEVENT
UID:20260421T142010UTC-6986G1ldrg@85.215.121.98
DTSTAMP:20260421T142010Z
DTSTART;TZID=Europe/Amsterdam:20070916T160000
DTEND;TZID=Europe/Amsterdam:20070916T174500
SUMMARY:K - 2. Klasse B 2007/08: Egg - Töplitsch
END:VEVENT
BEGIN:VEVENT
UID:20260421T142010UTC-6992WeurEx@85.215.121.98
DTSTAMP:20260421T142010Z
DTSTART;TZID=Europe/Amsterdam:20070922T170000
DTEND;TZID=Europe/Amsterdam:20070922T184500
SUMMARY:K - 2. Klasse B 2007/08: St. Egyden - Egg
END:VEVENT
BEGIN:VEVENT
UID:20260421T142010UTC-6997dikRDo@85.215.121.98
DTSTAMP:20260421T142010Z
DTSTART;TZID=Europe/Amsterdam:20070930T160000
DTEND;TZID=Europe/Amsterdam:20070930T174500
SUMMARY:K - 2. Klasse B 2007/08: Egg - Baldramsdorf
END:VEVENT
BEGIN:VEVENT
UID:20260421T142010UTC-7002pXImx3@85.215.121.98
DTSTAMP:20260421T142010Z
DTSTART;TZID=Europe/Amsterdam:20071006T160000
DTEND;TZID=Europe/Amsterdam:20071006T174500
SUMMARY:K - 2. Klasse B 2007/08: Malta - Egg
END:VEVENT
BEGIN:VEVENT
UID:20260421T142010UTC-7010rtTjAg@85.215.121.98
DTSTAMP:20260421T142010Z
DTSTART;TZID=Europe/Amsterdam:20071014T150000
DTEND;TZID=Europe/Amsterdam:20071014T164500
SUMMARY:K - 2. Klasse B 2007/08: Egg - Ferndorf
END:VEVENT
BEGIN:VEVENT
UID:20260421T142010UTC-7016R2FnL3@85.215.121.98
DTSTAMP:20260421T142010Z
DTSTART;TZID=Europe/Amsterdam:20071021T150000
DTEND;TZID=Europe/Amsterdam:20071021T164500
SUMMARY:K - 2. Klasse B 2007/08: Schiefling - Egg
END:VEVENT
BEGIN:VEVENT
UID:20260421T142010UTC-7024KLFkim@85.215.121.98
DTSTAMP:20260421T142010Z
DTSTART;TZID=Europe/Amsterdam:20071028T150000
DTEND;TZID=Europe/Amsterdam:20071028T164500
SUMMARY:K - 2. Klasse B 2007/08: Egg - Arriach
END:VEVENT
BEGIN:VEVENT
UID:20260421T142010UTC-7030pVKbU7@85.215.121.98
DTSTAMP:20260421T142010Z
DTSTART;TZID=Europe/Amsterdam:20071104T140000
DTEND;TZID=Europe/Amsterdam:20071104T154500
SUMMARY:K - 2. Klasse B 2007/08: Egg - Weißenstein
END:VEVENT
BEGIN:VEVENT
UID:20260421T142010UTC-7037xnO9if@85.215.121.98
DTSTAMP:20260421T142010Z
DTSTART;TZID=Europe/Amsterdam:20071111T111100
DTEND;TZID=Europe/Amsterdam:20071111T125600
SUMMARY:K - 2. Klasse B 2007/08: Seebach - Egg
END:VEVENT
BEGIN:VEVENT
UID:20260421T142010UTC-7042sa9Etv@85.215.121.98
DTSTAMP:20260421T142010Z
DTSTART;TZID=Europe/Amsterdam:20080406T153000
DTEND;TZID=Europe/Amsterdam:20080406T171500
SUMMARY:K - 2. Klasse B 2007/08: Egg - Stockenboi
END:VEVENT
BEGIN:VEVENT
UID:20260421T142010UTC-7051HtxewO@85.215.121.98
DTSTAMP:20260421T142010Z
DTSTART;TZID=Europe/Amsterdam:20080412T150000
DTEND;TZID=Europe/Amsterdam:20080412T164500
SUMMARY:K - 2. Klasse B 2007/08: Egg - Fresach
END:VEVENT
BEGIN:VEVENT
UID:20260421T142010UTC-7059hTNHC5@85.215.121.98
DTSTAMP:20260421T142010Z
DTSTART;TZID=Europe/Amsterdam:20080418T180000
DTEND;TZID=Europe/Amsterdam:20080418T194500
SUMMARY:K - 2. Klasse B 2007/08: Egg - SV Ossiach/ASKÖ Bodensdorf-B B
END:VEVENT
BEGIN:VEVENT
UID:20260421T142010UTC-7065uxNuzh@85.215.121.98
DTSTAMP:20260421T142010Z
DTSTART;TZID=Europe/Amsterdam:20080420T110000
DTEND;TZID=Europe/Amsterdam:20080420T124500
SUMMARY:K - 2. Klasse B 2007/08: Bad Bleiberg - Egg
END:VEVENT
BEGIN:VEVENT
UID:20260421T142010UTC-7071VDTIR5@85.215.121.98
DTSTAMP:20260421T142010Z
DTSTART;TZID=Europe/Amsterdam:20080427T153000
DTEND;TZID=Europe/Amsterdam:20080427T171500
SUMMARY:K - 2. Klasse B 2007/08: Egg - St. Jakob/Ros.
END:VEVENT
BEGIN:VEVENT
UID:20260421T142010UTC-7090Ps5Mwx@85.215.121.98
DTSTAMP:20260421T142010Z
DTSTART;TZID=Europe/Amsterdam:20080501T170000
DTEND;TZID=Europe/Amsterdam:20080501T184500
SUMMARY:K - 2. Klasse B 2007/08: Töplitsch - Egg
END:VEVENT
BEGIN:VEVENT
UID:20260421T142010UTC-7097CVbL3n@85.215.121.98
DTSTAMP:20260421T142010Z
DTSTART;TZID=Europe/Amsterdam:20080504T150000
DTEND;TZID=Europe/Amsterdam:20080504T164500
SUMMARY:K - 2. Klasse B 2007/08: Egg - St. Egyden
END:VEVENT
BEGIN:VEVENT
UID:20260421T142010UTC-7103cXJxPT@85.215.121.98
DTSTAMP:20260421T142010Z
DTSTART;TZID=Europe/Amsterdam:20080510T170000
DTEND;TZID=Europe/Amsterdam:20080510T184500
SUMMARY:K - 2. Klasse B 2007/08: Baldramsdorf - Egg
END:VEVENT
BEGIN:VEVENT
UID:20260421T142010UTC-7110SZA9SM@85.215.121.98
DTSTAMP:20260421T142010Z
DTSTART;TZID=Europe/Amsterdam:20080512T110000
DTEND;TZID=Europe/Amsterdam:20080512T124500
SUMMARY:K - 2. Klasse B 2007/08: Kleinkirchheim - Egg
END:VEVENT
BEGIN:VEVENT
UID:20260421T142010UTC-7118de69RV@85.215.121.98
DTSTAMP:20260421T142010Z
DTSTART;TZID=Europe/Amsterdam:20080517T140000
DTEND;TZID=Europe/Amsterdam:20080517T154500
SUMMARY:K - 2. Klasse B 2007/08: Egg - Malta
END:VEVENT
BEGIN:VEVENT
UID:20260421T142010UTC-71285uD61z@85.215.121.98
DTSTAMP:20260421T142010Z
DTSTART;TZID=Europe/Amsterdam:20080522T170000
DTEND;TZID=Europe/Amsterdam:20080522T184500
SUMMARY:K - 2. Klasse B 2007/08: Ferndorf - Egg
END:VEVENT
BEGIN:VEVENT
UID:20260421T142010UTC-71349rjwjc@85.215.121.98
DTSTAMP:20260421T142010Z
DTSTART;TZID=Europe/Amsterdam:20080525T163000
DTEND;TZID=Europe/Amsterdam:20080525T181500
SUMMARY:K - 2. Klasse B 2007/08: Egg - Schiefling
END:VEVENT
BEGIN:VEVENT
UID:20260421T142010UTC-7143cw58vf@85.215.121.98
DTSTAMP:20260421T142010Z
DTSTART;TZID=Europe/Amsterdam:20080531T173000
DTEND;TZID=Europe/Amsterdam:20080531T191500
SUMMARY:K - 2. Klasse B 2007/08: Arriach - Egg
END:VEVENT
END:VCALENDAR
