BEGIN:VCALENDAR
VERSION:2.0
PRODID:-////NONSGML kigkonsult.se iCalcreator 2.18//
X-WR-TIMEZONE:Europe/Berlin
BEGIN:VTIMEZONE
TZID:Europe/Berlin
X-LIC-LOCATION:Europe/Berlin
BEGIN:STANDARD
DTSTART:20201025T030000
TZOFFSETFROM:+0200
TZOFFSETTO:+0100
RDATE:20211031T030000
TZNAME:CET
END:STANDARD
BEGIN:DAYLIGHT
DTSTART:20210328T020000
TZOFFSETFROM:+0100
TZOFFSETTO:+0200
RDATE:20220327T020000
TZNAME:CEST
END:DAYLIGHT
END:VTIMEZONE
BEGIN:VEVENT
UID:20260420T043752UTC-2274hmUIz7@85.215.121.98
DTSTAMP:20260420T043752Z
DTSTART;TZID=Europe/Berlin:20200822T170000
DTEND;TZID=Europe/Berlin:20200822T184500
SUMMARY:N - 2. Klasse Steinfeld 2020/21: Pottendorf - Oed/Waldegg
END:VEVENT
BEGIN:VEVENT
UID:20260420T043752UTC-2397SvciCr@85.215.121.98
DTSTAMP:20260420T043752Z
DTSTART;TZID=Europe/Berlin:20200905T163000
DTEND;TZID=Europe/Berlin:20200905T181500
SUMMARY:N - 2. Klasse Steinfeld 2020/21: Oed/Waldegg - Weikersdorf
END:VEVENT
BEGIN:VEVENT
UID:20260420T043752UTC-2403V8hUwg@85.215.121.98
DTSTAMP:20260420T043752Z
DTSTART;TZID=Europe/Berlin:20200912T163000
DTEND;TZID=Europe/Berlin:20200912T181500
SUMMARY:N - 2. Klasse Steinfeld 2020/21: Eggendorf ASK II - Oed/Waldegg
END:VEVENT
BEGIN:VEVENT
UID:20260420T043752UTC-24087HOJX7@85.215.121.98
DTSTAMP:20260420T043752Z
DTSTART;TZID=Europe/Berlin:20200919T160000
DTEND;TZID=Europe/Berlin:20200919T174500
SUMMARY:N - 2. Klasse Steinfeld 2020/21: Oed/Waldegg - Zillingdorf
END:VEVENT
BEGIN:VEVENT
UID:20260420T043752UTC-2416HZcJuH@85.215.121.98
DTSTAMP:20260420T043752Z
DTSTART;TZID=Europe/Berlin:20200925T193000
DTEND;TZID=Europe/Berlin:20200925T211500
SUMMARY:N - 2. Klasse Steinfeld 2020/21: Club 83 Wr. Neustadt - Oed/Waldegg
END:VEVENT
BEGIN:VEVENT
UID:20260420T043752UTC-2422XSU7VL@85.215.121.98
DTSTAMP:20260420T043752Z
DTSTART;TZID=Europe/Berlin:20201002T190000
DTEND;TZID=Europe/Berlin:20201002T204500
SUMMARY:N - 2. Klasse Steinfeld 2020/21: Oed/Waldegg - Wöllersdorf
END:VEVENT
BEGIN:VEVENT
UID:20260420T043752UTC-2428EdV4Oi@85.215.121.98
DTSTAMP:20260420T043752Z
DTSTART;TZID=Europe/Berlin:20201010T153000
DTEND;TZID=Europe/Berlin:20201010T171500
SUMMARY:N - 2. Klasse Steinfeld 2020/21: Oed/Waldegg - Theresienfeld
END:VEVENT
BEGIN:VEVENT
UID:20260420T043752UTC-2454FaVcPd@85.215.121.98
DTSTAMP:20260420T043752Z
DTSTART;TZID=Europe/Berlin:20201017T150000
DTEND;TZID=Europe/Berlin:20201017T164500
SUMMARY:N - 2. Klasse Steinfeld 2020/21: Winzendorf - Oed/Waldegg
END:VEVENT
BEGIN:VEVENT
UID:20260420T043752UTC-2460R2kE14@85.215.121.98
DTSTAMP:20260420T043752Z
DTSTART;TZID=Europe/Berlin:20201024T150000
DTEND;TZID=Europe/Berlin:20201024T164500
SUMMARY:N - 2. Klasse Steinfeld 2020/21: Oed/Waldegg - HW Wr. Neustadt
END:VEVENT
BEGIN:VEVENT
UID:20260420T043752UTC-2466IU47Zh@85.215.121.98
DTSTAMP:20260420T043752Z
DTSTART;TZID=Europe/Berlin:20201031T180000
DTEND;TZID=Europe/Berlin:20201031T194500
SUMMARY:N - 2. Klasse Steinfeld 2020/21: Piesting - Oed/Waldegg
END:VEVENT
BEGIN:VEVENT
UID:20260420T043752UTC-2471lxTbNt@85.215.121.98
DTSTAMP:20260420T043752Z
DTSTART;TZID=Europe/Berlin:20201107T140000
DTEND;TZID=Europe/Berlin:20201107T154500
SUMMARY:N - 2. Klasse Steinfeld 2020/21: Oed/Waldegg - Lanzenkirchen
END:VEVENT
BEGIN:VEVENT
UID:20260420T043752UTC-2477RkUmdx@85.215.121.98
DTSTAMP:20260420T043752Z
DTSTART;TZID=Europe/Berlin:20201113T193000
DTEND;TZID=Europe/Berlin:20201113T211500
SUMMARY:N - 2. Klasse Steinfeld 2020/21: Admira Wr. Neustadt - Oed/Waldegg
END:VEVENT
BEGIN:VEVENT
UID:20260420T043752UTC-2484zDWBo5@85.215.121.98
DTSTAMP:20260420T043752Z
DTSTART;TZID=Europe/Berlin:20201121T140000
DTEND;TZID=Europe/Berlin:20201121T154500
SUMMARY:N - 2. Klasse Steinfeld 2020/21: Oed/Waldegg - Lichtenwörth
END:VEVENT
BEGIN:VEVENT
UID:20260420T043752UTC-249094U3kc@85.215.121.98
DTSTAMP:20260420T043752Z
DTSTART;TZID=Europe/Berlin:20210321T153000
DTEND;TZID=Europe/Berlin:20210321T171500
SUMMARY:N - 2. Klasse Steinfeld 2020/21: Weikersdorf - Oed/Waldegg
END:VEVENT
BEGIN:VEVENT
UID:20260420T043752UTC-2497GXHbt1@85.215.121.98
DTSTAMP:20260420T043752Z
DTSTART;TZID=Europe/Berlin:20210328T163000
DTEND;TZID=Europe/Berlin:20210328T181500
SUMMARY:N - 2. Klasse Steinfeld 2020/21: Oed/Waldegg - Eggendorf ASK II
END:VEVENT
BEGIN:VEVENT
UID:20260420T043752UTC-2534DnA8v7@85.215.121.98
DTSTAMP:20260420T043752Z
DTSTART;TZID=Europe/Berlin:20210404T163000
DTEND;TZID=Europe/Berlin:20210404T181500
SUMMARY:N - 2. Klasse Steinfeld 2020/21: Zillingdorf - Oed/Waldegg
END:VEVENT
BEGIN:VEVENT
UID:20260420T043752UTC-25405CHwDa@85.215.121.98
DTSTAMP:20260420T043752Z
DTSTART;TZID=Europe/Berlin:20210411T163000
DTEND;TZID=Europe/Berlin:20210411T181500
SUMMARY:N - 2. Klasse Steinfeld 2020/21: Oed/Waldegg - Club 83 Wr. Neustadt
END:VEVENT
BEGIN:VEVENT
UID:20260420T043752UTC-2547fz2ULM@85.215.121.98
DTSTAMP:20260420T043752Z
DTSTART;TZID=Europe/Berlin:20210418T163000
DTEND;TZID=Europe/Berlin:20210418T181500
SUMMARY:N - 2. Klasse Steinfeld 2020/21: Wöllersdorf - Oed/Waldegg
END:VEVENT
BEGIN:VEVENT
UID:20260420T043752UTC-2552IOZSDw@85.215.121.98
DTSTAMP:20260420T043752Z
DTSTART;TZID=Europe/Berlin:20210425T163000
DTEND;TZID=Europe/Berlin:20210425T181500
SUMMARY:N - 2. Klasse Steinfeld 2020/21: Theresienfeld - Oed/Waldegg
END:VEVENT
BEGIN:VEVENT
UID:20260420T043752UTC-2558LVXGUU@85.215.121.98
DTSTAMP:20260420T043752Z
DTSTART;TZID=Europe/Berlin:20210502T163000
DTEND;TZID=Europe/Berlin:20210502T181500
SUMMARY:N - 2. Klasse Steinfeld 2020/21: Oed/Waldegg - Winzendorf
END:VEVENT
BEGIN:VEVENT
UID:20260420T043752UTC-2564wMkpXw@85.215.121.98
DTSTAMP:20260420T043752Z
DTSTART;TZID=Europe/Berlin:20210509T163000
DTEND;TZID=Europe/Berlin:20210509T181500
SUMMARY:N - 2. Klasse Steinfeld 2020/21: HW Wr. Neustadt - Oed/Waldegg
END:VEVENT
BEGIN:VEVENT
UID:20260420T043752UTC-2570CFK2jw@85.215.121.98
DTSTAMP:20260420T043752Z
DTSTART;TZID=Europe/Berlin:20210516T163000
DTEND;TZID=Europe/Berlin:20210516T181500
SUMMARY:N - 2. Klasse Steinfeld 2020/21: Oed/Waldegg - Piesting
END:VEVENT
BEGIN:VEVENT
UID:20260420T043752UTC-25778HgfMo@85.215.121.98
DTSTAMP:20260420T043752Z
DTSTART;TZID=Europe/Berlin:20210523T170000
DTEND;TZID=Europe/Berlin:20210523T184500
SUMMARY:N - 2. Klasse Steinfeld 2020/21: Lanzenkirchen - Oed/Waldegg
END:VEVENT
BEGIN:VEVENT
UID:20260420T043752UTC-2583EAxOSu@85.215.121.98
DTSTAMP:20260420T043752Z
DTSTART;TZID=Europe/Berlin:20210530T170000
DTEND;TZID=Europe/Berlin:20210530T184500
SUMMARY:N - 2. Klasse Steinfeld 2020/21: Oed/Waldegg - Admira Wr. Neustadt
END:VEVENT
BEGIN:VEVENT
UID:20260420T043752UTC-2589j8L9h2@85.215.121.98
DTSTAMP:20260420T043752Z
DTSTART;TZID=Europe/Berlin:20210606T173000
DTEND;TZID=Europe/Berlin:20210606T191500
SUMMARY:N - 2. Klasse Steinfeld 2020/21: Lichtenwörth - Oed/Waldegg
END:VEVENT
BEGIN:VEVENT
UID:20260420T043752UTC-2595mdUG5F@85.215.121.98
DTSTAMP:20260420T043752Z
DTSTART;TZID=Europe/Berlin:20210613T173000
DTEND;TZID=Europe/Berlin:20210613T191500
SUMMARY:N - 2. Klasse Steinfeld 2020/21: Oed/Waldegg - Pottendorf
END:VEVENT
END:VCALENDAR
