BEGIN:VCALENDAR
VERSION:2.0
PRODID:-////NONSGML kigkonsult.se iCalcreator 2.18//
X-WR-TIMEZONE:Europe/Amsterdam
BEGIN:VTIMEZONE
TZID:Europe/Amsterdam
X-LIC-LOCATION:Europe/Amsterdam
BEGIN:STANDARD
DTSTART:20081026T030000
TZOFFSETFROM:+0200
TZOFFSETTO:+0100
RDATE:20091025T030000
TZNAME:CET
END:STANDARD
BEGIN:DAYLIGHT
DTSTART:20090329T020000
TZOFFSETFROM:+0100
TZOFFSETTO:+0200
RDATE:20100328T020000
TZNAME:CEST
END:DAYLIGHT
END:VTIMEZONE
BEGIN:VEVENT
UID:20260422T074831UTC-701528uLRH@85.215.121.98
DTSTAMP:20260422T074831Z
DTSTART;TZID=Europe/Amsterdam:20080802T170000
DTEND;TZID=Europe/Amsterdam:20080802T183000
SUMMARY:K - 2. Klasse C 2008/09: Hüttenberg - Ossiach
END:VEVENT
BEGIN:VEVENT
UID:20260422T074831UTC-7022vUlJMz@85.215.121.98
DTSTAMP:20260422T074831Z
DTSTART;TZID=Europe/Amsterdam:20080809T173000
DTEND;TZID=Europe/Amsterdam:20080809T190000
SUMMARY:K - 2. Klasse C 2008/09: Ossiach - Sörg
END:VEVENT
BEGIN:VEVENT
UID:20260422T074831UTC-7029415u4u@85.215.121.98
DTSTAMP:20260422T074831Z
DTSTART;TZID=Europe/Amsterdam:20080815T170000
DTEND;TZID=Europe/Amsterdam:20080815T183000
SUMMARY:K - 2. Klasse C 2008/09: Keutschach - Ossiach
END:VEVENT
BEGIN:VEVENT
UID:20260422T074831UTC-70368ePz78@85.215.121.98
DTSTAMP:20260422T074831Z
DTSTART;TZID=Europe/Amsterdam:20080817T173000
DTEND;TZID=Europe/Amsterdam:20080817T190000
SUMMARY:K - 2. Klasse C 2008/09: Ossiach - Himmelberg
END:VEVENT
BEGIN:VEVENT
UID:20260422T074831UTC-7042UeFF99@85.215.121.98
DTSTAMP:20260422T074831Z
DTSTART;TZID=Europe/Amsterdam:20080824T170000
DTEND;TZID=Europe/Amsterdam:20080824T183000
SUMMARY:K - 2. Klasse C 2008/09: Pörtschach - Ossiach
END:VEVENT
BEGIN:VEVENT
UID:20260422T074831UTC-7048Sv2vfs@85.215.121.98
DTSTAMP:20260422T074831Z
DTSTART;TZID=Europe/Amsterdam:20080830T173000
DTEND;TZID=Europe/Amsterdam:20080830T190000
SUMMARY:K - 2. Klasse C 2008/09: Ossiach - Kappel
END:VEVENT
BEGIN:VEVENT
UID:20260422T074831UTC-7054THo6xf@85.215.121.98
DTSTAMP:20260422T074831Z
DTSTART;TZID=Europe/Amsterdam:20080905T180000
DTEND;TZID=Europe/Amsterdam:20080905T193000
SUMMARY:K - 2. Klasse C 2008/09: Micheldorf - Ossiach
END:VEVENT
BEGIN:VEVENT
UID:20260422T074831UTC-70595gu6Lz@85.215.121.98
DTSTAMP:20260422T074831Z
DTSTART;TZID=Europe/Amsterdam:20080913T163000
DTEND;TZID=Europe/Amsterdam:20080913T180000
SUMMARY:K - 2. Klasse C 2008/09: Ossiach - Oberglan/Feldkirchen B
END:VEVENT
BEGIN:VEVENT
UID:20260422T074831UTC-7065G6SgeU@85.215.121.98
DTSTAMP:20260422T074831Z
DTSTART;TZID=Europe/Amsterdam:20080920T170000
DTEND;TZID=Europe/Amsterdam:20080920T183000
SUMMARY:K - 2. Klasse C 2008/09: Feistritz/Ros. - Ossiach
END:VEVENT
BEGIN:VEVENT
UID:20260422T074831UTC-7072Atfjgs@85.215.121.98
DTSTAMP:20260422T074831Z
DTSTART;TZID=Europe/Amsterdam:20080927T163000
DTEND;TZID=Europe/Amsterdam:20080927T180000
SUMMARY:K - 2. Klasse C 2008/09: Ossiach - Ferlach DSG
END:VEVENT
BEGIN:VEVENT
UID:20260422T074831UTC-707775kd8P@85.215.121.98
DTSTAMP:20260422T074831Z
DTSTART;TZID=Europe/Amsterdam:20081005T160000
DTEND;TZID=Europe/Amsterdam:20081005T173000
SUMMARY:K - 2. Klasse C 2008/09: St. Urban - Ossiach
END:VEVENT
BEGIN:VEVENT
UID:20260422T074831UTC-7083ufC06V@85.215.121.98
DTSTAMP:20260422T074831Z
DTSTART;TZID=Europe/Amsterdam:20081011T153000
DTEND;TZID=Europe/Amsterdam:20081011T170000
SUMMARY:K - 2. Klasse C 2008/09: Ossiach - Weitensfeld
END:VEVENT
BEGIN:VEVENT
UID:20260422T074831UTC-7089VvJfuV@85.215.121.98
DTSTAMP:20260422T074831Z
DTSTART;TZID=Europe/Amsterdam:20081019T150000
DTEND;TZID=Europe/Amsterdam:20081019T163000
SUMMARY:K - 2. Klasse C 2008/09: SC Ulrichsberg - Ossiach
END:VEVENT
BEGIN:VEVENT
UID:20260422T074831UTC-7095evEPuH@85.215.121.98
DTSTAMP:20260422T074831Z
DTSTART;TZID=Europe/Amsterdam:20081025T153000
DTEND;TZID=Europe/Amsterdam:20081025T170000
SUMMARY:K - 2. Klasse C 2008/09: Ossiach - Hüttenberg
END:VEVENT
BEGIN:VEVENT
UID:20260422T074831UTC-7101xT4umU@85.215.121.98
DTSTAMP:20260422T074831Z
DTSTART;TZID=Europe/Amsterdam:20090321T150000
DTEND;TZID=Europe/Amsterdam:20090321T163000
SUMMARY:K - 2. Klasse C 2008/09: Sörg - Ossiach
END:VEVENT
BEGIN:VEVENT
UID:20260422T074831UTC-7107jUg7gF@85.215.121.98
DTSTAMP:20260422T074831Z
DTSTART;TZID=Europe/Amsterdam:20090328T153000
DTEND;TZID=Europe/Amsterdam:20090328T170000
SUMMARY:K - 2. Klasse C 2008/09: Ossiach - Keutschach
END:VEVENT
BEGIN:VEVENT
UID:20260422T074831UTC-7112UbUPoJ@85.215.121.98
DTSTAMP:20260422T074831Z
DTSTART;TZID=Europe/Amsterdam:20090404T160000
DTEND;TZID=Europe/Amsterdam:20090404T173000
SUMMARY:K - 2. Klasse C 2008/09: Himmelberg - Ossiach
END:VEVENT
BEGIN:VEVENT
UID:20260422T074831UTC-7118uc81AV@85.215.121.98
DTSTAMP:20260422T074831Z
DTSTART;TZID=Europe/Amsterdam:20090411T153000
DTEND;TZID=Europe/Amsterdam:20090411T170000
SUMMARY:K - 2. Klasse C 2008/09: Ossiach - Pörtschach
END:VEVENT
BEGIN:VEVENT
UID:20260422T074831UTC-7123gV8uFr@85.215.121.98
DTSTAMP:20260422T074831Z
DTSTART;TZID=Europe/Amsterdam:20090418T163000
DTEND;TZID=Europe/Amsterdam:20090418T180000
SUMMARY:K - 2. Klasse C 2008/09: Kappel - Ossiach
END:VEVENT
BEGIN:VEVENT
UID:20260422T074831UTC-7128vJlhAG@85.215.121.98
DTSTAMP:20260422T074831Z
DTSTART;TZID=Europe/Amsterdam:20090425T160000
DTEND;TZID=Europe/Amsterdam:20090425T173000
SUMMARY:K - 2. Klasse C 2008/09: Ossiach - Micheldorf
END:VEVENT
BEGIN:VEVENT
UID:20260422T074831UTC-7134wvSoOs@85.215.121.98
DTSTAMP:20260422T074831Z
DTSTART;TZID=Europe/Amsterdam:20090502T170000
DTEND;TZID=Europe/Amsterdam:20090502T183000
SUMMARY:K - 2. Klasse C 2008/09: Oberglan/Feldkirchen B - Ossiach
END:VEVENT
BEGIN:VEVENT
UID:20260422T074831UTC-7139WNmSB7@85.215.121.98
DTSTAMP:20260422T074831Z
DTSTART;TZID=Europe/Amsterdam:20090509T170000
DTEND;TZID=Europe/Amsterdam:20090509T183000
SUMMARY:K - 2. Klasse C 2008/09: Ossiach - Feistritz/Ros.
END:VEVENT
BEGIN:VEVENT
UID:20260422T074831UTC-7144jbZgM8@85.215.121.98
DTSTAMP:20260422T074831Z
DTSTART;TZID=Europe/Amsterdam:20090516T163000
DTEND;TZID=Europe/Amsterdam:20090516T180000
SUMMARY:K - 2. Klasse C 2008/09: Ferlach DSG - Ossiach
END:VEVENT
BEGIN:VEVENT
UID:20260422T074831UTC-7150muV0ET@85.215.121.98
DTSTAMP:20260422T074831Z
DTSTART;TZID=Europe/Amsterdam:20090523T170000
DTEND;TZID=Europe/Amsterdam:20090523T183000
SUMMARY:K - 2. Klasse C 2008/09: Ossiach - St. Urban
END:VEVENT
BEGIN:VEVENT
UID:20260422T074831UTC-7156F6uVML@85.215.121.98
DTSTAMP:20260422T074831Z
DTSTART;TZID=Europe/Amsterdam:20090606T170000
DTEND;TZID=Europe/Amsterdam:20090606T183000
SUMMARY:K - 2. Klasse C 2008/09: Weitensfeld - Ossiach
END:VEVENT
BEGIN:VEVENT
UID:20260422T074831UTC-7163DNPVZH@85.215.121.98
DTSTAMP:20260422T074831Z
DTSTART;TZID=Europe/Amsterdam:20090611T170000
DTEND;TZID=Europe/Amsterdam:20090611T183000
SUMMARY:K - 2. Klasse C 2008/09: Ossiach - SC Ulrichsberg
END:VEVENT
END:VCALENDAR
