BEGIN:VCALENDAR
VERSION:2.0
PRODID:-////NONSGML kigkonsult.se iCalcreator 2.18//
X-WR-TIMEZONE:Europe/Berlin
BEGIN:VTIMEZONE
TZID:Europe/Berlin
X-LIC-LOCATION:Europe/Berlin
BEGIN:STANDARD
DTSTART:20201025T030000
TZOFFSETFROM:+0200
TZOFFSETTO:+0100
RDATE:20211031T030000
TZNAME:CET
END:STANDARD
BEGIN:DAYLIGHT
DTSTART:20210328T020000
TZOFFSETFROM:+0100
TZOFFSETTO:+0200
RDATE:20220327T020000
TZNAME:CEST
END:DAYLIGHT
END:VTIMEZONE
BEGIN:VEVENT
UID:20260424T120615UTC-2868tcgfw8@85.215.121.98
DTSTAMP:20260424T120615Z
DTSTART;TZID=Europe/Berlin:20200801T173000
DTEND;TZID=Europe/Berlin:20200801T191500
SUMMARY:K - 1. Klasse A 2020/21: Penk - Tristach
END:VEVENT
BEGIN:VEVENT
UID:20260424T120615UTC-3044MBSxNk@85.215.121.98
DTSTAMP:20260424T120615Z
DTSTART;TZID=Europe/Berlin:20200809T170000
DTEND;TZID=Europe/Berlin:20200809T184500
SUMMARY:K - 1. Klasse A 2020/21: SK Kirchbach - Penk
END:VEVENT
BEGIN:VEVENT
UID:20260424T120615UTC-3050LkaGUI@85.215.121.98
DTSTAMP:20260424T120615Z
DTSTART;TZID=Europe/Berlin:20200815T174500
DTEND;TZID=Europe/Berlin:20200815T193000
SUMMARY:K - 1. Klasse A 2020/21: Penk - Lurnfeld
END:VEVENT
BEGIN:VEVENT
UID:20260424T120615UTC-3057vDFV85@85.215.121.98
DTSTAMP:20260424T120615Z
DTSTART;TZID=Europe/Berlin:20200822T170000
DTEND;TZID=Europe/Berlin:20200822T184500
SUMMARY:K - 1. Klasse A 2020/21: SG Virgental/TSU Virgen - Penk
END:VEVENT
BEGIN:VEVENT
UID:20260424T120615UTC-306561IcPF@85.215.121.98
DTSTAMP:20260424T120615Z
DTSTART;TZID=Europe/Berlin:20200829T173000
DTEND;TZID=Europe/Berlin:20200829T191500
SUMMARY:K - 1. Klasse A 2020/21: Penk - Egg
END:VEVENT
BEGIN:VEVENT
UID:20260424T120615UTC-3075Rl9dTf@85.215.121.98
DTSTAMP:20260424T120615Z
DTSTART;TZID=Europe/Berlin:20200913T160000
DTEND;TZID=Europe/Berlin:20200913T174500
SUMMARY:K - 1. Klasse A 2020/21: Penk - Sillian
END:VEVENT
BEGIN:VEVENT
UID:20260424T120615UTC-3089mju39U@85.215.121.98
DTSTAMP:20260424T120615Z
DTSTART;TZID=Europe/Berlin:20200918T160000
DTEND;TZID=Europe/Berlin:20200918T174500
SUMMARY:K - 1. Klasse A 2020/21: Dellach/Dr. - Penk
END:VEVENT
BEGIN:VEVENT
UID:20260424T120615UTC-3114b0ut42@85.215.121.98
DTSTAMP:20260424T120615Z
DTSTART;TZID=Europe/Berlin:20200920T103000
DTEND;TZID=Europe/Berlin:20200920T121500
SUMMARY:K - 1. Klasse A 2020/21: Mölltal - Penk
END:VEVENT
BEGIN:VEVENT
UID:20260424T120615UTC-3120VmjvXv@85.215.121.98
DTSTAMP:20260424T120615Z
DTSTART;TZID=Europe/Berlin:20200926T160000
DTEND;TZID=Europe/Berlin:20200926T174500
SUMMARY:K - 1. Klasse A 2020/21: Penk - Dölsach
END:VEVENT
BEGIN:VEVENT
UID:20260424T120615UTC-3130uZohr8@85.215.121.98
DTSTAMP:20260424T120615Z
DTSTART;TZID=Europe/Berlin:20201003T160000
DTEND;TZID=Europe/Berlin:20201003T174500
SUMMARY:K - 1. Klasse A 2020/21: Oberlienz - Penk
END:VEVENT
BEGIN:VEVENT
UID:20260424T120615UTC-3137EPzoHu@85.215.121.98
DTSTAMP:20260424T120615Z
DTSTART;TZID=Europe/Berlin:20201010T160000
DTEND;TZID=Europe/Berlin:20201010T174500
SUMMARY:K - 1. Klasse A 2020/21: Penk - Oberes Mölltal
END:VEVENT
BEGIN:VEVENT
UID:20260424T120615UTC-3147U7odx5@85.215.121.98
DTSTAMP:20260424T120615Z
DTSTART;TZID=Europe/Berlin:20201018T110000
DTEND;TZID=Europe/Berlin:20201018T124500
SUMMARY:K - 1. Klasse A 2020/21: Penk - Kötschach
END:VEVENT
BEGIN:VEVENT
UID:20260424T120615UTC-31544lDDPu@85.215.121.98
DTSTAMP:20260424T120615Z
DTSTART;TZID=Europe/Berlin:20201024T150000
DTEND;TZID=Europe/Berlin:20201024T164500
SUMMARY:K - 1. Klasse A 2020/21: Irschen - Penk
END:VEVENT
BEGIN:VEVENT
UID:20260424T120615UTC-3165r5uIOP@85.215.121.98
DTSTAMP:20260424T120615Z
DTSTART;TZID=Europe/Berlin:20210320T150000
DTEND;TZID=Europe/Berlin:20210320T164500
SUMMARY:K - 1. Klasse A 2020/21: Tristach - Penk
END:VEVENT
BEGIN:VEVENT
UID:20260424T120615UTC-3171ZpwSjT@85.215.121.98
DTSTAMP:20260424T120615Z
DTSTART;TZID=Europe/Berlin:20210327T150000
DTEND;TZID=Europe/Berlin:20210327T164500
SUMMARY:K - 1. Klasse A 2020/21: Penk - SK Kirchbach
END:VEVENT
BEGIN:VEVENT
UID:20260424T120615UTC-3185dIHENc@85.215.121.98
DTSTAMP:20260424T120615Z
DTSTART;TZID=Europe/Berlin:20210404T150000
DTEND;TZID=Europe/Berlin:20210404T164500
SUMMARY:K - 1. Klasse A 2020/21: Lurnfeld - Penk
END:VEVENT
BEGIN:VEVENT
UID:20260424T120615UTC-3192bOGcUF@85.215.121.98
DTSTAMP:20260424T120615Z
DTSTART;TZID=Europe/Berlin:20210410T150000
DTEND;TZID=Europe/Berlin:20210410T164500
SUMMARY:K - 1. Klasse A 2020/21: Penk - SG Virgental/TSU Virgen
END:VEVENT
BEGIN:VEVENT
UID:20260424T120615UTC-3470v855Lu@85.215.121.98
DTSTAMP:20260424T120615Z
DTSTART;TZID=Europe/Berlin:20210418T230000
DTEND;TZID=Europe/Berlin:20210419T004500
SUMMARY:K - 1. Klasse A 2020/21: Egg - Penk
END:VEVENT
BEGIN:VEVENT
UID:20260424T120615UTC-3571oVnesr@85.215.121.98
DTSTAMP:20260424T120615Z
DTSTART;TZID=Europe/Berlin:20210424T160000
DTEND;TZID=Europe/Berlin:20210424T174500
SUMMARY:K - 1. Klasse A 2020/21: Penk - Dellach/Dr.
END:VEVENT
BEGIN:VEVENT
UID:20260424T120615UTC-3589KOwIU2@85.215.121.98
DTSTAMP:20260424T120615Z
DTSTART;TZID=Europe/Berlin:20210502T230000
DTEND;TZID=Europe/Berlin:20210503T004500
SUMMARY:K - 1. Klasse A 2020/21: Sillian - Penk
END:VEVENT
BEGIN:VEVENT
UID:20260424T120615UTC-3624VWeRIu@85.215.121.98
DTSTAMP:20260424T120615Z
DTSTART;TZID=Europe/Berlin:20210508T160000
DTEND;TZID=Europe/Berlin:20210508T174500
SUMMARY:K - 1. Klasse A 2020/21: Penk - Mölltal
END:VEVENT
BEGIN:VEVENT
UID:20260424T120615UTC-3632fxZob5@85.215.121.98
DTSTAMP:20260424T120615Z
DTSTART;TZID=Europe/Berlin:20210513T110000
DTEND;TZID=Europe/Berlin:20210513T124500
SUMMARY:K - 1. Klasse A 2020/21: Dölsach - Penk
END:VEVENT
BEGIN:VEVENT
UID:20260424T120615UTC-3638tsggSx@85.215.121.98
DTSTAMP:20260424T120615Z
DTSTART;TZID=Europe/Berlin:20210515T163000
DTEND;TZID=Europe/Berlin:20210515T181500
SUMMARY:K - 1. Klasse A 2020/21: Penk - Oberlienz
END:VEVENT
BEGIN:VEVENT
UID:20260424T120615UTC-3644dBDBcE@85.215.121.98
DTSTAMP:20260424T120615Z
DTSTART;TZID=Europe/Berlin:20210522T180000
DTEND;TZID=Europe/Berlin:20210522T194500
SUMMARY:K - 1. Klasse A 2020/21: Oberes Mölltal - Penk
END:VEVENT
BEGIN:VEVENT
UID:20260424T120615UTC-3649Z9ORBw@85.215.121.98
DTSTAMP:20260424T120615Z
DTSTART;TZID=Europe/Berlin:20210530T230000
DTEND;TZID=Europe/Berlin:20210531T004500
SUMMARY:K - 1. Klasse A 2020/21: Kötschach - Penk
END:VEVENT
BEGIN:VEVENT
UID:20260424T120615UTC-3655CsKEJn@85.215.121.98
DTSTAMP:20260424T120615Z
DTSTART;TZID=Europe/Berlin:20210605T170000
DTEND;TZID=Europe/Berlin:20210605T184500
SUMMARY:K - 1. Klasse A 2020/21: Penk - Irschen
END:VEVENT
END:VCALENDAR
